Workbook

Sheet свод
A1: СВОДНАЯ ТАБЛИЦА ЗАТРАТ СТОИМОСТИ СТРОИТЕЛЬСТВА В ТЕКУЩИХ ЦЕНАХ ПО ОБЪЕКТУ: Хатирчи туман Тамабахрин мфйнинг 1,2 км қисмини туну кун 24-7 хизмат кўрсатиш режимда ишловчи савдо ва маиший хизмат кўрсатувчи кўчага айлантириш.
A2: № | B2: Наименование смет | C2: Трудозатраты | E2: Эксплуатация машин и механизмов (тыс.сум) | G2: Перевозка грузов (тыс.сум) | H2: Строительные материалы с транспортом и загот.-склад. расходами (тыс.сум) | I2: Оборудование (тыс.сум) | J2: Прямые затраты (тыс.сум) | K2: Прочие затраты производст-венного характера (тыс.сум) | L2: Прочие затраты подрядчика 18,0% (тыс.сум) | M2: Затраты на страхование (тыс.сум) | N2: Коэффициент риска 5,0 % (тыс.сум) | O2: Всего стоимость без НДС (тыс.сум) | P2: Всего стоимость с НДС (тыс.сум)
C3: (чел-час) | D3: сумма (тыс.сум)
A4: 1 | B4: 2 | C4: 3 | D4: 4 | E4: 5 | F4: 5 | G4: 6 | H4: 6 | I4: 7 | J4: 8 | K4: 11 | L4: 9 | M4: 11 | N4: 13 | O4: 10 | P4: 11
A5: 1 | B5: АСОС ВА КОПЛАМА КУРИШ ИШЛАРИ
A6: 2 | B6: ТУНГИ ЕРИТИШ ЧИРОКЛАРИНИ УРНАТИШ
B7: ИТОГО:
A8: 1
B9: ВСЕГО:

Sheet Лист9
A4: НАИМЕНОВАНИЕ | B4: ЕД. ИЗМ. | C4: КОЛ-ВО | D4: ЦЕНА ЗА ЕД. | E4: СУММА (сум)
A5: 2 | B5: 3 | C5: 4 | D5: 5 | E5: 6
A7: Затраты труда рабочих-строителей | B7: чел.-ч | C7: 54046.732 | D7: 26824.314 | E7: =C7*D7 -> 1.4497665e+09
A8: Такелажник 2-го разряда | B8: чел.-ч | C8: 405.79608 | E8: =C8*D8 -> 0
A9: Такелажник 3-го разряда | B9: чел.-ч | C9: 111.59392 | E9: =C9*D9 -> 0
A10: Такелажник 4-го разряда | B10: чел.-ч | C10: 517.39 | E10: =C10*D10 -> 0
B11: СУМ | C11: =SUM(C7:C10) -> 55081.512 | E11: =SUM(E7:E7) -> 1.4497665e+09
A14: Вибраторы поверхностные | B14: маш.-ч | C14: 1.3305 | D14: 965 | E14: =C14*D14 -> 1283.9325
A15: Краны на автомобильном ходу при работе на других видах строительства 10 т | B15: маш.-ч | C15: 0.369 | D15: 239461 | E15: =C15*D15 -> 88361.109
A16: Электростанции передвижные 4 кВт | B16: маш.-ч | C16: 0.666 | D16: 55100 | E16: =C16*D16 -> 36696.6
A17: Автомобили бортовые грузоподъемностью до 5 т | B17: маш.-ч | C17: 0.0225 | D17: 106655 | E17: =C17*D17 -> 2399.7375
B18: СУМ | C18: =SUM(C14:C17) -> 2.388 | E18: =SUM(E14:E17) -> 128741.38
A21: Бетон тяжелый класса В10 | B21: м3 | C21: 113.0772 | D21: 441964
A22: Бетон тяжелый класса В30 /М-400/ фракции 10-20 мм | B22: м3 | C22: 4991.0028 | D22: 553571
A23: Бетон тяжелый класса В35 /М-450/ фракции 5-20 мм | B23: м3 | C23: 6.4896 | D23: 584821
A24: Вода | B24: м3 | C24: 2404.7816 | D24: =VLOOKUP(A24,[1]Лист1!A$1:E$65536,4,FALSE) -> 0
A25: Песок для строительных работ | B25: м3 | C25: 1.24752 | D25: 114479
A26: Смесь песчано-щебеночная | B26: м3 | C26: 255.816 | D26: 91917
A27: Гравийно-песчаная смесь | B27: м3 | C27: 24041 | D27: =88032/1.12 -> 78600
A28: Щебень из природного камня для строительных работ | B28: м3 | C28: 1.75104 | D28: 91917
A29: Раствор готовый кладочный цементный, марка: 50 | B29: м3 | C29: 0.84 | D29: 371429
A30: Раствор готовый кладочный цементно-известковый, марка: 50 | B30: м3 | C30: 0.54444 | D30: 371429
A31: Вода | B31: м3 | C31: 1524.1839 | D31: =VLOOKUP(A31,[1]Лист1!A$1:E$65536,4,FALSE) -> 0
A32: Болты анкерные(22х150мм) | B32: шт | C32: 168 | D32: =6644/1.12 -> 5932.1429
A33: Битумы нефтяные строительные для кровельных мастик, марки БНМ-75/35 | B33: т | C33: 11.08323 | D33: =VLOOKUP(A33,[1]Лист1!A$1:E$65536,4,FALSE) -> 5000000
A34: Болты строительные с гайками и шайбами | B34: т | C34: 15.45905 | D34: =VLOOKUP(A34,[1]Лист1!A$1:E$65536,4,FALSE) -> 14464000
A35: Гвозди строительные | B35: т | C35: 1.9911864 | D35: =VLOOKUP(A35,[1]Лист1!A$1:E$65536,4,FALSE) -> 10250000
A36: Герметик профильный нетвердеющий "БУТЭПРОЛ-2" | B36: т | C36: 0.190554 | D36: =25000000/1.12 -> 22321429
A37: Лак битумный БТ-123 | B37: т | C37: 2.46294 | D37: =24640000/1.12 -> 22000000
A38: Мастика клеящая морозостойкая битумно-масляная МБ-50 | B38: т | C38: 2.46294 | D38: =VLOOKUP(A38,[1]Лист1!A$1:E$65536,4,FALSE) -> 8929000
A39: Масла антраценовые | B39: т | C39: 0.190554 | D39: =9544983/1.12 -> 8522306.2
A40: Поковки из квадратных заготовок массой 1,8 кг | B40: т | C40: 1.0203394 | D40: =9305072/1.12 -> 8308100
A41: Пленка полиэтиленовая | B41: м2 | C41: 1717.7 | D41: =VLOOKUP(A41,[1]Лист1!A$1:E$65536,4,FALSE) -> 2428
A42: Топливо дизельное | B42: т | C42: 1.4285052 | D42: =VLOOKUP(A42,[1]Лист1!A$1:E$65536,4,FALSE) -> 11687002
A43: Кислород технический газообразный | B43: м3 | C43: 2376.6984 | D43: =VLOOKUP(A43,[1]Лист1!A$1:E$65536,4,FALSE) -> 4763.3929
A44: Ацетилен газообразный технический | B44: м3 | C44: 168.11684 | D44: =VLOOKUP(A44,[1]Лист1!A$1:E$65536,4,FALSE) -> 4763.3929
A45: Портландцемент общестроительного назначения бездобавочный марки 400 | B45: т | C45: 0.05628 | D45: 562500
A46: Шлакопортландцемент общестроительного и специального назначения марки 400 | B46: т | C46: 0.51456 | D46: 562500
A47: Электроды диаметром 4 мм Э42 | B47: т | C47: 3.168876 | D47: 22321000
A48: Электроды диаметром 4 мм Э42А | B48: т | C48: 3.13437 | D48: 22321000
...

Sheet Лист10
A4: НАИМЕНОВАНИЕ | B4: ЕД. ИЗМ. | C4: КОЛ-ВО | D4: ЦЕНА ЗА ЕД. | E4: СУММА (сум)
A5: 2 | B5: 3 | C5: 4 | D5: 5 | E5: 6
A7: Затраты труда рабочих-строителей | B7: чел.-ч | C7: 1522.1991 | D7: 26824.314 | E7: =C7*D7 -> 40831947
B8: СУМ | C8: =SUM(C7:C7) -> 1522.1991 | E8: =SUM(E7:E7) -> 40831947
A11: Автопогрузчики 5 т | B11: маш.-ч | C11: 0.03812 | D11: 140201 | E11: =C11*D11 -> 5344.4621
A12: Агрегаты сварочные передвижные с номинальным сварочным током 250-400 А с дизельным двигателем | B12: маш.-ч | C12: 96.1828 | D12: 54178 | E12: =C12*D12 -> 5210991.7
A13: Бульдозеры при работе на других видах строительства (кроме водохозяйственного) 59 (80) кВт (л.с.) | B13: маш.-ч | C13: 1.3376 | D13: 175643 | E13: =C13*D13 -> 234940.08
A14: Горелки газопламенные | B14: маш.-ч | C14: 1.71 | D14: 235 | E14: =C14*D14 -> 401.85
A15: Гамма-дефектоскопы с толщиной просвечиваемой стали до 80 мм | B15: маш.-ч | C15: 19.38 | D15: 20072.346 | E15: =C15*D15 -> 389002.07
A16: Домкраты гидравлические грузоподъемностью 63 т | B16: маш.-ч | C16: 9.2736 | D16: 1809.8017 | E16: =C16*D16 -> 16783.377
A17: Компрессоры передвижные с двигателем внутреннего сгорания давлением до 686 кПа (7 атм.) 5 м3/мин | B17: маш.-ч | C17: 0.2098 | D17: 152202 | E17: =C17*D17 -> 31931.98
A18: Компрессоры передвижные с двигателем внутреннего сгорания давлением до 686 кПа (7 атм.) 5 м3/мин | B18: маш.-ч | C18: 19.9308 | D18: 152202 | E18: =C18*D18 -> 3033507.6
A19: Краны на автомобильном ходу при работе на других видах строительства 10 т | B19: маш.-ч | C19: 27.893 | D19: 239461 | E19: =C19*D19 -> 6679285.7
A20: Краны на автомобильном ходу при работе на монтаже технологического оборудования 10 т | B20: маш.-ч | C20: 1.8864 | D20: 239461 | E20: =C20*D20 -> 451719.23
A21: Краны-трубоукладчики для труб диаметром (грузоподъемностью) до 400 мм (6,3 т) | B21: маш.-ч | C21: 4.74208 | D21: 205548 | E21: =C21*D21 -> 974725.06
A22: Краны-трубоукладчики для труб диаметром (грузоподъемностью) до 700 мм (12,5 т) | B22: маш.-ч | C22: 1.5039 | D22: 254345 | E22: =C22*D22 -> 382509.45
... A44: Полотенце мягкое для труб диаметром до 300 мм | B44: маш.-ч | C44: 13.893 | D44: 218.37277 | E44: =C44*D44 -> 3033.8529
B45: СУМ | C45: =SUM(C11:C44) -> 491.32565 | E45: =SUM(E11:E44) -> 30215176
A48: Кирпич глиняный обыкновенный М-75 | B48: 1000шт | C48: 0.72 | D48: =900000/1.12 -> 803571.43 | E48: =C48*D48 -> 578571.43
A49: Пленка радиографическая рулонная | B49: м | C49: 59.96 | D49: 63244.048 | E49: =C49*D49 -> 3792113.1
A50: Коробки соединительные | B50: шт | C50: 48 | D50: 13125 | E50: =C50*D50 -> 630000
A51: Глина | B51: м3 | C51: 2.88 | D51: 0 | E51: =C51*D51 -> 0
A52: Глина шамотная | B52: кг | C52: 8.4 | D52: 6500 | E52: =C52*D52 -> 54600
A53: Вода | B53: м3 | C53: 3.84 | D53: 0 | E53: =C53*D53 -> 0
A54: Битумы нефтяные строительные марки БН-90/10 | B54: т | C54: 0.252713 | D54: 5000000 | E54: =C54*D54 -> 1263565
A55: Битумы нефтяные строительные марки БН-50/50 | B55: т | C55: 0.048 | D55: 5000000 | E55: =C55*D55 -> 240000
A56: Бумага оберточная листовая | B56: 1000м2 | C56: 0.10687 | D56: 14668367 | E56: =C56*D56 -> 1567608.4
A57: Гайки шестигранные диаметр резьбы 10 мм | B57: т | C57: 7.38e-05 | D57: 17741000 | E57: =C57*D57 -> 1309.2858
A58: Ковер | B58: шт | C58: 56 | D58: 544223 | E58: =C58*D58 -> 30476488
A59: Краска | B59: кг | C59: 0.72 | D59: 31830 | E59: =C59*D59 -> 22917.6
A60: Лак битумный БТ-123 | B60: т | C60: 0.0001728 | D60: 5000000 | E60: =C60*D60 -> 864
... A64: Бензин растворитель | B64: т | C64: 0.0336 | D64: 36719000 | E64: =C64*D64 -> 1233758.4
A65: Клей фенолполивинилацетатный марки БФ-2, БФ-2Н, сорт высший | B65: т | C65: 0.001961 | D65: =50000*20/1.12 -> 892857.14 | E65: =C65*D65 -> 1750.8929
A66: Эмаль ХВ-125 серебристая | B66: т | C66: 0.001496 | D66: 27312000 | E66: =C66*D66 -> 40858.752
A67: Холст стеклянный ВВГ | B67: 10м2 | C67: 12.39 | D67: 26790 | E67: =C67*D67 -> 331928.1
A68: Мастика по проекту | B68: т | C68: 0.49846 | D68: 8929000 | E68: =C68*D68 -> 4450749.3
A69: Смазка солидол жировой "Ж" | B69: т | C69: 0.007009 | D69: =23833600/1.12 -> 21280000 | E69: =C69*D69 -> 149151.52
A70: Проволока стальная низкоуглеродистая разного назначения оцинкованная диаметром 3,0 мм | B70: т | C70: 0.0106752 | D70: 8899000 | E70: =C70*D70 -> 94998.605
A71: Проволока черная диаметром 3 мм | B71: т | C71: 0.025065 | D71: 8899000 | E71: =C71*D71 -> 223053.43
A72: Пленка оберточная ПЭКОМ, толщиной 0,6 мм | B72: м2 | C72: 30.5793 | D72: 2428 | E72: =C72*D72 -> 74246.54
...

Sheet 1
A1: РАСЧЕТ стоимости строительства в текущих ценах по объекту: РП "КАПИТАЛЬНОГО РЕМОНТА АВТОМОБИЛЬНОЙ ДОРОГИ 4Р135 "Г.АНДИЖАН-К.ТЕШИКТОШ-К.ОЙИМ-К.КУРГОНТЕПА-К.ЖАЛАКУДУК-АВТОДОРОГА А373" НА УЧАСТКЕ 46-51 КМ". ЗЕМЛЯНЫЕ РАБОТЫ
A2: № п.п | B2: Наименование затрат | C2: Стоимость (тыс. сум)
A3: 1 | B3: Основная заработная плата рабочих-строителей | C3: =свод!D5 -> 0
A4: 2 | B4: Затраты на эксплуатацию строительных машин и механизмов | C4: =свод!F5 -> 0
A5: 3 | B5: Затраты на строительные материалы, изделия и детали с учетом заготовительно-складских расходов и транспортных | C5: =свод!H5 -> 0
A6: 4 | B6: Затраты на оборудование с учетом заготовительно-складских расходов и транспортных | C6: =свод!#REF! -> #REF!
A7: 5 | B7: Затраты на перевозка грузов и грунта | C7: 0
A8: Итого прямых затрат: | C8: =SUM(C3:C7) -> #REF!
A9: 6 | B9: Прочие затраты производственного характера 8,48 % | C9: =(C8-C6)*0 -> #REF!
A10: 6 | B10: Прочие затраты и расходы подрядчика 28,31 % | C10: =(C8+C9-C6)*0.2831 -> #REF!
A11: 7 | B11: Затраты на страхование строительных объектов | C11: =(C8+C9+C10)*0.0032 -> #REF!
A12: 8 | B12: Коэффициент риска 5,0 % | C12: =(C8+C9+C10+C11)*0.05 -> #REF!
A13: Итого стоимость строительства в текущих ценах | C13: =SUM(C8:C12) -> #REF!
A14: Итого стоимость строительства в текущих ценах с НДС | C14: =C13*1.15 -> #REF!
B18: Составил: | C18: Ахмаджонов И.М.
B21: Проверил: | C21: Икрамов Х.Б.

Sheet 2
A1: РАСЧЕТ стоимости строительства в текущих ценах по объекту: РП "КАПИТАЛЬНОГО РЕМОНТА АВТОМОБИЛЬНОЙ ДОРОГИ 4Р135 "Г.АНДИЖАН-К.ТЕШИКТОШ-К.ОЙИМ-К.КУРГОНТЕПА-К.ЖАЛАКУДУК-АВТОДОРОГА А373" НА УЧАСТКЕ 46-51 КМ". ПОДГОТОВИТЕЛЬНЫЕ РАБОТЫ
A2: № п.п | B2: Наименование затрат | C2: Стоимость (тыс. сум)
A3: 1 | B3: Основная заработная плата рабочих-строителей | C3: =свод!#REF! -> #REF!
A4: 2 | B4: Затраты на эксплуатацию строительных машин и механизмов | C4: =свод!#REF! -> #REF!
A5: 3 | B5: Затраты на строительные материалы, изделия и детали с учетом заготовительно-складских расходов и транспортных | C5: =свод!#REF! -> #REF!
A6: 4 | B6: Затраты на оборудование с учетом заготовительно-складских расходов и транспортных | C6: =свод!#REF! -> #REF!
A7: 5 | B7: Затраты на перевозка грузов и грунта | C7: =свод!#REF! -> #REF!
A8: Итого прямых затрат: | C8: =SUM(C3:C7) -> #REF!
A9: 6 | B9: Прочие затраты производственного характера 8,48 % | C9: =(C8-C6)*0 -> #REF!
A10: 6 | B10: Прочие затраты и расходы подрядчика 28,31 % | C10: =(C8+C9-C6)*0.2831 -> #REF!
A11: 7 | B11: Затраты на страхование строительных объектов | C11: =(C8+C9+C10)*0.0032 -> #REF!
A12: 8 | B12: Коэффициент риска 5,0 % | C12: =(C8+C9+C10+C11)*0.05 -> #REF!
A13: Итого стоимость строительства в текущих ценах | C13: =SUM(C8:C12) -> #REF!
A14: Итого стоимость строительства в текущих ценах с НДС | C14: =C13*1.15 -> #REF!
B18: Составил: | C18: Ахмаджонов И.М.
B21: Проверил: | C21: Икрамов Х.Б.

Sheet 3
A1: РАСЧЕТ стоимости строительства в текущих ценах по объекту: РП "КАПИТАЛЬНОГО РЕМОНТА АВТОМОБИЛЬНОЙ ДОРОГИ 4Р135 "Г.АНДИЖАН-К.ТЕШИКТОШ-К.ОЙИМ-К.КУРГОНТЕПА-К.ЖАЛАКУДУК-АВТОДОРОГА А373" НА УЧАСТКЕ 46-51 КМ". ДОРОЖНАЯ ОДЕЖДА (ОСНОВНАЯ ДОРОГА)
A2: № п.п | B2: Наименование затрат | C2: Стоимость (тыс. сум)
A3: 1 | B3: Основная заработная плата рабочих-строителей | C3: =свод!#REF! -> #REF!
A4: 2 | B4: Затраты на эксплуатацию строительных машин и механизмов | C4: =свод!#REF! -> #REF!
A5: 3 | B5: Затраты на строительные материалы, изделия и детали с учетом заготовительно-складских расходов и транспортных | C5: =свод!#REF! -> #REF!
A6: 4 | B6: Затраты на оборудование с учетом заготовительно-складских расходов и транспортных | C6: =свод!#REF! -> #REF!
A7: 5 | B7: Затраты на перевозка грузов и грунта | C7: =свод!#REF! -> #REF!
A8: Итого прямых затрат: | C8: =SUM(C3:C7) -> #REF!
A9: 6 | B9: Прочие затраты производственного характера 8,48 % | C9: =(C8-C6)*0 -> #REF!
A10: 6 | B10: Прочие затраты и расходы подрядчика 28,31 % | C10: =(C8+C9-C6)*0.2831 -> #REF!
A11: 7 | B11: Затраты на страхование строительных объектов | C11: =(C8+C9+C10)*0.0032 -> #REF!
A12: 8 | B12: Коэффициент риска 5,0 % | C12: =(C8+C9+C10+C11)*0.05 -> #REF!
A13: Итого стоимость строительства в текущих ценах | C13: =SUM(C8:C12) -> #REF!
A14: Итого стоимость строительства в текущих ценах с НДС | C14: =C13*1.15 -> #REF!
B18: Составил: | C18: Ахмаджонов И.М.
B21: Проверил: | C21: Икрамов Х.Б.

Sheet 4
A1: РАСЧЕТ стоимости строительства в текущих ценах по объекту: РП "КАПИТАЛЬНОГО РЕМОНТА АВТОМОБИЛЬНОЙ ДОРОГИ 4Р135 "Г.АНДИЖАН-К.ТЕШИКТОШ-К.ОЙИМ-К.КУРГОНТЕПА-К.ЖАЛАКУДУК-АВТОДОРОГА А373" НА УЧАСТКЕ 46-51 КМ". ОБУСТРОЙСТВО
A2: № п.п | B2: Наименование затрат | C2: Стоимость (тыс. сум)
A3: 1 | B3: Основная заработная плата рабочих-строителей | C3: =свод!#REF! -> #REF!
A4: 2 | B4: Затраты на эксплуатацию строительных машин и механизмов | C4: =свод!#REF! -> #REF!
A5: 3 | B5: Затраты на строительные материалы, изделия и детали с учетом заготовительно-складских расходов и транспортных | C5: =свод!#REF! -> #REF!
A6: 4 | B6: Затраты на оборудование с учетом заготовительно-складских расходов и транспортных | C6: =свод!#REF! -> #REF!
A7: 5 | B7: Затраты на перевозка грузов и грунта | C7: =свод!#REF! -> #REF!
A8: Итого прямых затрат: | C8: =SUM(C3:C7) -> #REF!
A9: 6 | B9: Прочие затраты производственного характера 8,48 % | C9: =(C8-C6)*0 -> #REF!
A10: 6 | B10: Прочие затраты и расходы подрядчика 28,31 % | C10: =(C8+C9-C6)*0.2831 -> #REF!
A11: 7 | B11: Затраты на страхование строительных объектов | C11: =(C8+C9+C10)*0.0032 -> #REF!
A12: 8 | B12: Коэффициент риска 5,0 % | C12: =(C8+C9+C10+C11)*0.05 -> #REF!
A13: Итого стоимость строительства в текущих ценах | C13: =SUM(C8:C12) -> #REF!
A14: Итого стоимость строительства в текущих ценах с НДС | C14: =C13*1.15 -> #REF!
B18: Составил: | C18: Ахмаджонов И.М.
B21: Проверил: | C21: Икрамов Х.Б.

Sheet 5.
A1: РАСЧЕТ стоимости строительства в текущих ценах по объекту: РП "КАПИТАЛЬНОГО РЕМОНТА АВТОМОБИЛЬНОЙ ДОРОГИ 4Р135 "Г.АНДИЖАН-К.ТЕШИКТОШ-К.ОЙИМ-К.КУРГОНТЕПА-К.ЖАЛАКУДУК-АВТОДОРОГА А373" НА УЧАСТКЕ 46-51 КМ". УСТРОЙСТВО ТРОТУАРОВ И ВЕЛОДОРОЖЕК
A2: № п.п | B2: Наименование затрат | C2: Стоимость (тыс. сум)
A3: 1 | B3: Основная заработная плата рабочих-строителей | C3: =свод!#REF! -> #REF!
A4: 2 | B4: Затраты на эксплуатацию строительных машин и механизмов | C4: =свод!#REF! -> #REF!
A5: 3 | B5: Затраты на строительные материалы, изделия и детали с учетом заготовительно-складских расходов и транспортных | C5: =свод!#REF! -> #REF!
A6: 4 | B6: Затраты на оборудование с учетом заготовительно-складских расходов и транспортных | C6: 0
A7: 5 | B7: Затраты на перевозка грузов и грунта | C7: =свод!#REF! -> #REF!
A8: Итого прямых затрат: | C8: =SUM(C3:C7) -> #REF!
A9: 6 | B9: Прочие затраты производственного характера 8,48 % | C9: =(C8-C6)*0 -> #REF!
A10: 6 | B10: Прочие затраты и расходы подрядчика 28,31 % | C10: =(C8+C9-C6)*0.2831 -> #REF!
A11: 7 | B11: Затраты на страхование строительных объектов | C11: =(C8+C9+C10)*0.0032 -> #REF!
A12: 8 | B12: Коэффициент риска 5,0 % | C12: =(C8+C9+C10+C11)*0.05 -> #REF!
A13: Итого стоимость строительства в текущих ценах | C13: =SUM(C8:C12) -> #REF!
A14: Итого стоимость строительства в текущих ценах с НДС | C14: =C13*1.15 -> #REF!
B18: Составил: | C18: Ахмаджонов И.М.
B21: Проверил: | C21: Икрамов Х.Б.

Sheet 6
A1: РАСЧЕТ стоимости строительства в текущих ценах по объекту: РП "КАПИТАЛЬНОГО РЕМОНТА АВТОМОБИЛЬНОЙ ДОРОГИ 4Р135 "Г.АНДИЖАН-К.ТЕШИКТОШ-К.ОЙИМ-К.КУРГОНТЕПА-К.ЖАЛАКУДУК-АВТОДОРОГА А373" НА УЧАСТКЕ 46-51 КМ". ПЕРЕУСТРОЙСТВО ЛЭП 10КВ
A2: № п.п | B2: Наименование затрат | C2: Стоимость (тыс. сум)
A3: 1 | B3: Основная заработная плата рабочих-строителей | C3: =свод!#REF! -> #REF!
A4: 2 | B4: Затраты на эксплуатацию строительных машин и механизмов | C4: =свод!#REF! -> #REF!
A5: 3 | B5: Затраты на строительные материалы, изделия и детали с учетом заготовительно-складских расходов и транспортных | C5: =свод!#REF! -> #REF!
A6: 4 | B6: Затраты на оборудование с учетом заготовительно-складских расходов и транспортных | C6: =свод!#REF! -> #REF!
A7: 5 | B7: Затраты на перевозка грузов и грунта | C7: =свод!#REF! -> #REF!
A8: Итого прямых затрат: | C8: =SUM(C3:C7) -> #REF!
A9: 6 | B9: Прочие затраты производственного характера 8,48 % | C9: =(C8-C6)*0 -> #REF!
A10: 6 | B10: Прочие затраты и расходы подрядчика 28,31 % | C10: =(C8+C9-C6)*0.2831 -> #REF!
A11: 7 | B11: Затраты на страхование строительных объектов | C11: =(C8+C9+C10)*0.0032 -> #REF!
A12: 8 | B12: Коэффициент риска 5,0 % | C12: =(C8+C9+C10+C11)*0.05 -> #REF!
A13: Итого стоимость строительства в текущих ценах | C13: =SUM(C8:C12) -> #REF!
A14: Итого стоимость строительства в текущих ценах с НДС | C14: =C13*1.15 -> #REF!
B18: Составил: | C18: Ахмаджонов И.М.
B21: Проверил: | C21: Икрамов Х.Б.

Sheet Лист1
A1: РАСЧЕТ стоимости строительства в текущих ценах по объекту: "M39b "Toshkent xalka yo‘li" avtomobil yo‘lining 34-36 km qismi (Temur Malik ko‘chasi)ni rekonstruksiya qilish (1 bosqich)" ob'yektining ishchi loyihasi. ПУТЕПРОВОД НА ПК 0+945,9 ДО ПК 1+274,42 (47161-sonli yig`ma ekspert xulosasiga asosan)
A2: № п.п | B2: Наименование затрат | C2: Стоимость (тыс. сум)
A3: 1 | B3: Основная заработная плата рабочих-строителей | C3: =свод!D5 -> 0
A4: 2 | B4: Затраты на эксплуатацию строительных машин и механизмов | C4: =свод!F5 -> 0
A5: 3 | B5: Затраты на строительные материалы, изделия и детали с учетом заготовительно-складских расходов и транспортных | C5: =свод!H5 -> 0
A6: 4 | B6: Затраты на оборудование с учетом заготовительно-складских расходов и транспортных | C6: 0
A7: 5 | B7: Затраты на перевозка грузов и грунта | C7: =свод!G5 -> 0
A8: Итого прямых затрат: | C8: =SUM(C3:C7) -> 0
A9: 6 | B9: Прочие затраты производственного характера 8,48 % | C9: =свод!K7 -> 0
A10: 6 | B10: Прочие затраты и расходы подрядчика 17,27 % | C10: =(C8-C6)*0.1727 -> 0
A11: 7 | B11: Затраты на страхование строительных объектов | C11: =(C8+C10)*0.0032 -> 0
A12: 8 | B12: Коэффициент риска 5,0 % | C12: =свод!N7 -> 0
A13: Итого стоимость строительства в текущих ценах | C13: =SUM(C8:C12) -> 0
A14: Итого стоимость строительства в текущих ценах с НДС | C14: =C13*1.15 -> 0
B18: Составили: | C18: Ахмаджонов И.М.
C21: Икрамов Х.Б.

Sheet Лист2
A1: РАСЧЕТ стоимости строительства в текущих ценах по объекту: "M39b "Toshkent xalka yo‘li" avtomobil yo‘lining 34-36 km qismi (Temur Malik ko‘chasi)ni rekonstruksiya qilish (1 bosqich)" ob'yektining ishchi loyihasi. ДЕМОНТАЖНЫЕ РАБОТЫ (47161-sonli yig`ma ekspert xulosasiga asosan)
A2: № п.п | B2: Наименование затрат | C2: Стоимость (тыс. сум)
A3: 1 | B3: Основная заработная плата рабочих-строителей | C3: =свод!D6 -> 0
A4: 2 | B4: Затраты на эксплуатацию строительных машин и механизмов | C4: =свод!F6 -> 0
A5: 3 | B5: Затраты на строительные материалы, изделия и детали с учетом заготовительно-складских расходов и транспортных | C5: =свод!H6 -> 0
A6: 4 | B6: Затраты на оборудование с учетом заготовительно-складских расходов и транспортных | C6: 0
A7: 5 | B7: Затраты на перевозка грузов и грунта | C7: 0
A8: Итого прямых затрат: | C8: =SUM(C3:C7) -> 0
A9: 6 | B9: Прочие затраты производственного характера 8,48 % | C9: =свод!K7 -> 0
A10: 6 | B10: Прочие затраты и расходы подрядчика 17,27 % | C10: =(C8-C6)*0.1727 -> 0
A11: 7 | B11: Затраты на страхование строительных объектов | C11: =(C8+C10)*0.0032 -> 0
A12: 8 | B12: Коэффициент риска 5,0 % | C12: =свод!N7 -> 0
A13: Итого стоимость строительства в текущих ценах | C13: =SUM(C8:C12) -> 0
A14: Итого стоимость строительства в текущих ценах с НДС | C14: =C13*1.15 -> 0
B18: Составили: | C18: Ахмаджонов И.М.
C21: Икрамов Х.Б.

Sheet Лист3
A1: РАСЧЕТ стоимости строительства в текущих ценах по объекту: "M39b "Toshkent xalka yo‘li" avtomobil yo‘lining 34-36 km qismi (Temur Malik ko‘chasi)ni rekonstruksiya qilish (1 bosqich)" ob'yektining ishchi loyihasi. ПОДЗЕМНЫЙ ПЕШЕХОДНЫЙ ПЕРЕХОД НА ПК 3+53 (47161-sonli yig`ma ekspert xulosasiga asosan)
A2: № п.п | B2: Наименование затрат | C2: Стоимость (тыс. сум)
A3: 1 | B3: Основная заработная плата рабочих-строителей | C3: =свод!#REF! -> #REF!
A4: 2 | B4: Затраты на эксплуатацию строительных машин и механизмов | C4: =свод!#REF! -> #REF!
A5: 3 | B5: Затраты на строительные материалы, изделия и детали с учетом заготовительно-складских расходов и транспортных | C5: =свод!#REF! -> #REF!
A6: 4 | B6: Затраты на оборудование с учетом заготовительно-складских расходов и транспортных | C6: 0
A7: 5 | B7: Затраты на перевозка грузов и грунта | C7: =свод!#REF! -> #REF!
A8: Итого прямых затрат: | C8: =SUM(C3:C7) -> #REF!
A9: 6 | B9: Прочие затраты производственного характера 8,48 % | C9: =свод!K7 -> 0
A10: 6 | B10: Прочие затраты и расходы подрядчика 17,27 % | C10: =(C8-C6)*0.1727 -> #REF!
A11: 7 | B11: Затраты на страхование строительных объектов | C11: =(C8+C10)*0.0032 -> #REF!
A12: 8 | B12: Коэффициент риска 5,0 % | C12: =свод!N7 -> 0
A13: Итого стоимость строительства в текущих ценах | C13: =SUM(C8:C12) -> #REF!
A14: Итого стоимость строительства в текущих ценах с НДС | C14: =C13*1.15 -> #REF!
B18: Составили: | C18: Ахмаджонов И.М.
C21: Икрамов Х.Б.

Sheet Лист4
A1: РАСЧЕТ стоимости строительства в текущих ценах по объекту: "M39b "Toshkent xalka yo‘li" avtomobil yo‘lining 34-36 km qismi (Temur Malik ko‘chasi)ni rekonstruksiya qilish (1 bosqich)" ob'yektining ishchi loyihasi. ЭЛЕКТРОСНАБЖЕНИЕ ПОДЗЕМНОГО ПЕШЕХОДНОГО ПЕРЕХОДА И АСКУЭ НА ПК 3+53 (47161-sonli yig`ma ekspert xulosasiga asosan)
A2: № п.п | B2: Наименование затрат | C2: Стоимость (тыс. сум)
A3: 1 | B3: Основная заработная плата рабочих-строителей | C3: =свод!#REF! -> #REF!
A4: 2 | B4: Затраты на эксплуатацию строительных машин и механизмов | C4: =свод!#REF! -> #REF!
A5: 3 | B5: Затраты на строительные материалы, изделия и детали с учетом заготовительно-складских расходов и транспортных | C5: =свод!#REF! -> #REF!
A6: 4 | B6: Затраты на оборудование с учетом заготовительно-складских расходов и транспортных | C6: =свод!#REF! -> #REF!
A7: 5 | B7: Затраты на перевозка грузов и грунта | C7: 0
A8: Итого прямых затрат: | C8: =SUM(C3:C7) -> #REF!
A9: 6 | B9: Прочие затраты производственного характера 8,48 % | C9: =свод!K7 -> 0
A10: 6 | B10: Прочие затраты и расходы подрядчика 17,27 % | C10: =(C8-C6)*0.1727 -> #REF!
A11: 7 | B11: Затраты на страхование строительных объектов | C11: =(C8+C10)*0.0032 -> #REF!
A12: 8 | B12: Коэффициент риска 5,0 % | C12: =свод!N7 -> 0
A13: Итого стоимость строительства в текущих ценах | C13: =SUM(C8:C12) -> #REF!
A14: Итого стоимость строительства в текущих ценах с НДС | C14: =C13*1.15 -> #REF!
B18: Составили: | C18: Ахмаджонов И.М.
C21: Икрамов Х.Б.

Sheet Лист5
A1: РАСЧЕТ стоимости строительства в текущих ценах по объекту: "M39b "Toshkent xalka yo‘li" avtomobil yo‘lining 34-36 km qismi (Temur Malik ko‘chasi)ni rekonstruksiya qilish (1 bosqich)" ob'yektining ishchi loyihasi. ДРЕНАЖ ПОДЗЕМНОГО ПЕШЕХОДНОГО ПЕРЕХОДА НА ПК 3+53 (47161-sonli yig`ma ekspert xulosasiga asosan)
A2: № п.п | B2: Наименование затрат | C2: Стоимость (тыс. сум)
A3: 1 | B3: Основная заработная плата рабочих-строителей | C3: =свод!#REF! -> #REF!
A4: 2 | B4: Затраты на эксплуатацию строительных машин и механизмов | C4: =свод!#REF! -> #REF!
A5: 3 | B5: Затраты на строительные материалы, изделия и детали с учетом заготовительно-складских расходов и транспортных | C5: =свод!#REF! -> #REF!
A6: 4 | B6: Затраты на оборудование с учетом заготовительно-складских расходов и транспортных | C6: =свод!#REF! -> #REF!
A7: 5 | B7: Затраты на перевозка грузов и грунта | C7: 0
A8: Итого прямых затрат: | C8: =SUM(C3:C7) -> #REF!
A9: 6 | B9: Прочие затраты производственного характера 8,48 % | C9: =свод!K7 -> 0
A10: 6 | B10: Прочие затраты и расходы подрядчика 17,27 % | C10: =(C8-C6)*0.1727 -> #REF!
A11: 7 | B11: Затраты на страхование строительных объектов | C11: =(C8+C10)*0.0032 -> #REF!
A12: 8 | B12: Коэффициент риска 5,0 % | C12: =свод!N7 -> 0
A13: Итого стоимость строительства в текущих ценах | C13: =SUM(C8:C12) -> #REF!
A14: Итого стоимость строительства в текущих ценах с НДС | C14: =C13*1.15 -> #REF!
B18: Составили: | C18: Ахмаджонов И.М.
C21: Икрамов Х.Б.

Sheet Лист6
A1: РАСЧЕТ стоимости строительства в текущих ценах по объекту: "M39b "Toshkent xalka yo‘li" avtomobil yo‘lining 34-36 km qismi (Temur Malik ko‘chasi)ni rekonstruksiya qilish (1 bosqich)" ob'yektining ishchi loyihasi. ПОДЗЕМНЫЙ ПЕШЕХОДНЫЙ ПЕРЕХОД НА ПК 8+60 (47161-sonli yig`ma ekspert xulosasiga asosan)
A2: № п.п | B2: Наименование затрат | C2: Стоимость (тыс. сум)
A3: 1 | B3: Основная заработная плата рабочих-строителей | C3: =свод!#REF! -> #REF!
A4: 2 | B4: Затраты на эксплуатацию строительных машин и механизмов | C4: =свод!#REF! -> #REF!
A5: 3 | B5: Затраты на строительные материалы, изделия и детали с учетом заготовительно-складских расходов и транспортных | C5: =свод!#REF! -> #REF!
A6: 4 | B6: Затраты на оборудование с учетом заготовительно-складских расходов и транспортных | C6: 0
A7: 5 | B7: Затраты на перевозка грузов и грунта | C7: =свод!#REF! -> #REF!
A8: Итого прямых затрат: | C8: =SUM(C3:C7) -> #REF!
A9: 6 | B9: Прочие затраты производственного характера 8,48 % | C9: =свод!K7 -> 0
A10: 6 | B10: Прочие затраты и расходы подрядчика 17,27 % | C10: =(C8-C6)*0.1727 -> #REF!
A11: 7 | B11: Затраты на страхование строительных объектов | C11: =(C8+C10)*0.0032 -> #REF!
A12: 8 | B12: Коэффициент риска 5,0 % | C12: =свод!N7 -> 0
A13: Итого стоимость строительства в текущих ценах | C13: =SUM(C8:C12) -> #REF!
A14: Итого стоимость строительства в текущих ценах с НДС | C14: =C13*1.15 -> #REF!
B18: Составили: | C18: Ахмаджонов И.М.
C21: Икрамов Х.Б.

Sheet Лист7
A1: РАСЧЕТ стоимости строительства в текущих ценах по объекту: "M39b "Toshkent xalka yo‘li" avtomobil yo‘lining 34-36 km qismi (Temur Malik ko‘chasi)ni rekonstruksiya qilish (1 bosqich)" ob'yektining ishchi loyihasi. ЭЛЕКТРОСНАБЖЕНИЕ ПОДЗЕМНОГО ПЕШЕХОДНОГО ПЕРЕХОДА И АСКУЭ НА ПК 8+60 (47161-sonli yig`ma ekspert xulosasiga asosan)
A2: № п.п | B2: Наименование затрат | C2: Стоимость (тыс. сум)
A3: 1 | B3: Основная заработная плата рабочих-строителей | C3: =свод!#REF! -> #REF!
A4: 2 | B4: Затраты на эксплуатацию строительных машин и механизмов | C4: =свод!#REF! -> #REF!
A5: 3 | B5: Затраты на строительные материалы, изделия и детали с учетом заготовительно-складских расходов и транспортных | C5: =свод!#REF! -> #REF!
A6: 4 | B6: Затраты на оборудование с учетом заготовительно-складских расходов и транспортных | C6: =свод!#REF! -> #REF!
A7: 5 | B7: Затраты на перевозка грузов и грунта | C7: 0
A8: Итого прямых затрат: | C8: =SUM(C3:C7) -> #REF!
A9: 6 | B9: Прочие затраты производственного характера 8,48 % | C9: =свод!K7 -> 0
A10: 6 | B10: Прочие затраты и расходы подрядчика 17,27 % | C10: =(C8-C6)*0.1727 -> #REF!
A11: 7 | B11: Затраты на страхование строительных объектов | C11: =(C8+C10)*0.0032 -> #REF!
A12: 8 | B12: Коэффициент риска 5,0 % | C12: =свод!N7 -> 0
A13: Итого стоимость строительства в текущих ценах | C13: =SUM(C8:C12) -> #REF!
A14: Итого стоимость строительства в текущих ценах с НДС | C14: =C13*1.15 -> #REF!
B18: Составили: | C18: Ахмаджонов И.М.
C21: Икрамов Х.Б.

Sheet Лист8
A1: РАСЧЕТ стоимости строительства в текущих ценах по объекту: "M39b "Toshkent xalka yo‘li" avtomobil yo‘lining 34-36 km qismi (Temur Malik ko‘chasi)ni rekonstruksiya qilish (1 bosqich)" ob'yektining ishchi loyihasi. ДРЕНАЖ ПОДЗЕМНОГО ПЕШЕХОДНОГО ПЕРЕХОДА НА ПК 8+60 (47161-sonli yig`ma ekspert xulosasiga asosan)
A2: № п.п | B2: Наименование затрат | C2: Стоимость (тыс. сум)
A3: 1 | B3: Основная заработная плата рабочих-строителей | C3: =свод!#REF! -> #REF!
A4: 2 | B4: Затраты на эксплуатацию строительных машин и механизмов | C4: =свод!#REF! -> #REF!
A5: 3 | B5: Затраты на строительные материалы, изделия и детали с учетом заготовительно-складских расходов и транспортных | C5: =свод!#REF! -> #REF!
A6: 4 | B6: Затраты на оборудование с учетом заготовительно-складских расходов и транспортных | C6: =свод!#REF! -> #REF!
A7: 5 | B7: Затраты на перевозка грузов и грунта | C7: 0
A8: Итого прямых затрат: | C8: =SUM(C3:C7) -> #REF!
A9: 6 | B9: Прочие затраты производственного характера 8,48 % | C9: =свод!K7 -> 0
A10: 6 | B10: Прочие затраты и расходы подрядчика 17,27 % | C10: =(C8-C6)*0.1727 -> #REF!
A11: 7 | B11: Затраты на страхование строительных объектов | C11: =(C8+C10)*0.0032 -> #REF!
A12: 8 | B12: Коэффициент риска 5,0 % | C12: =свод!N7 -> 0
A13: Итого стоимость строительства в текущих ценах | C13: =SUM(C8:C12) -> #REF!
A14: Итого стоимость строительства в текущих ценах с НДС | C14: =C13*1.15 -> #REF!
B18: Составили: | C18: Ахмаджонов И.М.
C21: Икрамов Х.Б.
