Workbook

Sheet Cover
A8: Иш ҳажмлари қайдномаси
A9: Ведомость Объемов Работ
A12: "М-39" халқаро автомобил йўлининг Зангиота туманидан ўтган аҳоли гавжум бўлган 819 км қисмида пиёдалар учун хавфсиз ер ости ўтиш йўлагини қуриш (ПҚ-165 ФРРУ) обектининг ишчи лойиҳасини ишлаб чиқишга

Sheet Подписи
A6: =+Cover!A12 -> "М-39" халқаро автомобил йўлининг Зангиота туманидан ўтган аҳоли гавжум бўлган 819 км қисмида пиёдалар учун хавфсиз ер ости ўтиш йўлагини қуриш (ПҚ-165 ФРРУ) обектининг ишчи лойиҳасини ишлаб чиқишга
D10: Лойиҳа бош муҳандиси / ГИП | I10: Саидов У

Sheet Grand Summary
A1: GRAND SUMMARY: ИШ ҲАЖМЛАРИ ЖАМЛАМА ҚАИДНОМАСИ / СВОДНАЯ ВЕДОМОСТЬ ОБЪЕМОВ РАБОТ
C4: =Подписи!A6 -> "М-39" халқаро автомобил йўлининг Зангиота туманидан ўтган аҳоли гавжум бўлган 819 км қисмида пиёдалар учун хавфсиз ер ости ўтиш йўлагини қуриш (ПҚ-165 ФРРУ) обектининг ишчи лойиҳасини ишлаб чиқишга
A6: № | B6: Умумий смета | C6: Общая смета | D6: Reference Ссьшка | E6: Amount Сумма
A7: 100 | B7: ҚАЙДНОМА № 100 ДАСТЛАБКИ БАНДЛАР | C7: ВЕДОМОСТЬ № 100 ПРЕДВАРИТЕЛЬНЫЕ ПУНКТЫ | G7: =+E7-F7 -> 0
A8: 200 | B8: ҚАЙДНОМА № 200 УЧАСТКАНИ ТОЗАЛАШ | C8: ВЕДОМОСТЬ № 200 РАСЧИСТКА УЧАСТКА | G8: =+E8-F8 -> 0
A9: 300 | B9: ҚАЙДНОМА № 300 КОММУНИКАЦИЯЛАРНИ КЎЧИРИШ/ҚАЙТА ҚУРИШ | C9: ВЕДОМОСТЬ № 300 ПЕРЕНОС/ПЕРЕУСТРОЙСТВО КОММУНИКАЦИЙ | G9: =+E9-F9 -> 0
A10: 400 | B10: ҚАЙДНОМА №400 ЕР ИШЛАРИ | C10: ВЕДОМОСТЬ № 400 ЗЕМЛЯНЫЕ РАБОТЫ | E10: =+#REF! -> #REF!
A11: 500 | B11: ҚАЙДНОМА № 500 СУВ КЕТКАЗИШ ИШЛАРИ | C11: ВЕДОМОСТЬ № 500 ВОДООТВОДНЫЕ РАБОТЫ
A12: 600 | B12: ҚАЙДНОМА № 600 АСОСНИНГ ОСТКИ ҚАТЛАМИ/ҚАТЛАМЛАРИ | C12: ВЕДОМОСТЬ № 600 ПОДСТИЛАЮЦИЙ СЛОЙ/СЛОИ ОСНОВАНИЯ (ОБОЧИНА) | E12: =+BILL600!G12 -> 0
A13: 700 | B13: ҚАЙДНОМА NO 700 БИТУМЛИ ҚОПЛАМАЛАР | C13: ВЕДОМОСТЬ № 700 ПОКРЫТИЯ С ПРИМЕНЕНИЕМ БИТУМА | E13: =+'Bill700 '!G13 -> 0
A14: 800 | B14: ҚАЙДНОМА № 800 ЦЕМЕНТБЕТОНЛИ ЙЎЛ ҚОПЛАМАСИ | C14: ВЕДОМОСТЬ № 800 ДОРОЖНОЕ ПОКРЫТИЕ ИЗ ЦЕМЕНТОБЕТОНА
A15: 900 | B15: ҚАЙДНОМА № 900 ЙЎЛНИ МУҲАНДИСЛИК ЖИҲОЗЛАШ | C15: ВЕДОМОСТЬ № 900 ИНЖЕНЕРНОЕ ОБУСТРОЙСТВО ДОРОГИ | E15: =+BILL900!G22 -> 0
A16: 1000 | B16: ҚАЙДНОМА № 1000 ОБОДОНЛАШТИРИШ ВА КЎКАЛАМЗОРЛАШТИРИШ | C16: ВЕДОМОСТЬ №1000 БЛАГОУСТРОЙСТВО И ОЗЕЛЕНЕНИЕ
A17: 1100 | B17: ҚАЙДНОМА № 1100 БЕТОН КОНСТРУКЦИЯЛАР ВА КЎПРИКЛАР | C17: ВЕДОМОСТЬ №1100 БЕТОННЫЕ КОНСТРУКЦИИ И МОСТЫ | E17: =+BILL1100!G88 -> 0
A18: A | B18: Қайдномалар бўйича жами | C18: Итого по ведомостям | E18: =SUM(E7:E17) -> #REF!
A19: В | B19: Кунлик ишлар учун жами | C19: Итого для поденньх работ
A20: С | B20: Кўзда тутилмаган харажатлар, А суммадан 10% | C20: Непредвиденнье расходь, 10% от суммн A
B21: АРИЗА ШАКЛИДА КЎРСАТИЛАДИГАН АРИЗАНИНГ УМУМИЙ БАҲОСИ (A+B+С) | C21: ОБШАЯ СТОИМОСТЬ ЗАЯВКИ УКАЗЫВАЕМАЯ В ФОРМЕ ЗАЯВКИ (A+B+С)
B22: * All provisional sums may be used in whole or in part only with the Employer's consent
B23: * Все предварительные суммы могут быть использованы полностью или частично только с согласия Заказчика

Sheet BILL200
A1: ҚАЙДНОМА № 200 УЧАСТКАНИ ТОЗАЛАШ
A2: ВЕДОМОСТЬ №200 РАСЧИСТКА УЧАСТКА
C4: =+'Grand Summary'!C4:E4 -> "М-39" халқаро автомобил йўлининг Зангиота туманидан ўтган аҳоли гавжум бўлган 819 км қисмида пиёдалар учун хавфсиз ер ости ўтиш йўлагини қуриш (ПҚ-165 ФРРУ) обектининг ишчи лойиҳасини ишлаб чиқишга
A6: No. | B6: Тавсифи | C6: Описание | D6: Ўлч.бирл. Ед. изм. | E6: С о ни Количество | F6: Нарх ўлч.бирл. Стоим. ед.изм. | G6: Нархи Стоимость
B7: Техник спецификация 200 бўлимига Ҳавола | C7: Ссьтка на Технические Спецификации
A8: 201 | B8: Tayyorgarlik ishlari | C8: Подготовительные работы
A9: 201.01 | B9: BDO-5 bloklari (og‘irligi 3,38 t) yordamida qurilish maydoni chegarasini o‘rnatish; bunda bloklarni uch marta ko‘chirish va o‘rnatish (shuningdek, mavjud to‘siq bloklarini demontaj qilish) hamda bazaga qaytarish ishlari nazarda tutiladi. | C9: Устройство ограждения стройплощадки в блоками БДО-5 весом 3,38 т с трехкратной перестановкой и установкой (демонтаж существующих блоков ограждения) возврат на базу | D9: шт/м3 | E9: 24/32,4 | G9: =+F9*E9 -> #VALUE!
A10: 201.02 | B10: Mavjud asfalt-beton qoplamani (o‘rtacha qalinligi 20 sm) yumshatish, uyumga yig‘ish, ekskavator (cho‘mich sig‘imi 0,65 m³) yordamida yuk mashinalariga ortish va chiqindixonaga tashib ketish. | C10: Кирковка существующего асфальтобетонного покрытия толщиной h/ср =20см со сгребанием в кучи, с погрузкой экс-каватором емк. ковша 0,65 м3 в автотранспорти перевозкой на расстояние в отвал | D10: m2/м3 | E10: 408/81,6 | G10: =+F10*E10 -> #VALUE!
A11: 201.03 | B11: Piyodalar uchun mo‘ljallangan tunnel qurilish maydonchasida hajmi 0,65 m³ bo‘lgan kovshli ekskavator yordamida II guruh tuprog‘ini qazish (tuproq zichligi γ = 1,65 t/m³). | C11: Разработка грунта II группы экскаватором емк. ковша 0,65 м3 на рабочей плошадке под пешеходного тоннеля  = 1,65 т/ м3 | D11: м3 | E11: 2358 | G11: =+F11*E11 -> 0
A12: 201.04 | B12: Tuproqni qo‘lda o‘zlashtirish | C12: Ручная дороботка грунта | D12: м3 | E12: 235.8
A13: 201.05 | B13: Tunnel qurilishi maydonida II toifadagi materialni (kovsh sig‘imi 0,65 m³) qazib olish, shu jumladan, uni yuklash va ___ km gacha masofadagi chiqindi to‘kish joyiga tashish. | C13: Разработка гр. II гр. Экск 0,65м³ Камуцу на рабочей площадке тоннеля с погрузкой и перевозкой до ___км в отвал | D13: m3 | E13: =E12+E11 -> 2593.8 | G13: =+F13*E13 -> 0
A14: 201.06 | B14: II toifali tuproqda qazishma tubi va zinapoyali kirish qiyaliklarini qo‘lda tekislash. | C14: Планировка дна котлованов и откосов лестничных сходов в грунтах II грунта вручную | D14: m2 | E14: 568.5 | G14: =+F14*E14 -> 0
A15: 201.07 | B15: PTP 2x1,5 o‘lchamli yo‘lak plitalarini demontaj qilish, shu jumladan, yuklash va omborga tashish. | C15: Дмонтаж тротуарный плиту ПТП 2х1,5 -14с погузкой и перевозкой на базу | D15: шт/м3 | E15: 4/1,68 | G15: =+F15*E15 -> #VALUE!
A16: 201.08 | B16: LK6 demontaj tepsisi | C16: Демонтаж лоток ЛК6 | D16: пм | E16: 36
B17: ҚАЙДНОМА 400 БЎЙИЧА ЖАМИ (жамлама қайдномага ўтказиш билан) | C17: ИТОГО ПО ВЕДОМОСТИ № 400 (с переносом в сводную ведомость) | G17: =SUM(G9:G16) -> #VALUE!
B18: Abbreviations/Сокращенные Обозначения
B19: m3/м3=cubic meter/метр кубический | C19: m2/м2=square meter/квадратный метр

Sheet BILL300
A1: ҚАЙДНОМА № 300 КОММУНИКАЦИЯЛАРНИ КЎЧИРИШ/ҚАЙТА ҚУРИШ
A2: ВЕДОМОСТЬ №300 ПЕРЕНОС/ПЕРЕУСТРОЙСТВО КОММУНИКАЦИЙ
C4: =+'Grand Summary'!C4:E4 -> "М-39" халқаро автомобил йўлининг Зангиота туманидан ўтган аҳоли гавжум бўлган 819 км қисмида пиёдалар учун хавфсиз ер ости ўтиш йўлагини қуриш (ПҚ-165 ФРРУ) обектининг ишчи лойиҳасини ишлаб чиқишга
A6: No. | B6: Тавсифи | C6: Описание | D6: Ўлч.бирл. Ед. изм. | E6: С о ни Количество | F6: Нарх ўлч.бирл. Стоим. ед.изм. | G6: Нархи Стоимость
B7: Техник спецификация 300 бўлимига Ҳавола | C7: Ссьтка на Технические Спецификации Раздела 300
B8: Elektr yoritish va transport ishlari | C8: Работы по транспортировке электроосвещения
A9: 300 | C9: ЗЕМЛЯНЫЕ РАБОТЫ
A10: 300.01 | B10: II toifali tuproqda kabel xandaqini qazish va qayta ko‘mish: 80%i mexanik usulda, 20%i qo‘l mehnati bilan. | C10: Рытье и засыпка траншеи под кабель в грунте 2-йкатегории 80% мех способом, 20% вручную | D10: m2/м3 | E10: 12/8,4 | H10: =+F10*1.17*1.12*1.0032 -> 0
A11: 300.02 | B11: II toifadagi tuproqda yerga ulash konturi uchun xandaq qazish va uni qayta ko‘mish ishlarini 100% qo‘l mehnati bilan bajarish. | C11: Рытье и засыпка траншеи под контур заземление в грунте 2-й категории 100% вручную | D11: м3 | E11: 5 | H11: =+F11*1.17*1.12*1.0032 -> 0
A12: 301 | B12: Butlovchi qismlar yetkazib beruvchi tashkilotlar orqali tarqatiladigan uskunalar va mahsulotlar: | C12: Оборудование и изделия, распределяемые по линии комплектующих организаций:
A13: 301.01 | B13: IP54 himoya darajasiga ega tashqi elektr taqsimlash shkafi | C13: Щит силовой распределительный для наружной установки со встроенным IP54 | D13: дона/шт | E13: 1 | H13: =+F13*1.17*1.12*1.0032 -> 0
A14: 301.02 | B14: 3 qutbli avtomatik o‘chirgich, 32 A, C-turi | C14: Автоматический выключатель 3Р на 32А, харак.С | D14: дона/шт | E14: 1 | H14: =+F14*1.17*1.12*1.0032 -> 0
A15: 301.03 | B15: 3 qutbli avtomatik o‘chirgich, 25 A, C-turi | C15: Автоматический выключатель 3Р на 25А, харак.С | D15: дона/шт | E15: 1
A16: 301.04 | B16: 3 qutbli avtomatik o‘chirgich, 16 A, C-turi | C16: Автоматический выключатель 3Р на 16А, харак.С | D16: дона/шт | E16: 1
A17: 301.05 | B17: 16 A, 1 qutbli avtomatik o‘chirgich, C xarakteristikasi. | C17: Автоматический выключатель 1Р на16А, харак.С | D17: дона/шт | E17: 4
A18: 301.06 | B18: Bir qutbli avtomatik o‘chirgich, 10 A, C-turi | C18: Автоматический выключатель 1Р на 10А, харак.С | D18: дона/шт | E18: 6
A19: 301.07 | B19: Shina | C19: Шина | D19: комр | E19: 2
A20: 302 | B20: Elektr simlari uchun aksessuarlar: | C20: Электроустановочные изделия:
A21: 302.01 | B21: Quvvati 40 kVt bo‘lgan energiya tejovchi LED yoritgichlar. | C21: Энергосберегающий светодиодные светильники с мощностью 40квт | D21: дона/шт | E21: 30
A22: 302.02 | B22: IP65 himoya darajasiga ega CD LED yoritgichlari | C22: CD LED светодиодные светильники CD со степенью защиты P65 | D22: дона/шт | E22: 20
A23: 302.03 | B23: Kabel taqsimlash uchun ustki o‘rnatiladigan taqsimlash qutisi, IP44 | C23: Ответвительная коробка открытой установки для разводки каб ,IР 44 | D23: дона/шт | E23: 12
A24: 303 | B24: Kabel mahsulotlari: | C24: Кабельные изделия:
A25: 303.01 | B25: Alyuminiy o‘tkazgichli (4x25 mm²), PVX izolyatsiyali va PVX himoya qobiqli kuch kabeli. | C25: Кабель силовой с алюминиевыми жилами кабель 4х25 мм2, изоляцией и защитным шлангом из ПВХ | D25: км | E25: 0.215
A26: 303.02 | B26: Mis o‘tkazgichli, PVX izolyatsiya va qobiqli, kesim yuzasi 3x2,5 mm² bo‘lgan kuch kabeli. | C26: Кабель силовой с медными жилами с ПВХ изоляцией и оболочкой сечением 3х2,5мм2 | D26: км | E26: 0.388
A27: 304 | B27: Quvur mahsulotlari | C27: трубные изделия
A28: 304.01 | B28: Gofrirovka qilingan quvur, 16 mm | C28: Гофра Ф16мм | D28: пм | E28: 360
A29: 304.02 | B29: Yuqori zichlikdagi polietilen (HDPE) quvur, d=40 mm | C29: Труба ПНД д=40мм | D29: пм | E29: 210
A30: 304.03 | B30: Ø16 mm li gofrirovka qilingan quvur uchun mahkamlash qisqichi | C30: Клипса для креплений гофру трубу Ø16 мм | D30: дона/шт | E30: 210
A31: 304.04 | B31: Ø40 mm li gofrirovka qilingan quvur uchun mahkamlash qisqichi | C31: Клипса для креплений гофру трубу Ø40 мм | D31: дона/шт | E31: 110
A32: 304.05 | B32: Uskuna / Metall mahkamlagich | C32: Метиз | D32: кг | E32: 18
A33: 306 | B33: Transformator podstansiyasining 0,4 kV kuchlanishli kirish fideriga o‘rnatish uchun uskunalar. | C33: АППАРАТУРА ДЛЯ УСТАНОВКИ НА ВВОДЕ 0.4КВ сущ. ТП.
A34: 306.01 | B34: Elektron faol va reaktiv energiya hisoblagichi, aniqlik klassi 0,5S, 3×220/380 V, 3×5 A. | C34: Счетчик электронный активной+реактивной энергии кл. 0.5S 3х220/380В 3х5А. | D34: dona/шт | E34: 1
A35: 306.02 | B35: GSM-modem | C35: GSM-модем | D35: dona/шт | E35: 1
A36: 306.03 | B36: 9 zanjirli sinov bloki. | C36: Блок испытательный на 9 цепей. | D36: dona/шт | E36: 1
A37: 306.04 | B37: Avtomatik uzgich, ~220 V, In = 10 A | C37: Автоматический выключатель ~220В, Iнр=10А | D37: dona/шт | E37: 1
A38: 306.05 | B38: Ma'lumot uzatish kabeli, kesimi 4x2x0,5 mm² | C38: Кабель информационный сеч. 4х2х0.5мм2 | D38: м | E38: 5
A39: 306.06 | B39: Mis o‘tkazgichli va 1 × 2,5 mm² kesimli sim | C39: Провод с медной жилой сечением 1х2.5мм2 | D39: м | E39: 5
A40: 306.07 | B40: Plastik zichlovchi qopqoqchalar | C40: Крышки пластиковые для пломбирования | D40: dona/шт | E40: 10
A41: 306.08 | B41: Металлоконструкции (метизы, крепеж). | C41: Металлоконструкции (метизы, крепеж). | D41: кг/шт | E41: 5
A42: 307 | B42: Tekshirish moslamasini va FPni yerga ulash | C42: Заземление контроллера и ЯП
A43: 307.01 | B43: 4x40 GOST 103-2006 Polosali prokat, St3 sp1, GOST 535-2005 | C43: 4х40 ГОСТ 103-2006 Полоса Ст3 сп1 ГОСТ 535-2005 | D43: м/кг | E43: 50/53,91
A44: 307.02 | B44: Sinklangan po‘latdan yasalgan yerga ulash sterjeni, diametri 16 mm, uzunligi 3000 mm | C44: Заземляющий стержень стальной оцинкованный ф16мм, длиной 3000мм | D44: пм | E44: 25
A45: 307.03 | B45: Mis yerga ulash o‘tkazgichi PV 1x16 mm² | C45: Проводник заземляющий медный ПВ 1х16 мм2 | D45: пм | E45: 25
A46: 307.04 | B46: Yerga ulash kontaktiga ega, ustki o‘rnatiladigan rozetka, 220 V, 16 A, IP54 — 2 dona. | C46: Розетка с заземляющим контактом открытой установки, 220В, шт 2 16А, IP54 | D46: дона/шт | E46: 2
A47: 308 | B47: Video kuzatuv | C47: Видеонабдюдения
A48: 308 | B48: Uskuna | C48: Оборудование
A49: 308.01 | B49: 8 portli sanoat PoE-kommutatori | C49: Промышленный коммутатор 8 портовый POE | D49: дона/шт | E49: 1
A50: 308.02 | B50: Optik modul, SFP (ikki tolali SFP moduli, LC dupleks ulagichi, ishchi to‘lqin uzunligi 1310 nm, masofa 10 km gacha (11 dB)). | C50: Оптический модуль, SFP (Двухволоконный модуль, SFP , разъем LC duplex, рабочая длина волны 1310нм, дальность до 10км (11dB).) | D50: дона/шт | E50: 2
A51: 308.03 | B51: IP-kamera (30 metrgacha masofani yorituvchi infraqizil (IR) chiroqqa ega 4 MP li gumbazsimon IP-kamera) | C51: Видеокамера IP (4 Мп купольная IP-камера с ИК-подсветкой до 30м) | D51: дона/шт | E51: 6
A52: 308.04 | B52: O‘tkazuvchi terminallarga ega 2 qutbli avtomatik o‘chirgich | C52: 2-х полюсный автомат защиты c проходные клеммами | D52: дона/шт | E52: 1
A53: 308.05 | B53: O‘tkazuvchi terminallarga ega avtomatik uzgich | C53: Автомат защита c проходными клеммами | D53: дона/шт | E53: 1
A54: 308.06 | B54: O‘rnatish qutisi (PVX) | C54: Монтажная коробка (ПВХ) | D54: дона/шт | E54: 6
A55: 308.07 | B55: 16 kanalli IP-videoregistrator (tarmoq videoregistratori) | C55: IP Видеорегистратор 16 канальный (является сетевым видеорегистратором) | D55: дона/шт | E55: 1
A56: 308.08 | B56: 6 TB sig‘imli qattiq disk | C56: Жесткий диск 6TB | D56: дона/шт | E56: 6
A57: 309 | B57: materiallar | C57: материалы
A58: 309.01 | B58: Har qanday ob-havo sharoitiga chidamli tashqi shkaf | C58: Шкаф уличный всепогодный | D58: дона/шт | E58: 1
A59: 309.02 | B59: Rozetkalar, pigteyllar, adapterlar va ulash joyini himoyalovchi gilzalar bilan jihozlangan optik taqsimlash qurilmasi. | C59: Оптический кросс , укомплектованный розетками, пигтейлами, адаптерами и КДЗС | D59: дона/шт | E59: 1
A60: 309.03 | B60: Yerga ulash shinasi | C60: Шина заземления | D60: дона/шт | E60: 1
A61: 309.04 | B61: Shteker korpusi | C61: Колодка вилка | D61: дона/шт | E61: 1
A62: 309.05 | B62: LC-LC SM (bir rejimli) optik tolali patch-kord | C62: Патч-корд оптический LC-LC SM (одномодовые) | D62: дона/шт | E62: 2
A63: 309.06 | B63: Bir rejimli optik tola uchun LC-LC o‘tish adapteri | C63: Адаптер проходной LC-LC для одномодового | D63: дона/шт | E63: 4
A64: 309.07 | B64: SC/UPC SM 0,9 mm optik tolali pigtail | C64: Пигтейл оптический SC/UPC SM 0.9мм | D64: дона/шт | E64: 8
A65: 309.08 | B65: UTP Cat 6e (to‘rtta o‘ralgan juftlikdan iborat signal uzatish kabeli turi) | C65: UTP cat 6е (тип кабеля для передачи сигналов, состоящий из 4 витых пар) | D65: пм | E65: 225
A66: 309.09 | B66: Tashqi mustahkamlovchi elementga (po‘lat sim) ega bo‘lgan, 4 ta tolali, havo liniyalari uchun mo‘ljallangan bir modulli optik kabel. | C66: Кабель оптический с вынесенным силовым элементом (стальная проволока), подвесной,одномодульный, 4 волокна | D66: пм | E66: 330
A67: 309.10 | B67: Ø20 (PVX) qisqichlar | C67: Клипсы Ф20 (ПВХ) | D67: дона/шт | E67: 200
A68: 309.11 | B68: GFZ 20 (PVX) gofrirovka qilingan quvur | C68: Гофротруба ГФЗ 20 (ПВХ) | D68: пм | E68: 555
B69: Yer osti gaz quvurlari | C69: ПОДЗЕМНЫЕ ГАЗОПРОВОДЫ
A70: 3010 | B70: Yer ishlari | C70: Земляные работы
A71: 3010.01 | B71: Quruq tuproqda (tuproq guruhi...) bir cho‘michli orqa kovshli ekskavator (0,5 m³) yordamida tuproqni yon tomonga tashlab xandaq qazish. | C71: Разработка грунта в траншеях в отвал одноковшовым экскаватором с обратной лопатой (0,5 м3) в сухих грунтах группа грунтов | D71: m3; | E71: 123.64
A72: 3010.02 | B72: Quruq II guruh tuproqlarida, devorlarini mahkamlashsiz va qazilgan tuproqni chetga tashlash bilan xandaqlarni qo‘lda qazish. | C72: Разработка грунта вручную в траншеях в сухих грунтах II группы без крепление в отвал | D72: m3; | E72: 13.49
A73: 3010.03 | B73: Quruq tuproqda mexanizmlar yordamida qazilgan xandaqlarni qo‘lda pardozlash, shu jumladan, ularning tubi va devorlarini tekislash. | C73: Доработка траншей вручную грунта с зачисткой дна и стенок, разрабатываемых механическим способом в сухих грунтах | D73: m3/м3 | E73: 4.27
A74: 3010.04 | B74: Quvur uchun yumshoq tuproqli (qumli) to‘shama qurish | C74: Устройство подушки из мягкого грунта под трубу(песок) | D74: m3/м3 | E74: 5,5
A75: 3010.05 | B75: Ariqlarni belgilangan balandlikkacha yumshoq tuproq bilan qo‘lda ko‘mish, shu jumladan, quvurning yon qismlari (yon tayanchlari) ostidagi tuproqni dastlabki tarzda zichlash. | C75: Засыпка траншей мягким грунтом вручную на высоту с предварительной подбивкой пазух | D75: м3 | E75: 28,18
A76: 3010.06 | B76: Buldozer yordamida xandaqni qatlamma-qatlam zichlagan holda ko‘mish. | C76: Засыпка траншеи бульдозером с послой_x001F_ным уплотнением | D76: м3 | E76: 100,28
A77: 3011 | B77: Yer osti gaz quvurini o‘rnatish | C77: Монтаж подземного газопровода
A78: 3011.01 | B78: Po‘lat quvurlarga yuqori mustahkamlikka ega korroziyaga qarshi bitum-polimer izolyatsiyani qo‘llash | C78: Нанесение весьма усиленной антикоррозионной битумно-полимерной изоляции на стальные трубопроводы | D78: Д м | E78: Ду 530 54
A79: 3011.02 | B79: Izolyatsiyalangan po‘lat gaz quvurlarini (273x8 mm, GOST 10704-91, Vst2sp2, GOST 10704-80) xandaqqa yotqizish. | C79: Укладка в траншею изолированных стальных газопроводов-273х8м ГОСТ 10704-91 Вст2сп2 ГОСТ 10704-80 | D79: пм | E79: 55
A80: 3011.03 | B80: Gaz quvurining mustahkamlik va zichlikka sinovdan o‘tkazilishi jarayonida 1,2 MPa gacha bo‘lgan bosim ostida ushlab turish. | C80: Выдержка под давлением до 1,2 МПа при испытании на прочность и герметичность газопровода | D80: дона/шт | E80: 1
A81: 3011.04 | B81: 30s41nzh rusumli zadvijkani quduqqa o‘rnatish | C81: стройство задвижки 30с41нж в колодце | D81: дона/шт | E81: 1
A82: 3011.05 | B82: Kuzatuv quvuri | C82: Контрольная труба | D82: дона/шт | E82: 4
A83: 3011.06 | B83: Ochiq usulda himoya g‘ilofini o‘rnatish: | C83: Устройство кожуха открытом способом:
A84: 3011.07 | B84: Qoplovchi quvur (D 530x8): NK-50 grunti ustiga "Polilen 40-LI-63" polimer lentasi yordamida bir qatlamli qoplama va "Polilen 40-OB-63" tashqi o‘ram qatlami qo‘llanilgan. | C84: Футляр Д 530х8 Изоляция кожуха полимерной лентой "Полилен 40-ЛИ-63" в один слой с обреткой "Полилен 40-ОБ-63" в один слой праймеру НК-50. | D84: м шт | E84: 54 41+13
A85: 3011.08 | B85: Diametri 530 mm bo‘lgan g‘ilof quvur uchlarini bitum va arqon (ipak) yordamida zichlash. | C85: Заделка битумом и прядью концов футляра диаметром 530 мм | D85: дона/шт | E85: 4
A86: 3011.09 | B86: Quvurlarni g‘ilofga tortib kiritish | C86: Протаскивание в футляр труб | D86: пм | E86: 54
A87: 3011.10 | B87: D-530M g‘ilofidagi monitoring quvuri konstruksiyasi | C87: Устройство контрольной трубки на кожухе Д-530м | D87: дона/шт | E87: 4
A88: 3011.11 | B88: Gaz quvurini qoplash | C88: Футеровка газопровода | D88: м2 | E88: 0,089
A89: 3011.12 | B89: Fiting (mufta) yordamida ishchi holatdagi gaz quvuriga (DN 250/250) "hot tapping" (quvurni to‘xtatmasdan ulash) usulini qo‘llash | C89: Врезка штуцером (муфтой) в действующий газопровод Д 250/250 | D89: Ду шт | E89: 2
A90: 3011.13 | B90: Payvand choklarini rentgenografik tekshirish – 50% (po‘lat) | C90: Контроль сварных стыков радио-графическим методом – 50% (сталь) | D90: дона/шт | E90: 1
A91: 3011.14 | B91: Ko‘rik qudug‘i — G4 IIk-2.0 | C91: Колодец - Г4 IIк-2,0 | D91: дона/шт | E91: 1
B92: ҚАЙДНОМА 300 БЎЙИЧА ЖАМИ (жамлама қайдномага ўтказиш билан) | C92: ИТОГО ПО ВЕДОМОСТИ № 400 (с переносом в сводную ведомость) | G92: =SUM(G11:G75) -> 0
B93: Abbreviations/Сокращенные Обозначения
B94: m3/м3=cubic meter/метр кубический | C94: m2/м2=square meter/квадратный метр

Sheet BILL400
A1: ҚАЙДНОМА № 400 ЕР ИШЛАРИ
A2: ВЕДОМОСТЬ №400 ЗЕМЛЯНЫЕ РАБОТЫ
C4: =+'Grand Summary'!C4:E4 -> "М-39" халқаро автомобил йўлининг Зангиота туманидан ўтган аҳоли гавжум бўлган 819 км қисмида пиёдалар учун хавфсиз ер ости ўтиш йўлагини қуриш (ПҚ-165 ФРРУ) обектининг ишчи лойиҳасини ишлаб чиқишга
A6: No. | B6: Тавсифи | C6: Описание | D6: Ўлч.бирл. Ед. изм. | E6: С о ни Количество | F6: Нарх ўлч.бирл. Стоим. ед.изм. | G6: Нархи Стоимость
B7: Техник спецификация 400 бўлимига Ҳавола | C7: Ссьтка на Технические Спецификации Раздела 400
A8: 401 | B8: Сув чиқариш тизими | C8: 6. Водоотвод
A9: 401.01.1 | B9: Қуввати Q=7 м³/соат, босими H=10 м, электр двигатели қуввати N=0,7 кВт бўлган дренаж насоси. | C9: Дренажный насос Q=7м³/c, H=10м, N=0,7квт | D9: дона/шт | E9: 1
A10: 401.01.2 | B10: PolyMax Basic ЛВ-10.15.06-ПП русумли пластик сув чиқариш новини панжаралари билан бирга ўрнатиш (L=36,6 п.м.). | C10: Лоток водоотводный с решетками PolyMax Basic ЛВ-10.15.06-ПП пластиковый 8050. L=36,5пм | D10: м/м | E10: 36.5 | G10: =+F10*E10 -> 0
A11: 401.01.3 | B11: L50×32 ўлчамли пўлат бурчаклик. | C11: Уголок L №50/32 | D11: ton/тонн | E11: 0.01
A12: 401.01.4 | B12: L40×25 ўлчамли пўлат бурчаклик. | C12: Уголок L №40/25 | D12: ton/тонн | E12: 0.066 | G12: =+F12*E12 -> 0
A13: 401.01.5 | B13: L63×40 ўлчамли пўлат бурчаклик. | C13: Уголок L №63/40 | D13: ton/тонн | E13: 0.32
A14: 401.01.6 | B14: Ø6,5 мм ли А240 синфли пўлат стерженли арматура. | C14: Стальная стержн. арматура Ø6,5 мм. А240 | D14: ton/тонн | E14: 0.003
A15: 401.01.7 | B15: 200×150×10 мм ўлчамли пўлат лист. | C15: Стальной лист 200х150х10мм | D15: ton/тонн | E15: 0.083
A16: 401.01.8 | B16: Диаметри 50 мм бўлган электрпайвандланган пўлат қувурлар. | C16: Трубы электросварные D 50мм | D16: ton/тонн | E16: 0.0721
A17: 401.01.9 | B17: В22,5 маркали бетондан сув қабул қилувчи қудуқни қуриш. | C17: Устройство водоприёмного колодца из бетона В22,5 | D17: m3/м3 | E17: 1.2
A18: 401.01.10 | B18: Ø6,5 мм ли А240 синфли пўлат стерженли арматура. | C18: Арматура А240 Æ 6,5 | D18: ton/тонн | E18: 0.01
A19: 401.01.11 | B19: ПВХ 400 кувур | C19: дренажная труба ПВХ ∅ 400 | D19: м/м | E19: 76
B20: ҚАЙДНОМА 400 БЎЙИЧА ЖАМИ (жамлама қайдномага ўтказиш билан) | C20: ИТОГО ПО ВЕДОМОСТИ № 400 (с переносом в сводную ведомость) | G20: =SUM(G10:G12) -> 0
B21: Abbreviations/Сокращенные Обозначения
B22: m3/м3=cubic meter/метр кубический | C22: m2/м2=square meter/квадратный метр

Sheet BILL600
B1: ҚАЙДНОМА № 600 - Остки қатлам, асос ва йўл четлари
B2: ВЕДОМОСТЬ №600 ПОДСТИЛАЮЩИЙ СЛОЙ, ОСНОВАНИЕ И ОБОЧИНЫ
C4: =+'Grand Summary'!C4:E4 -> "М-39" халқаро автомобил йўлининг Зангиота туманидан ўтган аҳоли гавжум бўлган 819 км қисмида пиёдалар учун хавфсиз ер ости ўтиш йўлагини қуриш (ПҚ-165 ФРРУ) обектининг ишчи лойиҳасини ишлаб чиқишга
A6: No. | B6: Тавсифи | C6: Описание | D6: Ўлч.бирл. Ед. изм. | E6: Сон и Количество | F6: Нарх ўлч.бирл. Стоим. ед.изм. | G6: Нархи Стоимость
B7: Техник спецификация 600 бўлимига Ҳавола ва контракт чизмалари | C7: Ссьшка на Технические Спецификации Раздела 600, и контрактнье чертежи
A8: 601 | B8: Гранулаланган Асос қатламлари | C8: Подстилающий слой/слои основания и обочины из гранулированного материала
B9: 4.1. Asos qatlamni yotqizsh | C9: 4.1. Устройство основания
A10: 601.01 | B10: Qalinligi h=39sm bo'lgan QSHA dan asos yotqizish | C10: устройство нижный слой основании из ГПС 39 см | D10: m3/м3 | E10: 145.1
A11: 601.02 | B11: Mustahkamlik bo‘yicha 75-marka talablariga javob beradigan, sement bilan ishlangan shag‘al-qum aralashmasidan 16 sm qalinlikdagi qatlam qurish. | C11: Устройство гравийно-песчаные смеси, обработанные цементом, по прочности соответствующие марке 75 толщиной 16 см | D11: m2/м2 | E11: 318
B12: ҚАЙДНОМА 600 БЎЙИЧА ЖАМИ (жамлама қайдномага ўтказиш билан) | C12: ИТОГО ПО ВЕДОМОСТИ № 600 (с переносом в сводную ведомость)
B13: Abbreviations/Сокращенные Обозначения
B14: m2/м2=square meter/квадратный метр

Sheet Bill700 
B1: ҚАЙДНОМА №700 БИТУМЛИ ҚОПЛАМА
B2: ВЕДОМОСТЬ №700 ПОКРЫТИЯ С ПРИМЕНЕНИЕМ БИТУМА
C4: =+'Grand Summary'!C4:E4 -> "М-39" халқаро автомобил йўлининг Зангиота туманидан ўтган аҳоли гавжум бўлган 819 км қисмида пиёдалар учун хавфсиз ер ости ўтиш йўлагини қуриш (ПҚ-165 ФРРУ) обектининг ишчи лойиҳасини ишлаб чиқишга
A6: No. | B6: Тавсифи | C6: Описание | D6: Ўлч.бирл. Ед. изм. | E6: С о н и Количество | F6: Нарх ўлч.бирл. Стоим. ед.изм. | G6: Нархи Стоимость
B7: Техник спецификация 700 бўлимига Ҳавола ва контракт чизмалари | C7: Ссьшка на Технические Спецификации Раздела 700 и контрактнье чертежи
A8: 701 | B8: 4.2. Qoplamani yotqizish | C8: 4.2. Устройство покрытия | G8: =+F8*E8 -> 0
A9: 701.01.1 | B9: Asos ustidan 0,5l/m2 hisobida bitum sepish | C9: Подгрунтовка оснований битумом из расчета 0,5 л/м2 | D9: ton/тонн | E9: 0.16 | G9: =+F9*E9 -> 0
A10: 701.01.2 | B10: GOST 9128-2013 bo'yicha qalinligi h = 9 sm bo'lgan, I darajali B tipidagi issiq g'ovakli, dag'al donador asfaltbeton aralashmasidan yasalgan qoplamaning pastki qatlamini qurish | C10: Устройство асфальтоукладчиком нижнего слоя покрытия из горячей пористой крупнозернистой асфальтобетонной смеси типа Б марки I, толщиной 9 см | D10: m2/м2 | E10: 318 | G10: =+F10*E10 -> 0
B11: Asosning yuqori qatlamini 0,2 l/m2 hisobida bitum sepish | C11: Подгрунтовка верхнего слоя основания битумом из расчета 0,2л/м2 | D11: ton/тонн | E11: 0.06
A12: 701.01.3 | B12: Qoplamaning ustki qatlami I darajali B tipidagi issiq mayda , dag'al donador asfaltbeton aralashmasidan yasalgan qoplamaning pastki qatlamini qurish h = 0,06 m | C12: Устройство верхнего слоя покрытия из горячей плотной мелкозернистой асфальтобетонной смеси типа Б марки I, толщиной 6 см асфальтоукладчиком | D12: m2/м2 | E12: 318 | G12: =+F12*E12 -> 0
B13: ҚАЙДНОМА 700 БЎЙИЧА ЖАМИ (жамлама қайдномага ўтказиш билан) | C13: ИТОГО ПО ВЕДОМОСТИ № 700 (с переносом в сводную ведомость) | G13: =SUM(G9:G12) -> 0
B14: Abbreviations/Сокращенные Обозначения
B15: m2/м2=square meter/квадратный метр

Sheet BILL900
B1: ҚАЙДНОМА № 900 - ЙЎЛНИ МУҲАНДИСЛИК ЖИҲОЗЛАШ
B2: ВЕДОМОСТЬ №900 ИНЖЕНЕРНОЕ ОБУСТРОЙСТВО ДОРОГИ
C4: =+'Grand Summary'!C4:E4 -> "М-39" халқаро автомобил йўлининг Зангиота туманидан ўтган аҳоли гавжум бўлган 819 км қисмида пиёдалар учун хавфсиз ер ости ўтиш йўлагини қуриш (ПҚ-165 ФРРУ) обектининг ишчи лойиҳасини ишлаб чиқишга
A6: No. | B6: Тавсифи | C6: Описание | D6: Ўлч.бирл. Ед. изм. | E6: С о н и Количество | F6: Нарх ўлч.бирл. Стоим. ед.из | G6: Нархи Стоимость
B7: Техник спецификация 900 бўлимига Ҳавола ва контракт чизмалари | C7: Ссылка на Технические Спецификации Раздела 900 и контрактнье чертежи
A8: 901 | B8: III. Sun'iy inshootlar | C8: III. Искусственные сооружение
B9: 1.1. Temir-beton novlarni yotqizish | C9: 1.1. Укладка ж/бетонных лотков
A10: 901.01 | B10: Qalinligi h=10sm bo'lgan QSHA dan asos yotqizish | C10: Устройство основания из ГПС,толщиной h=10см | D10: m3/м3 | E10: 0.18 | G10: =+F10*E10 -> 0
A11: 901.02 | B11: LP-6 m (yangi) yangi temir-beton novlarni yotqizish | C11: Укладка ж/б лотков новых 6 м | D11: пм | E11: 36 | G11: =+F11*E11 -> 0
A12: 902 | B12: 1,2. Novdan suvni to'kish uchun d-100 mm polietilen quvurlarni yotqizish | C12: 1.2. Устройства монолитного лотка лотки
A13: 902.01 | B13: B-20 betonidan yasalgan monolit beton qopqoqlarni qurish | C13: Устройство монолитных бетонных лотка из бетона В-20 | D13: m3/м3 | E13: 62.9
A14: 902.02 | B14: QSHA dan asos yotqizish | C14: подготовка из ГПС | D14: m3/м3 | E14: 15
A15: 902.03 | B15: мембрана урнатиш | C15: Устройства мембраны | D15: m2/м2 | E15: 525
A16: 902.04 | B16: арматура А400 | C16: арматура А400 | D16: ton/тонн | E16: 6.049
A17: 903 | B17: 1.3 Piyodalar yo'lakchalarini qurish | C17: 1.3 Устройство тротуаров
A18: 903.01 | B18: Qalinligi h=5sm bo'lgan QSHA dan asos yotqizish | C18: Устройство основания из гравийно-песчаного смеси, толщиной 5 см | D18: m3/м3 | E18: 20.85
A19: 903.02 | B19: B-22.5 sinfidagi monolit betondan yasalgan qoplamalar, qalinligi h - 10 sm | C19: Покрытия из монолитьного бетона класс Б-22.5, толщиной h - 10 см | D19: m2/м2 | E19: 417
A20: 903.03 | B20: тактил плита | C20: тактилная плита | D20: dona/шт | E20: 687
A21: 903.04 | B21: ураб туручи столб | C21: ограждающий столбик | D21: dona/шт | E21: 50
B22: ҚАЙДНОМА 900 БЎЙИЧА ЖАМИ (жамлама қайдномага ўтказиш билан) | C22: ИТОГО ПО ВЕДОМОСТИ № 900 (с переносом в сводную ведомость) | G22: =SUM(G10:G21) -> 0
B23: Abbreviations/Сокращенные Обозначения
B24: lm/пм=linear meter/погонный метр | C24: m2/м2=square meter/квадратный метр
B25: No/Шт=number/штук

Sheet BILL1100
B1: BILL №1100 CONCRETE AND BRIDGES
B2: ВЕДОМОСТЬ №1100 БЕТОННЫЕ КОНСТРУКЦИИ И МОСТЫ
A3: Package No.
A4: Package Name | C4: D111 "ЖИЙДАКАПА К. – УЙЧИ Ш. – ЧОРТОК Ш. – ЯНГИКУРГОН Ш. – ЗАРКЕНТ К. – НАНАЙ К. – КИРГИСТОН РЕСПУБЛИКАСИ ЧЕГАРАСИ" АВТОМОБИЛЬ ЙУЛИНИНГ 15 КМ КИСМИДА ЖОЙЛАШГАН КУПРИКНИ РЕКОНСТРУКЦИЯ КИЛИШ
A5: Bidder Name
A6: Bill Item No. | B6: Description | C6: Описание | D6: Contract Bill of Quantity
D7: Unit Ед. изм. | E7: Total Итого | F7: Rate Стоим. ед.изм. USD | G7: Amount Стоимость USD
B8: Техник талаблар – 1100-бўлим: Умумий талаблар 1101. соҳанинг таърифи | C8: Ссылка на Технические Спецификации Раздела 1100
A9: 1101
A10: 1102.1.1 | B10: 4×2,5 м ўлчамли темир-бетон тўғри тўртбурчакли қувурни (Б95) ўрнатиш. | C10: Устройство ж.б. прямоугольной трубы 4х2,5м (Б95)
A11: 1102.1.2 | B11: ҚША (қум-шағал аралашмаси)дан 20 см қалинликда асос қатламини қуриш. | C11: Устройство ГПС, t=20см | D11: m3/м3 | E11: 40
A12: 1102.1.3 | B12: Қалинлиги 10 см бўлган бетон тайёрлов қатламини қуриш. | C12: Устройство бетон подготовки h=10см | D12: m3/м3 | E12: 20
A13: 1102.1.4 | B13: Арматура тўрлари ва каркасларини ўрнатган ҳолда В25 F200 маркали монолит темир-бетон пойдеворни қуриш. | C13: Устройство монолитного ж.б. фундамент с установкой арматурных сеток и каркасов Бетон В 25 F200 | D13: m3/м3 | E13: 76.8
A14: 1102.1.5 | B14: Ø14 мм ли А400 синфли пўлат стерженли арматура. | C14: Стальная стержн. арматура Ø14 мм. А400 | D14: ton/тонн | E14: 4.575
A15: 1102.1.6 | B15: Ø12 мм ли А400 синфли пўлат стерженли арматура. | C15: Стальная стержн. арматура Ø12 мм. А400 | D15: ton/тонн | E15: 0.276
A16: 1102.1.7 | B16: В-I русумли боғлаш сими. | C16: Вязальная проволока В- I | D16: m3/м3 | E16: 0.0243
A17: 1102.1.8 | B17: В25 F200 маркали ЗП40.25.10-2 русумли йиғма темир-бетон тўғри тўртбурчакли қувур звеноларининг қиймати ва уларни ўрнатиш. | C17: Стоимость и установка сборных ж.б. прямоугольных труб марки ЗП40.25.10-2 (Б 95) под звенья труб, В25 F200 | D17: m3/м3 | E17: 131.34
A18: 1102.1.9 | B18: Тўғри тўртбурчакли қувур устига В25 маркали монолит бетон қуйиш. | C18: Устройство монолитного бетон над прямоугольной трубы, В25 | D18: m3/м3 | E18: 305.14
A19: 1102.1.10 | B19: Ø12 мм ли А400 синфли пўлат стерженли арматура. | C19: Стальная стержн. арматура Ø12 мм. А400 | D19: ton/тонн | E19: 2.685
A20: 1102.1.11 | B20: В-I русумли боғлаш сими. | C20: Вязальная проволока В- I | D20: ton/тонн | E20: 0.013
A21: 1102 | B21: Ўнг томон зинапоя тушиш қисми. | C21: Лестничный сход Правая часть
A22: 1102.01.1 | B22: Қалинлиги 10 см бўлган ҚША (қум-шағал аралашмаси)дан тайёрлов қатламини қуриш. | C22: Устройство подготовки из ГПС h=15см | D22: m3/м3 | E22: 30.4
A23: 1102.01.2 | B23: Қалинлиги 10 см бўлган бетон тайёрлов қатламини қуриш | C23: Устройство бетон подготовки h=10см | D23: m3/м3 | E23: 20.26
A24: 1102.01.3 | B24: Арматура тўрлари ва каркасларини ўрнатган ҳолда В25 F200 маркали монолит темир-бетон пойдевор ва зиналарни (туб қисми) қуриш. | C24: Устройство монолитного ж.б. Фундамента и ступеней с установкой арматурных сеток и каркасов (Днища) Бетон В 25 F200 | D24: m3/м3 | E24: 58
A25: 1102.01.4 | B25: Ø12 мм ли А400 синфли пўлат стерженли арматура. | C25: Стальная стержн. арматура Ø12 мм. А400 | D25: ton/тонн | E25: 4.687
A26: 1102.01.5 | B26: Ø6,5 мм ли А240 синфли пўлат стерженли арматура. | C26: Стальная стержн. арматура Ø6,5 мм. А240 | D26: ton/тонн | E26: 0.149
A27: 1102.01.6 | B27: В-I русумли боғлаш сими. | C27: Вязальная проволока В- I | D27: ton/тонн | E27: 0.024
A28: 1102.01.7 | B28: Гранит қоплама остига қалинлиги 20 мм бўлган цемент-қум қоришмасини ётқизиш. | C28: Цементно-песчаный раствор под гранит толщ. 20мм | D28: m3/м3 | E28: 1.75
A29: 1102.01.8 | B29: Гранит зина босқичларини ўрнатиш. | C29: Гранитные проступи | D29: m2/м2 | E29: 88
A30: 1102.01.9 | B30: Арматура тўрлари ва каркасларини ўрнатган ҳолда В25 F200 маркали монолит темир-бетон деворларни қуриш. | C30: Устройство монолитного ж.б. стен с установкой арматурных сеток и каркасов Бетон В 25 F200 | D30: m3/м3 | E30: 97.3
A31: 1102.01.10 | B31: Ø28 мм ли А400 синфли пўлат стерженли арматура. | C31: Стальная стержн. арматура Ø28 мм. А400 | D31: ton/тонн | E31: 6.658
A32: 1102.01.11 | B32: Ø22мм ли А400 синфли пўлат стерженли арматура. | C32: Стальная стержн. арматура Ø22мм. А400 | D32: ton/тонн | E32: 1.976
A33: 1102.01.12 | B33: Ø18 мм ли А400 синфли пўлат стерженли арматура. | C33: Стальная стержн. арматура Ø18 мм. А400 | D33: ton/тонн | E33: 6.23
... A36: 1102.01.15 | B36: В-I русумли боғлаш сими. | C36: Вязальная проволока В- I | D36: ton/тонн | E36: 0.086
A37: 1103 | B37: Ўнг томон зинапоя тушиш қисми. | C37: Лестничный сход Левая часть
A38: 1103.01.1 | B38: Қалинлиги 10 см бўлган ҚША (қум-шағал аралашмаси)дан тайёрлов қатламини қуриш. | C38: Устройство подготовки из ГПС h=15см | D38: m3/м3 | E38: 32.8
A39: 1103.01.2 | B39: Қалинлиги 10 см бўлган бетон тайёрлов қатламини қуриш | C39: Устройство бетон подготовки h=10см | D39: m3/м3 | E39: 21.86
A40: 1103.01.3 | B40: Арматура тўрлари ва каркасларини ўрнатган ҳолда В25 F200 маркали монолит темир-бетон пойдевор ва зиналарни (туб қисми) қуриш. | C40: Устройство монолитного ж.б. Фундамента и ступеней с установкой арматурных сеток и каркасов (Днища) Бетон В 25 F200 | D40: m3/м3 | E40: 57.3
A41: 1103.01.4 | B41: Ø12 мм ли А400 синфли пўлат стерженли арматура. | C41: Стальная стержн. арматура Ø12 мм. А400 | D41: ton/тонн | E41: 4.59
A42: 1103.01.5 | B42: Ø6,5 мм ли А240 синфли пўлат стерженли арматура. | C42: Стальная стержн. арматура Ø6,5 мм. А240 | D42: ton/тонн | E42: 0.08
A43: 1103.01.6 | B43: В-I русумли боғлаш сими. | C43: Вязальная проволока В- I | D43: ton/тонн | E43: 0.023
A44: 1103.01.7 | B44: Гранит қоплама остига қалинлиги 20 мм бўлган цемент-қум қоришмасини ётқизиш. | C44: Цементно-песчаный раствор под гранит толщ. 20мм | D44: m3/м3 | E44: 1.75
A45: 1103.01.8 | B45: Гранит зина босқичларини ўрнатиш. | C45: Гранитные проступи | D45: m2/м2 | E45: 88
A46: 1103.01.9 | B46: Арматура тўрлари ва каркасларини ўрнатган ҳолда В25 F200 маркали монолит темир-бетон деворларни қуриш. | C46: Устройство монолитного ж.б. стен с установкой арматурных сеток и каркасов Бетон В 25 F200 | D46: m3/м3 | E46: 94.3
A47: 1103.01.10 | B47: Ø28 мм ли А400 синфли пўлат стерженли арматура. | C47: Стальная стержн. арматура Ø28 мм. А400 | D47: ton/тонн | E47: 6.22
A48: 1103.01.11 | B48: Ø22мм ли А400 синфли пўлат стерженли арматура. | C48: Стальная стержн. арматура Ø22мм. А400 | D48: ton/тонн | E48: 1.82
A49: 1103.01.12 | B49: Ø18 мм ли А400 синфли пўлат стерженли арматура. | C49: Стальная стержн. арматура Ø18 мм. А400 | D49: ton/тонн | E49: 5.93
... A52: 1103.01.15 | B52: В-I русумли боғлаш сими. | C52: Вязальная проволока В- I | D52: ton/тонн | E52: 0.0834
A53: 1104 | B53: Тоннелни архитектуравий безаш ишлари. | C53: Архитектурное оформление тоннеля
A54: 1104.01.2 | B54: Тоннел полига қалинлиги 20 мм бўлган М150 маркали цемент қоришмаси устига ғадир-будур юзали мармар брекчиясидан мозаик пол қопламасини ётқизиш. | C54: Устройство мозаичного пола тоннеля (мраморная брекчия с шероховатой поверхностью) на цементном растворе М150 20мм | D54: m3/м3 | E54: 2.205
A55: 1104.01.3 | B55: Тоннел мозаик полини қуриш. | C55: мозаичного пола тоннеля | D55: m2/м2 | E55: 125.4
A56: 1104.01.4 | B56: Қалинлиги 1 см бўлган кафель қопламасини етказиб бериш ва ўрнатиш. | C56: Стоимость и устройство кафель тоннела h=1см | D56: m2/м2 | E56: 678.55
A57: 1104.01.5 | B57: ташки томонга гранит урнатиш | C57: Гранит на внешный стороны стены тоннеля 30мм | D57: m2/м2 | E57: 174.7
A58: 1104.01.6 | B58: 50×50 мм катакли, Ø3 мм ли металл тўр. | C58: Металлическая сетка 50x50 ∅3мм | D58: ton/тонн | E58: 1.5
A59: 1104.01.7 | B59: Металл тўрни маҳкамлаш учун Ø6,5 мм, узунлиги 17 см, оғирлиги 0,045 кг бўлган анкерлар. | C59: Анкера для навешивания сетки ∅6.5мм L=17см, вес-0,045кг | D59: ton/тонн | E59: 0.343
A60: 1104.01.8 | B60: Alucobond панеллари учун 25×40×3 мм ўлчамли зангламас пўлат профил. | C60: Профиль для алюкобонд из нержавейки профиль 25х40х3 | D60: ton/тонн | E60: 743
A61: 1104.01.9 | B61: ALUKOBOND алюминий панелларини қўлда қоплаш (қиймати ва ўрнатиш). | C61: Стоимость и обшивка алюминиевыми панелями вручную (ALUKOBOND) | D61: m2/м2 | E61: 139.3
A62: 1104.1 | B62: Ёрдамчи хона | C62: Подсобное помещение
A63: 1104.1.01 | B63: В25 F200 маркали ЗП40.25.10-2 русумли йиғма темир-бетон тўғри тўртбурчакли қувур звеноларини етказиб бериш ва ўрнатиш. | C63: Стоимость и установка сборных ж.б. прямоугольных труб марки ЗП40.25.10-2 (Б 95) под звенья труб, В25 F200 | D63: m3/м3 | E63: 11.94
A64: 1104.1.02 | B64: Қалинлиги 10 см бўлган ҚША (қум-шағал аралашмаси) тайёрлов қатламини қуриш. | C64: Устройство подготовки из ГПС h=10см | D64: m3/м3 | E64: 2.65
A65: 1104.1.03 | B65: В15 маркали бетондан қалинлиги 10 см бўлган монолит бетон тайёрлов қатламини қуриш. | C65: Устройство монолитной бетонной подготовки h=10см бетон В15 | D65: m3/м3 | E65: 2.47
A66: 1104.1.04 | B66: Ёрдамчи хона учун СТм-1 русумли монолит темир-бетон торц деворини қуриш. | C66: Торцовая монолитная ж/б стена СТм-1 подc. помещение | D66: m3/м3 | E66: 5.54
A67: 1104.1.05 | B67: Ø12 мм ли А400 синфли пўлат стерженли арматура. | C67: Стальная стержн. арматура Ø12мм. А400 | D67: ton/тонн | E67: 0.32
A68: 1104.1.06 | B68: В-I русумли боғлаш сими. | C68: Вязальная проволока В- I | D68: ton/тонн | E68: 0.002
A69: 1104.1.07 | B69: 80×200 см ўлчамли металл эшикни етказиб бериш ва ўрнатиш. | C69: Металическая Двер для подсобний помещщения 80/200см | D69: дона/шт | E69: 1
A70: 1105 | B70: Ёпма фермаси (навес) | C70: Ферма перекрытыя (навес)
A71: 1105.1.2 | B71: 100x100x6 мм квадрат металл профил қувурлардан навес фермасини тайёрлаш ва ўрнатиш. | C71: Стоимость и изготовление фермы для навеса из металлических квадратных профильных труб 100х100х6,0 | D71: ton/тонн | E71: 2.2
A72: 1105.1.3 | B72: 100x80x3 мм квадрат металл профил қувурлардан навес фермасини тайёрлаш ва ўрнатиш. | C72: Стоимость и изготовление фермы для навеса из металлических квадратных профильных труб 100х80х3.0 | D72: ton/тонн | E72: 3.2
A73: 1105.1.4 | B73: 60х40х3 мм квадрат металл профил қувурлардан навес фермасини тайёрлаш ва ўрнатиш. | C73: Стоимость и изготовление фермы для навеса из металлических квадратных профильных труб 60х40х3 | D73: ton/тонн | E73: 2.5
A74: 1105.1.5 | B74: лексан | C74: Стоимость и монтаж кровля из монолитного поликорбанотного материала | D74: m2/м2 | E74: 408
A75: 1105.1.6 | B75: Чиниқтирилган шиша. | C75: Каленое стекло | D75: m2/м2 | E75: 172.8
A76: 1106 | B76: Панжара (перила) | C76: Периллного ограждения
A77: 1106.1.2 | B77: Ø48×3,0 мм пўлат қувурдан перилани тайёрлаш ва ўрнатиш. | C77: Стоимость и изготовление перилла трубы сталъные Трубы сталъные ∅48х3.0 | D77: ton/тонн | E77: 0.0103
A78: 1106.1.3 | B78: 40×2,0 мм металл профилдан перилани тайёрлаш ва ўрнатиш. | C78: Стоимость и изготовление перилла металлическихсталъное 40х2.0 | D78: ton/тонн | E78: 0.533
A79: 1106.1.4 | B79: Ø12 мм ли А400 синфли пўлат стерженли арматура. | C79: Стальная стержн. арматура Ø12мм. А400 | D79: ton/тонн | E79: 0.029
A80: 1106.1.5 | B80: Ø16 мм ли А400 синфли пўлат стерженли арматура. | C80: Стальная стержн. арматура Ø16мм. А400 | D80: ton/тонн | E80: 0.04
A81: 1106.1.6 | B81: Пўлат лист. | C81: Лист | D81: ton/тонн | E81: 0.074
A82: 1106.1.7 | B82: М5 анкери. | C82: Анкер М5 | D82: ton/тонн | E82: 0.003
A83: 1107 | B83: Тип лифта Sprocket Type | C83: Тип лифта Sprocket Type | D83: дона/шт | E83: 2
A84: 1107.1.1 | B84: платформа улчами | C84: Размеры платформы , (мм) | D84: мм | E84: 900х100х1200
A85: 1107.1.2 | B85: узунлиги | C85: Длина пути, | D85: пм/пм | E85: =12.302*2 -> 24.604
A86: 1107.1.3 | B86: баландлиги | C86: Висота, | D86: пм/пм | E86: 2х4.24
A87: 1107.1.4 | B87: юк кутариши | C87: Грузоподъёмность | D87: ton/тонн | E87: 0.25
B88: TOTAL FOR BILL 1100 (carried forward to Bill Summary) | C88: Итого по ведомости № 1100 (с переносом в сводную ведомость) | G88: =SUM(G8:G82) -> 0
B89: Abbreviations/Сокращенные Обозначения
B90: m3/м3=cubic meter/метр кубический | C90: LS/ФС=Lump Sum/Фиксированная Сумма
B91: m2/м2=square meter/квадратный метр | C91: No/Шт=number/штук
B92: ton/тонн=tonne/тонна | C92: lm/пм=linear meter/погонный метр
B94: ЛБМ: | C94: Саидов У
