Workbook
Name ___na1: '[1]ф-5 расчёт'!#REF!
Name ___na1: '[1]ф-5 расчёт'!#REF!
Name __na1: #REF!
Name __na1: #REF!
Name __na2: #REF!
Name __na2: #REF!
Name __na3: #REF!
Name __na4: #REF!
Name __na5: #REF!
Name __na6: #REF!
Name __na7: #REF!
Name __na8: #REF!
Name _na1: #REF!
Name _na2: #REF!
Name _na3: #REF!
Name _na4: #REF!
Name _na5: #REF!
Name _na6: #REF!
Name _na7: #REF!
Name _na8: #REF!
Name a123457689: #REF!
Name a123457689: #REF!
Name at_10: #REF!
Name at_10: #REF!
Name bases: #REF!
Name bases: #REF!
Name bases1: '[1]ф-5 расчёт'!#REF!
Name bases1: '[1]ф-5 расчёт'!#REF!
Name bases2: #REF!
Name bases2: #REF!
Name bases3: #REF!
Name bases4: #REF!
Name bases5: #REF!
Name bases6: #REF!
Name bases7: #REF!
Name bases8: #REF!
Name Build: #REF!
Name Build1: '[1]ф-5 расчёт'!#REF!
Name Build2: #REF!
Name Build3: #REF!
Name Build4: #REF!
Name Build5: #REF!
Name Build6: #REF!
Name Build7: #REF!
Name Build8: #REF!
Name Data: '[2]1в'!#REF!
Name dlinna: #REF!
Name dlinna: #REF!
Name document_date: #REF!
Name document_date: #REF!
Name document_datу: #REF!
Name document_datу: #REF!
Name document_number: #REF!
Name expertiza: #REF!
Name expertiza_100: #REF!
Name gip: #REF!
Name hvv: #REF!
Name itog_title: #REF!
Name itog_title_6: '[3]Потребность в ресурсах'!#REF!
Name itog_title_7: '[3]Сводная ресурсная ведомость'!#REF!

Sheet Исходные данные
C1: Исходные данные для определения стоимости объекта в текущих ценах
B3: 1 | C3: Затраты на оборудование, мебель и инвентарь (Со) | D3: 251550945 | E3: сум
B4: 2 | C4: Затраты на строительные материалы, изделия и конструкции (См) | D4: 1096618320 | E4: сум
C5: Транспортные и заготовительно-складские расходы на материалы 5 %, кабельно-проводниковую продукцию 1,5% | D5: =D4*0.05 -> 54830916 | E5: сум
C6: Заготовительно-складские расходы 2 % | D6: =(D4+D5)*0 -> 0 | E6: сум
B7: 3 | C7: Затраты на ОЗП с учетом начислений на соцстрах (Сзп) | D7: =D8*3817.38 -> 1.1636532e+08 | E7: сум
B8: 3.1 | C8: Нормативная трудоемкость объекта (Т) | D8: 30483.032 | E8: чел/час
B9: 3.2 | C9: Среднегодовая заработная плата строителей по региону в расчете на месяц, определенная на основе статистических данных за предыдущие 12 месяцев, сум./месяц (Змс) | D9: 517383.25 | E9: сум/месяц
B10: 3.3 | C10: Среднемесячный фонд рабочего времени в часах по данным Министерства труда и социальной защиты населения Республики Узбекистан (Ф) | D10: 169.417 | E10: час
B11: 3.4 | C11: Средне часовая заработная плата строителей по региону в расчете на месяц, определенная на основе статистических данных за предыдущие 12 месяцев, сум./месяц (Змс) | D11: 517383.25 | E11: сум/месяц
B12: 3.5 | C12: Коэффициент учета размера отчислений на соцстрах (Ксс) | D12: 1.25
B13: 4 | C13: Затраты на эксплуатацию машин и механизмов (Сэм) | D13: =98090531+457740 -> 98548271 | E13: сум
B14: 5 | C14: Прочие затраты и расходы производственного характера 2,4 % (Сп) | D14: =ROUND(IF(D15>0,($D$4+$D$5+$D$6+$D$7+$D$13)*D15,D16),0) -> 0 | E14: сум
C15: Процент (%) | D15: 0 | E15: %
C16: Сумма (сум) | E16: сум
B17: 6 | C17: Прочие затраты и расходы подрядчика (Пп) | D17: =ROUND(IF(D18>0,($D$4+$D$5+$D$6+$D$7+$D$13+D14)*D18,D19),0) -> 360993058 | E17: сум
C18: Процент (%) | D18: 0.2642 | E18: %
C19: Сумма (сум) | E19: сум
B20: 7 | C20: Затраты на страхование строительства объектов | D20: =ROUND(IF(D21>0,(D3+$D$4+$D$5+$D$6+#REF!+$D$7+$D$13+$D$14+D17)*D21,D22),0) -> #REF! | E20: сум
C21: Процент (%) | D21: 0.0032 | E21: %
C22: Сумма (сум) | E22: сум
C23: Итого стоимость строительства | D23: =D3+D4+D5+#REF!+D7+D13+D14+D17+D20 -> #REF! | E23: сум
B24: 8 | C24: Затраты риска, исходя из прогноза индекса роста цен К=1,02 | D24: =(D3+D4+D7+D13+D14+D20+D5+D6+#REF!+D17)*0.02 -> #REF! | E24: сум
B25: 9 | C25: Таможенные процедуры 0,4 % | D25: =D3*0 -> 0 | E25: сум
C26: Итого стоимость объекта в текущих ценах | D26: =ROUND((D4+D7+D13+D14+D20+D5+D6+D24+D3+#REF!+D17+D25),0)/1000 -> #REF! | E26: тыс.сум
C27: НДС 20 % | D27: =D26*0.2 -> #REF! | E27: тыс.сум
C28: ИТОГО С НДС | D28: =SUM(D26:D27) -> #REF! | E28: тыс.сум

Sheet Сводка
A2: РЕКОМЕНДУЕМАЯ СТАРТОВАЯ СТОИМОСТЬ ОБЪЕКТА В ТЕКУЩИХ ЦЕНАХ
A4: НАМАНГАН ТУМАНИ ХУЖАКИШЛОК МФЙ ТУРКИСТОН, ЗАРАФШОН ВА НАМУНА ИЧКИ КЎЧАЛАРИНИ ЖОРИЙ ТАЪМИРЛАШ
A7: №№ ПП | B7: НАИМЕНОВАНИЕ ЗАТРАТ | C7: Цена (тыс.сум)
A10: 1 | B10: 2 | C10: 3
B12: Общая стоимость строительно-монтажных работ
A13: 1 | B13: ="Затраты на основную заработную плату "&'По объектная '!L4&" сум" -> Затраты на основную заработную плату 24783 сум
A14: 2 | B14: ="Начисление на социальное страхование 12%" -> Начисление на социальное страхование 12%
A15: =A13+1 -> 2 | B15: Затраты на эксплуатацию машин и механизмов
A16: =A15+1 -> 3 | B16: Затраты на строительные материалы и изделия
A17: =A16+1 -> 4 | B17: ="Транспортные расходы на материалы "&'По объектная '!J4*100&"%" -> Транспортные расходы на материалы 0%
A18: =A17+1 -> 5 | B18: Кабельная продукция
A19: =A18+1 -> 6 | B19: ="Транспортные расходы на кабельную продукцию "&'По объектная '!K4*100&"%" -> Транспортные расходы на кабельную продукцию 0%
A20: =A19+1 -> 7 | B20: ИТОГО ПРЯМЫЕ ЗАТРАТЫ
A21: =A20+1 -> 8 | B21: ="Прочие затраты и расходы подрядчика "&'По объектная '!O4*100&"%" -> Прочие затраты и расходы подрядчика 17%
A22: =A21+1 -> 9 | B22: ИТОГО
A23: =A22+1 -> 10 | B23: Затраты на оборудование, мебель и инвентарь
A24: =A23+1 -> 11 | B24: ="Транспортные расходы на оборудование "&'По объектная '!I4*100&"%" -> Транспортные расходы на оборудование 2%
A25: =A24+1 -> 12 | B25: ИТОГО
A26: =A25+1 -> 13 | B26: Прочие затраты производственного характера
A27: =A26+1 -> 14 | B27: Затраты на страхование строительства объектов 0,32%
A28: =A27+1 -> 15 | B28: Коэффициент риска
A29: =A28+1 -> 16 | B29: ИТОГО БЕЗ НДС
A30: =A29+1 -> 17 | B30: ="НДС "&'По объектная '!S4*100&"%" -> НДС 12%
A31: =A30+1 -> 18 | B31: ИТОГО стоимость строительства в текущих ценах с НДС

Sheet расчёт
A1: Гип | D1: ='По объектная '!H11 -> Б.Муминов
A2: Трудовые затраты | D2: ='По объектная '!D6 -> 691.84272 | E2: ч/час
A3: Затртаты эксплуатации М/м | E3: м/час
A4: Затртаты эксплуатации М/м | D4: =F4/1000 -> 119582.52 | E4: сум | F4: ='По объектная '!E6 -> 1.1958252e+08
A5: Материалы | D5: =F5/1000 -> 1038438.1 | E5: сум | F5: ='По объектная '!F6 -> 1.0384381e+09
A6: Кабельная продукция | D6: =F6/1000 -> 0 | E6: сум | F6: ='По объектная '!G6 -> 0
A7: оборудование | D7: =F7/1000 -> 4340 | E7: сум | F7: ='По объектная '!H6 -> 4340000
A8: Транспортные затраты материалов | D8: ='По объектная '!J4 -> 0
A9: Транспортные затраты кабельной продукции | D9: ='По объектная '!K4 -> 0
A10: Транспортные затраты оборудования | D10: ='По объектная '!I4 -> 0.02
A11: перевозка грунта | D11: =F11/1000 -> 0
A12: К-т риска
B13: ПОЯСНИТЕЛЬНАЯ ЗАПИСКА
A15: ОПРЕДЕЛЕНИЕ РЕКОМЕНУЕМОЙ СТАРТОВОЙ СТОИМОСТИ ОБЪЕКТА
C17: В ТЕКУЩИХ ЦЕНАХ
B19: Стоимость строительства определена в соответствии с Постановлением Кабинета
B20: Министров от 11.06.2003 года № 261 «О переходе на договорные текущие цены при реализации
B21: инвестиционных проектов, осуществляемых за счет централизованных капитальных вложений"
B22: и ШНК 4.01.16-09.
B23: Стоимость строительства объекта рассчитывается по ресурсному методу.
B24: Расчет стартовой стоимости в текущих ценах производится по формуле:
B26: С = (Со + См + Сзп + Сэм + Сп + Пп + Ср) х Кр, где:
B28: Со - затраты на оборудование, мебель и инвентарь
B29: См - затраты на строительные материалы, изделия и конструкции;
B30: Сзп - затраты на основную зарплату с учетом начислений на социальное страхование;
B31: Сэм - затраты на эксплуатацию машин и механизмов;
B32: Сп - прочие затраты производственного характера;
... B56: Средне часовая заработная плата строителей по региону в расчете на месяц,
B57: ="сог. каталог 2026 г за 2 квартал "&'По объектная '!L4&" сум чел/час" -> сог. каталог 2026 г за 2 квартал 24783 сум чел/час
B58: Трудозатраты определены в соответствие с ресурсной сметой в чел/час
B59: Всего заработная плата рабочих-строителей в текущих ценах с отчислениями
B60: на социальное страхование в размере - | F60: 0.12
B61: II. Затраты на эксплуатацию машин и механизмов
B63: Стоимость затрат на эксплуатацию машин и механизмов при определении стоимости
B64: строительства объекта принимается по текущим ценам исходя из нормативной
B65: потребности в машино-часах по ресурсной смете и среднесложившейся по региону
B66: цены машино-часа соответствующего вида машин по формуле:
C68: Сэм = Эм х Цпр,
B70: где:
B71: Эм - объем эксплуатации машин и механизмов в часах;
...

Sheet По объектная 
A1: СВОДКА ЗАТРАТ
A2: =Сводка!A4 -> НАМАНГАН ТУМАНИ ХУЖАКИШЛОК МФЙ ТУРКИСТОН, ЗАРАФШОН ВА НАМУНА ИЧКИ КЎЧАЛАРИНИ ЖОРИЙ ТАЪМИРЛАШ
A3: № | B3: Наименования объект | D3: Затраты труда, чел/ч. | E3: Эксплутация машин и механизмов | F3: Материалы | G3: Кабельная продукция | H3: Обору- дование | I3: Транспортные расходы на оборудование | J3: Транспортные расходы на материалы | K3: Транспортные расходы на кабельную продукцию | L3: Заработная плата | M3: Отчисление на соцстрах | N3: Итого Прямые затраты | O3: Прочие затраты подрядчика | P3: Всего | Q3: Страхование объекта | R3: Итого | S3: НДС | T3: Всего стоимость
I4: 0.02 | J4: 0 | K4: 0 | L4: 24783 | M4: 0.12 | O4: 0.17 | S4: 0.12
A5: 1 | B5: ЯНГИ ХУЖАОБОД МФЙ | C5: 82410 | D5: =[19]vr_abc4!$F$20 -> 691.84272 | E5: =[19]vr_abc4!$H$42 -> 1.1958252e+08 | F5: =[19]vr_abc4!$H$54 -> 1.0384381e+09 | G5: =0 -> 0 | H5: =[19]vr_abc4!$H$58 -> 4340000 | I5: =H5*$I$4 -> 86800 | J5: =F5*$J$4 -> 0 | K5: =G5*$K$4 -> 0 | L5: =D5*$L$4 -> 17145938 | M5: =L5*$M$4 -> 2057512.6 | N5: =E5+F5+J5+L5+M5+K5+G5 -> 1.1772241e+09 | O5: =N5*$O$4 -> 2.0012809e+08 | P5: =O5+N5 -> 1.3773522e+09 | Q5: =(P5+H5+I5)*0.8*0.004 -> 4421692.7 | R5: =Q5+P5+H5+I5 -> 1.3862007e+09 | S5: =R5*$S$4 -> 1.6634408e+08 | T5: =R5+S5 -> 1.5525447e+09
B6: ВСЕГО | D6: =SUM(D5:D5) -> 691.84272 | E6: =SUM(E5:E5) -> 1.1958252e+08 | F6: =SUM(F5:F5) -> 1.0384381e+09 | G6: =SUM(G5:G5) -> 0 | H6: =SUM(H5:H5) -> 4340000 | I6: =SUM(I5:I5) -> 86800 | J6: =SUM(J5:J5) -> 0 | K6: =SUM(K5:K5) -> 0 | ... T6: =SUM(T5:T5) -> 1.5525447e+09 | V6: 4.8494244e+09 | W6: =V6-T6 -> 3.2968797e+09
B9: Расчет составил | H9: Б.Абдуллаев
B11: Проверил | H11: Б.Муминов
