Workbook
Name _na1: #REF!
Name _na1: #REF!
Name _na1: #REF!
Name _na2: #REF!
Name _na2: #REF!
Name _na3: #REF!
Name _na3: #REF!
Name _na4: #REF!
Name _na4: #REF!
Name _na5: #REF!
Name _na5: #REF!
Name _na6: #REF!
Name _na6: #REF!
Name _na7: #REF!
Name _na7: #REF!
Name _na8: #REF!
Name _na8: #REF!
Name bases: #REF!
Name bases: #REF!
Name bases: #REF!
Name bases1: #REF!
Name bases1: #REF!
Name bases2: #REF!
Name bases2: #REF!
Name bases3: #REF!
Name bases3: #REF!
Name bases4: #REF!
Name bases4: #REF!
Name bases5: #REF!
Name bases5: #REF!
Name bases6: #REF!
Name bases6: #REF!
Name bases7: #REF!
Name bases7: #REF!
Name bases8: #REF!
Name bases8: #REF!
Name Build: #REF!
Name Build: #REF!
Name Build1: #REF!
Name Build1: #REF!
Name Build2: #REF!
Name Build2: #REF!
Name Build3: #REF!
Name Build3: #REF!
Name Build4: #REF!
Name Build4: #REF!
Name Build5: #REF!
Name Build5: #REF!
Name Build6: #REF!
Name Build6: #REF!
Name Build7: #REF!
Name Build7: #REF!
Name Build8: #REF!
Name Build8: #REF!
Name cmndBase: #REF!
Name cmndBase: #REF!
Name cmndDayMonthTo: #REF!
Name cmndDayMonthTo: #REF!
Name cmndDays: #REF!
Name cmndDays: #REF!

Sheet Дефек акт
G1: "ТАСДИҚЛАЙМАН"
G2: "Тошкент шаҳар минтақавий йўлларга
G3: буюртмачи хизмати" ДМ директори
G4: ____________________________
G5: "______" __________________2026 й
A7: ТОШКЕНТ ШАҲАР ЮНУСОБОД ТУМАНИ, 14-МАВЗЕ, МФЙ "СЕВИНЧ" МАХАЛЛАСИДА УЙЛАР ОРАЛИҒИДАГИ 1500 МЕТР ЙЎЛЛАРНИ АСФАЛЬТЛАШ КЕРАК
A8: НУҚСОНЛАР ДАЛОЛАТНОМАСИ
A9: Биз, куйида имзо чекувчилар, комиссия аъзолари: Тошкент шаҳар минтақавий йўлларга буюртмачи хизмати ДУК вакили ______________________________, Юнусобод тумани Ободонлаштириш бошқармаси вакили _______________________, Севинч МФЙ раиси _____________________________, мазкур кайдномани визуал текшириш ва инструментал улчашлар натижасида туздик ва ушбу кўча буйича куйидаги иш турлари ва хажмлари аникланди:
B10: Ишларнинг манзили | D10: Узунлиги, метр | E10: Йўл элементларининг мавжуд ҳолати | F10: Лойиҳада кўзда тутилган иш турлари ва тадбирлар | G10: Иш хажмлари | H10: Ўлчов бирлиги | I10: Миқдори (хажм)
B11: боши | C11: охири
B12: ПК+ | C12: ПК+
A13: 1 | B13: 2 | C13: 3 | D13: 4 | E13: 5 | F13: 6 | G13: 7 | H13: 8 | I13: 9
A14: 1-кўча.
A15: 1 | B15: 0+00 | C15: 3+24 | D15: 324 | E15: Йўлнинг мавжуд холати эски қопламадан иборат бўлиб, емирилишлар, ёриқлар, бузилишлар мавжуд. | F15: Битум эмульцияси билан юзаки ишлов бериш 0,6 л/м2 | G15: 0,6 х 2217,86 м2 / 1000 | H15: т | I15: 1.331
F16: Кичик мехенизм ёрдамида қайноқ майда заррали зич Тип Б Марка II асфальтобетондан 5 см қалинликда қоплама ёткизиш. (ГОСТ 9128-2013) | G16: 432 м2 | H16: м2 | I16: 432
F17: Асфальтоукладчик билан қайноқ майда заррали зич Тип Б Марка II асфальтобетондан 5 см қалинликда қоплама ёткизиш. (ГОСТ 9128-2013) | G17: 324 м х 5,5 м + 3,86 м2 | H17: м2 | I17: 1785.86
A18: 2 | B18: 3+24 | C18: 3+48 | D18: 24 | E18: Йўлнинг мавжуд холати эски қопламадан иборат бўлиб, емирилишлар, ёриқлар, бузилишлар мавжуд. . | F18: Битум эмульцияси билан юзаки ишлов бериш 0,6 л/м2 | G18: 0,6 х 108 м2 / 1000 | H18: т | I18: 0.065
F19: Асфальтоукладчик билан қайноқ майда заррали зич Тип Б Марка II асфальтобетондан 5 см қалинликда қоплама ёткизиш. (ГОСТ 9128-2013) | G19: 24 м х 4,5 м | H19: м2 | I19: 108
A20: 2-кўча.
A21: 3 | B21: 0+00 | C21: 1+20 | D21: 120 | E21: Йўлнинг мавжуд холати эски қопламадан иборат бўлиб, емирилишлар, ёриқлар, бузилишлар мавжуд. | F21: Битум эмульцияси билан юзаки ишлов бериш 0,6 л/м2 | G21: 0,6 х 819,86 м2 / 1000 | H21: т | I21: 0.492
F22: Кичик мехенизм ёрдамида қайноқ майда заррали зич Тип Б Марка II асфальтобетондан 5 см қалинликда қоплама ёткизиш. (ГОСТ 9128-2013) | G22: 192 м2 | H22: м2 | I22: 192
F23: Асфальтоукладчик билан қайноқ майда заррали зич Тип Б Марка II асфальтобетондан 5 см қалинликда қоплама ёткизиш. (ГОСТ 9128-2013) | G23: 120 м х 5,2 м + 3,86 м2 | H23: м2 | I23: 627.86
A24: 4 | B24: 1+20 | C24: 1+33 | D24: 13 | E24: Йўлнинг мавжуд холати эски қопламадан иборат бўлиб, емирилишлар, ёриқлар, бузилишлар мавжуд. . | F24: Битум эмульцияси билан юзаки ишлов бериш 0,6 л/м2 | G24: 0,6 х 117 м2 / 1000 | H24: т | I24: 0.07
F25: Асфальтоукладчик билан қайноқ майда заррали зич Тип Б Марка II асфальтобетондан 5 см қалинликда қоплама ёткизиш. (ГОСТ 9128-2013) | G25: 13 м х 9 м | H25: м2 | I25: 117
A26: 3-кўча.
A27: 5 | B27: 0+00 | C27: 0+50 | D27: 50 | E27: Йўлнинг мавжуд холати эски асфальтобетон қопламадан иборат бўлиб, тўрсимон ёриқлар, емирилишлар мавжуд. | F27: Битум эмульцияси билан юзаки ишлов бериш 0,3 л/м2 | G27: 0,3 х 337,72 м2 / 1000 | H27: т | I27: 0.101
F28: Асфальтоукладчик билан қайноқ майда заррали зич Тип Б Марка II асфальтобетондан 5 см қалинликда қоплама ёткизиш. (ГОСТ 9128-2013) | G28: 50 м х 6,6 м + 7,72 м2 | H28: м2 | I28: 337.72
A29: 4-кўча.
A30: 6 | B30: 0+00 | C30: 0+33 | D30: 33 | E30: Йўлнинг мавжуд холати эски қопламадан иборат бўлиб, емирилишлар, ёриқлар, бузилишлар мавжуд. . | F30: Битум эмульцияси билан юзаки ишлов бериш 0,6 л/м2 | G30: 0,6 х 148,5 м2 / 1000 | H30: т | I30: 0.089
F31: Асфальтоукладчик билан қайноқ майда заррали зич Тип Б Марка II асфальтобетондан 5 см қалинликда қоплама ёткизиш. (ГОСТ 9128-2013) | G31: 33 м х 4,5 м | H31: м2 | I31: 148.5
A32: 7 | B32: 0+33 | C32: 0+44 | D32: 11 | E32: Йўлнинг мавжуд холати эски қопламадан иборат бўлиб, емирилишлар, ёриқлар, бузилишлар мавжуд. . | F32: Битум эмульцияси билан юзаки ишлов бериш 0,6 л/м2 | G32: 0,6 х 88 м2 / 1000 | H32: т | I32: 0.053
F33: Асфальтоукладчик билан қайноқ майда заррали зич Тип Б Марка II асфальтобетондан 5 см қалинликда қоплама ёткизиш. (ГОСТ 9128-2013) | G33: 11 м х 8 м | H33: м2 | I33: 88
A34: 8 | B34: 0+44 | C34: 0+92 | D34: 48 | E34: Йўлнинг мавжуд холати эски қопламадан иборат бўлиб, емирилишлар, ёриқлар, бузилишлар мавжуд. . | F34: Битум эмульцияси билан юзаки ишлов бериш 0,6 л/м2 | G34: 0,6 х 144 м2 / 1000 | H34: т | I34: 0.086
F35: Асфальтоукладчик билан қайноқ майда заррали зич Тип Б Марка II асфальтобетондан 5 см қалинликда қоплама ёткизиш. (ГОСТ 9128-2013) | G35: 48 м х 3 м | H35: м2 | I35: 144
A36: 9 | B36: 0+92 | C36: 1+16 | D36: 24 | E36: Йўлнинг мавжуд холати эски қопламадан иборат бўлиб, емирилишлар, ёриқлар, бузилишлар мавжуд. . | F36: Битум эмульцияси билан юзаки ишлов бериш 0,6 л/м2 | G36: 0,6 х 99,86 м2 / 1000 | H36: т | I36: 0.06
F37: Асфальтоукладчик билан қайноқ майда заррали зич Тип Б Марка II асфальтобетондан 5 см қалинликда қоплама ёткизиш. (ГОСТ 9128-2013) | G37: 24 м х 4 м + 3,86 м2 | H37: м2 | I37: 99.86
A38: 10 | E38: Йўлнинг мавжуд холати эски қопламадан иборат бўлиб, емирилишлар, ёриқлар, бузилишлар мавжуд. . | F38: Битум эмульцияси билан юзаки ишлов бериш 0,6 л/м2 | G38: 0,6 х 90 м2 / 1000 | H38: т | I38: 0.054
F39: Кичик мехенизм ёрдамида қайноқ майда заррали зич Тип Б Марка II асфальтобетондан 5 см қалинликда қоплама ёткизиш. (ГОСТ 9128-2013) | G39: 90 м2 | H39: м2 | I39: 90
A40: 5-кўча.
A41: 11 | B41: 0+00 | C41: 0+93 | D41: 93 | E41: Йўлнинг мавжуд холати эски қопламадан иборат бўлиб, емирилишлар, ёриқлар, бузилишлар мавжуд. . | F41: Битум эмульцияси билан юзаки ишлов бериш 0,6 л/м2 | G41: 0,6 х 336,22 м2 / 1000 | H41: т | I41: 0.202
F42: Асфальтоукладчик билан қайноқ майда заррали зич Тип Б Марка II асфальтобетондан 5 см қалинликда қоплама ёткизиш. (ГОСТ 9128-2013) | G42: 93 м х 3,5 м + 10,72 м2 | H42: м2 | I42: 336.22
A43: 12 | E43: Йўлнинг мавжуд холати эски қопламадан иборат бўлиб, емирилишлар, ёриқлар, бузилишлар мавжуд. . | F43: Битум эмульцияси билан юзаки ишлов бериш 0,6 л/м2 | G43: 0,6 х 64,8 м2 / 1000 | H43: т | I43: 0.039
F44: Кичик мехенизм ёрдамида қайноқ майда заррали зич Тип Б Марка II асфальтобетондан 5 см қалинликда қоплама ёткизиш. (ГОСТ 9128-2013) | G44: 64,8 м2 | H44: м2 | I44: 64.8
A45: 6-кўча.
A46: 13 | B46: 0+00 | C46: 0+31 | D46: 31 | E46: Йўлнинг мавжуд холати эски қопламадан иборат бўлиб, емирилишлар, ёриқлар, бузилишлар мавжуд. . | F46: Битум эмульцияси билан юзаки ишлов бериш 0,6 л/м2 | G46: 0,6 х 106,16 м2 / 1000 | H46: т | I46: 0.064
F47: Асфальтоукладчик билан қайноқ майда заррали зич Тип Б Марка II асфальтобетондан 5 см қалинликда қоплама ёткизиш. (ГОСТ 9128-2013) | G47: 31 м х 3,3 м + 3,86 м2 | H47: м2 | I47: 106.16
A48: 14 | B48: 0+31 | C48: 0+46 | D48: 15 | E48: Йўлнинг мавжуд холати эски қопламадан иборат бўлиб, емирилишлар, ёриқлар, бузилишлар мавжуд. . | F48: Битум эмульцияси билан юзаки ишлов бериш 0,6 л/м2 | G48: 0,6 х 87 м2 / 1000 | H48: т | I48: 0.052
F49: Асфальтоукладчик билан қайноқ майда заррали зич Тип Б Марка II асфальтобетондан 5 см қалинликда қоплама ёткизиш. (ГОСТ 9128-2013) | G49: 15 м х 5,8 м | H49: м2 | I49: 87
A50: 15 | B50: 0+46 | C50: 1+19 | D50: 73 | E50: Йўлнинг мавжуд холати эски қопламадан иборат бўлиб, емирилишлар, ёриқлар, бузилишлар мавжуд. . | F50: Битум эмульцияси билан юзаки ишлов бериш 0,6 л/м2 | G50: 0,6 х 511 м2 / 1000 | H50: т | I50: 0.307
F51: Асфальтоукладчик билан қайноқ майда заррали зич Тип Б Марка II асфальтобетондан 5 см қалинликда қоплама ёткизиш. (ГОСТ 9128-2013) | G51: 73 м х 7 м | H51: м2 | I51: 511
A52: 16 | E52: Йўлнинг мавжуд холати эски қопламадан иборат бўлиб, емирилишлар, ёриқлар, бузилишлар мавжуд. . | F52: Битум эмульцияси билан юзаки ишлов бериш 0,6 л/м2 | G52: 0,6 х 140,4 м2 / 1000 | H52: т | I52: 0.084
F53: Кичик мехенизм ёрдамида қайноқ майда заррали зич Тип Б Марка II асфальтобетондан 5 см қалинликда қоплама ёткизиш. (ГОСТ 9128-2013) | G53: 140,4 м2 | H53: м2 | I53: 140.4
A54: 7-кўча.
A55: 17 | B55: 0+00 | C55: 0+20 | D55: 20 | E55: Йўлнинг мавжуд холати эски қопламадан иборат бўлиб, емирилишлар, ёриқлар, бузилишлар мавжуд. . | F55: Битум эмульцияси билан юзаки ишлов бериш 0,6 л/м2 | G55: 0,6 х 83,86 м2 / 1000 | H55: т | I55: 0.05
F56: Асфальтоукладчик билан қайноқ майда заррали зич Тип Б Марка II асфальтобетондан 5 см қалинликда қоплама ёткизиш. (ГОСТ 9128-2013) | G56: 20 м х 4 м + 3,86 м2 | H56: м2 | I56: 83.86
A57: 18 | B57: 0+20 | C57: 1+63 | D57: 143 | E57: Йўлнинг мавжуд холати эски асфальтобетон қопламадан иборат бўлиб, чўкишлар нотекисликлар, буткул бузилишлар мавжуд. | F57: Мавжуд қопламани механизм ёрдамида хайдаб бузиб, 1000м2 га 66м3 янги ҚШАли (ГОСТ 25607-2009 бўйича С5) материал қўшиш йўли билан тиклаш | G57: 143 м х 11 м | H57: м2 | I57: 1573
F58: Донадорлиги 5-20 мм бўлган чақиқ тошдан текисловчи қатлам ётқизиш | G58: 1573 м2 х 0,03 м | H58: м3 | I58: 47.2
F59: Битум эмульцияси билан юзаки ишлов бериш 0,6 л/м2 | G59: 0,6 х 1573 м2 / 1000 | H59: т | I59: 0.944
F60: Асфальтоукладчик билан қайноқ майда заррали зич Тип Б Марка II асфальтобетондан 5 см қалинликда қоплама ёткизиш. (ГОСТ 9128-2013) | G60: 143 м х 11 м | H60: м2 | I60: 1573
A61: 19 | B61: 1+63 | C61: 1+94 | D61: 31 | E61: Йўлнинг мавжуд холати эски асфальтобетон қопламадан иборат бўлиб, чўкишлар нотекисликлар, буткул бузилишлар мавжуд. | F61: Мавжуд қопламани механизм ёрдамида хайдаб бузиб, 1000м2 га 66м3 янги ҚШАли (ГОСТ 25607-2009 бўйича С5) материал қўшиш йўли билан тиклаш | G61: 31 м х 8 м | H61: м2 | I61: 248
F62: Донадорлиги 5-20 мм бўлган чақиқ тошдан текисловчи қатлам ётқизиш | G62: 248 м2 х 0,03 м | H62: м3 | I62: 7.4
F63: Битум эмульцияси билан юзаки ишлов бериш 0,6 л/м2 | G63: 0,6 х 248 м2 / 1000 | H63: т | I63: 0.149
F64: Асфальтоукладчик билан қайноқ майда заррали зич Тип Б Марка II асфальтобетондан 5 см қалинликда қоплама ёткизиш. (ГОСТ 9128-2013) | G64: 31 м х 8 м | H64: м2 | I64: 248
A65: 20 | B65: 1+94 | C65: 2+60 | D65: 66 | E65: Йўлнинг мавжуд холати эски асфальтобетон қопламадан иборат бўлиб, чўкишлар нотекисликлар, буткул бузилишлар мавжуд. | F65: Мавжуд қопламани механизм ёрдамида хайдаб бузиб, 1000м2 га 66м3 янги ҚШАли (ГОСТ 25607-2009 бўйича С5) материал қўшиш йўли билан тиклаш | G65: 66 м х 5 м | H65: м2 | I65: 330
F66: Донадорлиги 5-20 мм бўлган чақиқ тошдан текисловчи қатлам ётқизиш | G66: 330 м2 х 0,03 м | H66: м3 | I66: 9.9
F67: Битум эмульцияси билан юзаки ишлов бериш 0,6 л/м2 | G67: 0,6 х 330 м2 / 1000 | H67: т | I67: 0.198
F68: Асфальтоукладчик билан қайноқ майда заррали зич Тип Б Марка II асфальтобетондан 5 см қалинликда қоплама ёткизиш. (ГОСТ 9128-2013) | G68: 66 м х 5 м | H68: м2 | I68: 330
A69: 21 | E69: Йўлнинг мавжуд холати эски қопламадан иборат бўлиб, емирилишлар, ёриқлар, бузилишлар мавжуд. . | F69: Битум эмульцияси билан юзаки ишлов бериш 0,6 л/м2 | G69: 0,6 х 330 м2 / 1000 | H69: т | I69: 0.198
F70: Кичик мехенизм ёрдамида қайноқ майда заррали зич Тип Б Марка II асфальтобетондан 5 см қалинликда қоплама ёткизиш. (ГОСТ 9128-2013) | G70: 330 м2 | H70: м2 | I70: 330
A71: 8-кўча.
A72: 22 | B72: 0+00 | C72: 1+07 | D72: 107 | E72: Йўлнинг мавжуд холати эски асфальтобетон қопламадан иборат бўлиб, чўкишлар нотекисликлар, буткул бузилишлар мавжуд. | F72: Мавжуд қопламани механизм ёрдамида хайдаб бузиб, 1000м2 га 66м3 янги ҚШАли (ГОСТ 25607-2009 бўйича С5) материал қўшиш йўли билан тиклаш | G72: 107 м х 2,2 м | H72: м2 | I72: 235.4
F73: Донадорлиги 5-20 мм бўлган чақиқ тошдан текисловчи қатлам ётқизиш | G73: 235,4 м2 х 0,03 м | H73: м3 | I73: 7.1
F74: Битум эмульцияси билан юзаки ишлов бериш 0,6 л/м2 | G74: 0,6 х 235,4 м2 / 1000 | H74: т | I74: 0.141
F75: Асфальтоукладчик билан қайноқ майда заррали зич Тип Б Марка II асфальтобетондан 5 см қалинликда қоплама ёткизиш. (ГОСТ 9128-2013) | G75: 107 м х 2,2 м | H75: м2 | I75: 235.4
A76: 23 | E76: Йўлнинг мавжуд холати эски қопламадан иборат бўлиб, емирилишлар, ёриқлар, бузилишлар мавжуд. . | F76: Битум эмульцияси билан юзаки ишлов бериш 0,6 л/м2 | G76: 0,6 х 64,8 м2 / 1000 | H76: т | I76: 0.039
F77: Кичик мехенизм ёрдамида қайноқ майда заррали зич Тип Б Марка II асфальтобетондан 5 см қалинликда қоплама ёткизиш. (ГОСТ 9128-2013) | G77: 64,8 м2 | H77: м2 | I77: 64.8
A78: Карта усулида таъмирлаш
A79: 24 | B79: 1 | D79: 20 | E79: Йўлнинг мавжуд холати эски асфальтобетон қопламадан иборат бўлиб, тўрсимон ёриқлар, емирилишлар мавжуд. | F79: Битум эмульцияси билан юзаки ишлов бериш 0,3 л/м2 | G79: 0,3 х 77,72 м2 / 1000 | H79: т | I79: 0.023
F80: Кичик мехенизм ёрдамида қайноқ майда заррали зич Тип Б Марка II асфальтобетондан 5 см қалинликда қоплама ёткизиш. (ГОСТ 9128-2013) | G80: 20 м х 3,5 м + 7,72 м2 | H80: м2 | I80: 77.72
A81: 25 | B81: 2 | D81: 55 | E81: Йўлнинг мавжуд холати эски асфальтобетон қопламадан иборат бўлиб, чўкишлар нотекисликлар, буткул бузилишлар мавжуд. | F81: Мавжуд қопламани механизм ёрдамида хайдаб бузиб, 1000м2 га 66м3 янги ҚШАли (ГОСТ 25607-2009 бўйича С5) материал қўшиш йўли билан тиклаш | G81: 55 м х 3 м | H81: м2 | I81: 165
F82: Донадорлиги 5-20 мм бўлган чақиқ тошдан текисловчи қатлам ётқизиш | G82: 165 м2 х 0,03 м | H82: м3 | I82: 5
F83: Битум эмульцияси билан юзаки ишлов бериш 0,6 л/м2 | G83: 0,6 х 165 м2 / 1000 | H83: т | I83: 0.099
F84: Асфальтоукладчик билан қайноқ майда заррали зич Тип Б Марка II асфальтобетондан 5 см қалинликда қоплама ёткизиш. (ГОСТ 9128-2013) | G84: 55 м х 3 м | H84: м2 | I84: 165
A85: 26 | B85: 3 | D85: 41 | E85: Йўлнинг мавжуд холати эски асфальтобетон қопламадан иборат бўлиб, тўрсимон ёриқлар, емирилишлар мавжуд. | F85: Битум эмульцияси билан юзаки ишлов бериш 0,3 л/м2 | G85: 0,3 х 121 м2 / 1000 | H85: т | I85: 0.036
F86: Кичик мехенизм ёрдамида қайноқ майда заррали зич Тип Б Марка II асфальтобетондан 5 см қалинликда қоплама ёткизиш. (ГОСТ 9128-2013) | G86: 121 м2 | H86: м2 | I86: 121
A87: Қурилиш материалларини ташиб келиш масофаси
A88: Т/р | B88: Материал номи | D88: Ўлчов бирлиги | E88: Масофаси
A89: 1 | B89: Асфальтобетон | D89: км | E89: 21
A90: 2 | B90: Щебень | D90: км | E90: 18
A91: 3 | B91: ҚША | D91: км | E91: 18
A92: 4 | B92: Эмульсия битумная | D92: км | E92: 21
A94: Тошкент шаҳар минтақавий йўлларга буюртмачи хизмати ДУК вакили | I94: _____________ ___________________________
A97: Юнусобод туман Ободонлаштириш бошқармаси | I97: _____________ ___________________________
A99: Юнусобод тумани Ободонлаштириш бошқармаси вакили | I99: _____________ ___________________________
A101: Севинч МФЙ раиси | I101: _____________ ___________________________
A103: Ташаббускор | I103: _____________ ___________________________
A105: Лойиҳа ташкилот вакили | I105: _____________ ___________________________

Sheet 01_ЛРВ
F1: Форма N 5
B2: ТОШКЕНТ ШАХАР ЮНУСОБОД ТУМАНИ, 14-МАВЗЕ, МФЙ "СЕВИНЧ" МАХАЛЛАСИДА УЙЛАР ОРАЛИГИДАГИ 1500 МЕТР ЙУЛЛАРНИ АСФАЛЬТЛАШ КЕРАК
B3: (наименование стройки)
C5: ЛОКАЛЬНАЯ РЕСУРСНАЯ ВЕДОМОСТЬ № | D5: 01
B6: (локальная ресурсная смета)
A8: на | B8: ДОРОЖНЫЕ РАБОТЫ,
B9: (наименование работ и затрат, наименование объекта)
A11: Основание: | C11: ДЕФЕКТНЫЙ АКТ
A12: N п.п. | B12: Шифр номера нормативов и коды ресурсов | C12: Наименование работ и затрат | D12: Единица измерения | E12: Количество
E13: на. ед. измерения | F13: по проектным данным
A14: 1 | B14: 2 | C14: 3 | D14: 4 | E14: 5 | F14: 6
A16: РАЗДЕЛ 1. ЙУЛ ТУШАМАСИ
A17: 1 | B17: Е2703-1-3 | C17: ИСПРАВЛЕНИЕ ПРОФИЛЯ ОСНОВАНИЙ ГРАВИЙНО-ПЕСЧАНОЙ СМЕСИ С ДОБАВЛЕНИЕМ НОВОГО МАТЕРИАЛА | D17: 1000М2 ПЛОЩАДИ ОСНОВАНИЯ | E17: 2.5514
A18: 1.1 | B18: 1 | C18: ЗАТРАТЫ ТРУДА РАБОЧИХ-СТРОИТЕЛЕЙ | D18: ЧЕЛ.-Ч | E18: 30.9 | F18: 78.8383
A19: 1.2 | B19: 3 | C19: ЗАТРАТЫ ТРУДА МАШИНИСТОВ | D19: ЧЕЛ.-Ч | E19: 16.35 | F19: 41.7154
A20: 1.3 | B20: 107 | C20: АВТОГРЕЙДЕРЫ СРЕДНЕГО ТИПА 99 (135) КВТ (Л.С.) | D20: МАШ.-Ч | E20: 3.7 | F20: 9.4402
A21: 1.4 | B21: 621 | C21: КАТКИ ДОРОЖНЫЕ САМОХОДНЫЕ ГЛАДКИЕ 8 Т | D21: МАШ.-Ч | E21: 5.6 | F21: 14.2878
A22: 1.5 | B22: 623 | C22: КАТКИ ДОРОЖНЫЕ САМОХОДНЫЕ ГЛАДКИЕ 13 Т | D22: МАШ.-Ч | E22: 4.09 | F22: 10.4352
A23: 1.6 | B23: 1025 | C23: КИРКОВЩИКИ | D23: МАШ.-Ч | E23: 1.11 | F23: 2.8321
A24: 1.7 | B24: 1135 | C24: МАШИНЫ ПОЛИВОМОЕЧНЫЕ 6000 Л | D24: МАШ.-Ч | E24: 1.95 | F24: 4.9752
A25: 1.8 | B25: 1835 | C25: ТРАКТОРЫ НА ГУСЕНИЧНОМ ХОДУ 79 (108) КВТ (Л.С.) | D25: МАШ.-Ч | E25: 1.01 | F25: 2.5769
A26: 1.9 | B26: 9219 | C26: ВОДА | D26: М3 | E26: 15 | F26: 38.271
A27: 1.10 | B27: 12303 | C27: ГРАВИЙНО-ПЕСЧАНАЯ СМЕСЬ | D27: М3 | E27: 66 | F27: 168.3924
A28: 2 | B28: Е2704-001-04 | C28: УСТРОЙСТВО ПОДСТИЛАЮЩИХ И ВЫРАВНИВАЮЩИХ СЛОЕВ ОСНОВАНИЙ ИЗ ЩЕБНЯ | D28: 100М3 | E28: 0.766
A29: 2.1 | B29: 1 | C29: ЗАТРАТЫ ТРУДА РАБОЧИХ-СТРОИТЕЛЕЙ | D29: ЧЕЛ.-Ч | E29: 21.6 | F29: 16.5456
A30: 2.2 | B30: 3 | C30: ЗАТРАТЫ ТРУДА МАШИНИСТОВ | D30: ЧЕЛ.-Ч | E30: 19.72 | F30: 15.1055
A31: 2.3 | B31: 107 | C31: АВТОГРЕЙДЕРЫ СРЕДНЕГО ТИПА 99 (135) КВТ (Л.С.) | D31: МАШ.-Ч | E31: 1.79 | F31: 1.3711
A32: 2.4 | B32: 112 | C32: АВТОПОГРУЗЧИКИ 5 Т | D32: МАШ.-Ч | E32: 2.46 | F32: 1.8844
A33: 2.5 | B33: 258 | C33: БУЛЬДОЗЕРЫ ПРИ РАБОТЕ НА ДРУГИХ ВИДАХ СТРОИТЕЛЬСТВА 79 (108) КВТ (Л.С.) | D33: МАШ.-Ч | E33: 2.35 | F33: 1.8001
A34: 2.6 | B34: 626 | C34: КАТКИ ДОРОЖНЫЕ САМОХОДНЫЕ НА ПНЕВМОКОЛЕСНОМ ХОДУ 30 Т | D34: МАШ.-Ч | E34: 12.21 | F34: 9.3529
A35: 2.7 | B35: 1135 | C35: МАШИНЫ ПОЛИВОМОЕЧНЫЕ 6000 Л | D35: МАШ.-Ч | E35: 0.91 | F35: 0.69706
A36: 2.8 | B36: 9219 | C36: ВОДА | D36: М3 | E36: 7 | F36: 5.362
A37: 2.9 | B37: 12757 | C37: ЩЕБЕНЬ ИЗ ЕСТЕСТВЕННОГО КАМНЯ ДЛЯ СТРОИТЕЛЬНЫХ РАБОТ М-1000-1200 ФРАКЦИИ 5-20 ММ | D37: М3 | E37: 126 | F37: 96.516
A38: 3 | B38: Е2706-026-01 | C38: ПОДГРУНТОВКА БИТУМНОЙ ЭМУЛЬСИИ С ДОСТАВКОЙ НА 6 КМ | D38: Т | E38: 5.026
A39: 3.1 | B39: 3 | C39: ЗАТРАТЫ ТРУДА МАШИНИСТОВ | D39: ЧЕЛ.-Ч | E39: 0.856 | F39: 4.3023
A40: 3.2 | B40: 108 | C40: АВТОГУДРОНАТОРЫ 3500 Л | D40: МАШ.-Ч | E40: 0.428 | F40: 2.1511
A41: 3.3 | B41: 30137 | C41: ЭМУЛЬСИЯ БИТУМНАЯ | D41: Т | E41: 1.03 | F41: 5.1768
A42: 4 | B42: Е2707-001-01 | C42: УСТРОЙСТВО АСФАЛЬТОБЕТОННЫХ ПОКРЫТИЙ ДОРОЖЕК ОДНОСЛОЙНЫХ ИЗ МЕЛКОЗЕРНИСТОЙ АСФАЛЬТО-БЕТОННОЙ СМЕСИ ТОЛЩИНОЙ 3 СМ | D42: 100М2 ПОКРЫТИЯ | E42: 15.1272
A43: 4.1 | B43: 1 | C43: ЗАТРАТЫ ТРУДА РАБОЧИХ-СТРОИТЕЛЕЙ | D43: ЧЕЛ.-Ч | E43: 14.4 | F43: 217.8317
A44: 4.2 | B44: 3 | C44: ЗАТРАТЫ ТРУДА МАШИНИСТОВ | D44: ЧЕЛ.-Ч | E44: 0.02 | F44: 0.302544
A45: 4.3 | B45: 2499 | C45: АВТОМОБИЛИ БОРТОВЫЕ ГРУЗОПОДЪЕМНОСТЬЮ ДО 5 Т | D45: МАШ.-Ч | E45: 0.02 | F45: 0.302544
A46: 4.4 | B46: 3078 | C46: ВИБРОПЛИТА С ДВИГАТЕЛЕМ ВНУТРЕННЕГО СГОРАНИЯ | D46: МАШ.-Ч | E46: 0.85 | F46: 12.8581
A47: 4.5 | B47: 6087 | C47: АСФАЛЬТОБЕТОННЫЕ СМЕСИ МЕЛКОЗЕРНИСТЫЕ ТИПА Б М-2 | D47: Т | E47: 7.14 | F47: 108.0082
A48: 4.6 | B48: 30135 | C48: БИТУМ | D48: Т | E48: 0.06 | F48: 0.907632
A49: 5 | B49: Е2707-001-02 К=4 | C49: УВЕЛИЧЕНИЕ ТОЛЩИНЫ СЛОЯ НА 2 СМ | D49: 100М2 ПОКРЫТИЯ | E49: 15.1272
A50: 5.1 | B50: 1 | C50: ЗАТРАТЫ ТРУДА РАБОЧИХ-СТРОИТЕЛЕЙ | D50: ЧЕЛ.-Ч | E50: 9.28 | F50: 140.3804
A51: 5.2 | B51: 3078 | C51: ВИБРОПЛИТА С ДВИГАТЕЛЕМ ВНУТРЕННЕГО СГОРАНИЯ | D51: МАШ.-Ч | E51: 0.56 | F51: 8.4712
A52: 5.3 | B52: 6087 | C52: АСФАЛЬТОБЕТОННЫЕ СМЕСИ МЕЛКОЗЕРНИСТЫЕ ТИПА Б М-2 | D52: Т | E52: 4.84 | F52: 73.2156
A53: 6 | B53: Е2713-010-01 ДОП. 9 | C53: УСТРОЙСТВО ПОКРЫТИЯ ИЗ ГОРЯЧИХ ПЛОТНЫХ МЕЛКОЗЕРНИСТЫХ АСФАЛЬТОБЕТОННЫХ СМЕСЕЙ АСФАЛЬТОУКЛАДЧИКАМИ ТИПА "VOGELE" ПРИ ШИРИНЕ УКЛАДКИ ДО 6 М И ТОЛЩИНОЙ СЛОЯ 4 СМ | D53: 1000М2 ПОКРЫТИЯ | E53: 7.1324
A54: 6.1 | B54: 1 | C54: ЗАТРАТЫ ТРУДА РАБОЧИХ-СТРОИТЕЛЕЙ | D54: ЧЕЛ.-Ч | E54: 16.63 | F54: 118.6125
A55: 6.2 | B55: 3 | C55: ЗАТРАТЫ ТРУДА МАШИНИСТОВ | D55: ЧЕЛ.-Ч | E55: 7.94 | F55: 56.6316
A56: 6.3 | B56: 464 | C56: ГУДРОНАТОРЫ РУЧНЫЕ | D56: МАШ.-Ч | E56: 0.24 | F56: 1.7118
A57: 6.4 | B57: 1135 | C57: МАШИНЫ ПОЛИВОМОЕЧНЫЕ 6000 Л | D57: МАШ.-Ч | E57: 0.5 | F57: 3.5662
A58: 6.5 | B58: 2798 | C58: РЕЗЧИКИ ШВОВ ДИСКОВЫЕ | D58: МАШ.-Ч | E58: 0.12 | F58: 0.855893
A59: 6.6 | B59: 3097 | C59: УКЛАДЧИКИ АСФАЛЬТОБЕТОНА ТИПА "VOGELE" С ШИРИНОЙ УКЛАДКИ ДО 6,5 М | D59: МАШ.-Ч | E59: 1.44 | F59: 10.2707
A60: 6.7 | B60: 3348 | C60: КАТКИ САМОХОДНЫЕ ДОРОЖНЫЕ ВИБРАЦИОННЫЕ ТИПА "DYNAPAC", "HAMM", "BOMAG", 8 Т | D60: МАШ.-Ч | E60: 3.08 | F60: 21.9679
A61: 6.8 | B61: 3349 | C61: КАТКИ САМОХОДНЫЕ ДОРОЖНЫЕ ВИБРАЦИОННЫЕ ТИПА "DYNAPAC", "HAMM", "BOMAG", 10 Т | D61: МАШ.-Ч | E61: 1.37 | F61: 9.7714
A62: 6.9 | B62: 3350 | C62: КАТКИ САМОХОДНЫЕ ДОРОЖНЫЕ ВИБРАЦИОННЫЕ ТИПА "DYNAPAC", "HAMM", "BOMAG", 13 Т | D62: МАШ.-Ч | E62: 1.55 | F62: 11.0553
A63: 6.10 | B63: 6087 | C63: АСФАЛЬТОБЕТОННЫЕ СМЕСИ МЕЛКОЗЕРНИСТЫЕ ТИПА Б М-2 | D63: Т | E63: 96.6 | F63: 688.9937
A64: 6.11 | B64: 9219 | C64: ВОДА | D64: М3 | E64: 0.9 | F64: 6.4192
A65: 6.12 | B65: 30135 | C65: БИТУМ | D65: Т | E65: 0.0108 | F65: 0.07703
A66: 7 | B66: Е2713-011-01 ДОП. 9 К=2 | C66: УВЕЛИЧЕНИЕ ТОЛЩИНЫ СЛОЯ НА 1 СМ | D66: 1000М2 | E66: 7.1324
A67: 7.1 | B67: 1 | C67: ЗАТРАТЫ ТРУДА РАБОЧИХ-СТРОИТЕЛЕЙ | D67: ЧЕЛ.-Ч | E67: 1.16 | F67: 8.2736
A68: 7.2 | B68: 3 | C68: ЗАТРАТЫ ТРУДА МАШИНИСТОВ | D68: ЧЕЛ.-Ч | E68: 0.36 | F68: 2.5677
A69: 7.3 | B69: 464 | C69: ГУДРОНАТОРЫ РУЧНЫЕ | D69: МАШ.-Ч | E69: 0.06 | F69: 0.427946
A70: 7.4 | B70: 2798 | C70: РЕЗЧИКИ ШВОВ ДИСКОВЫЕ | D70: МАШ.-Ч | E70: 0.03 | F70: 0.213973
A71: 7.5 | B71: 3097 | C71: УКЛАДЧИКИ АСФАЛЬТОБЕТОНА ТИПА "VOGELE" С ШИРИНОЙ УКЛАДКИ ДО 6,5 М | D71: МАШ.-Ч | E71: 0.36 | F71: 2.5677
A72: 7.6 | B72: 6087 | C72: АСФАЛЬТОБЕТОННЫЕ СМЕСИ МЕЛКОЗЕРНИСТЫЕ ТИПА Б М-2 | D72: Т | E72: 24.22 | F72: 172.7477
A73: 7.7 | B73: 30135 | C73: БИТУМ | D73: Т | E73: 0.0028 | F73: 0.019971
A74: РАЗДЕЛ 2. ПЕРЕВОЗКА
A75: 8 | B75: Е310-1021 ШНК4.04.06-14 Р.3.Т.7 К=0,49 | C75: ПЕРЕВОЗКА ГРУЗОВ АВТОМОБИЛЕМ, РАССТОЯНИЕ ПЕРЕВОЗКИ 21 КМ (АСФАЛЬТ ДО ОБЪЕКТА). ПРИ ПЕРЕВОЗКЕ АВТОСАМОСВАЛАМИ ГРУЗОПОДЪЕМНОСТЬЮ 20, ПРИМЕНЕН КОЭФФИЦИЕНТ К НОРМАМ ЗАТРАТ ТРУДА МАШИНИСТОВ И ЭКСПЛУАТАЦИИ МАШИН - 0,49 | D75: Т | E75: 1042.9653
A76: 8.1 | B76: 3 | C76: ЗАТРАТЫ ТРУДА МАШИНИСТОВ | D76: ЧЕЛ.-Ч | E76: 0.074382 | F76: 77.5778
A77: 8.2 | B77: 3456 | C77: АВТОМОБИЛИ-САМОСВАЛЫ ГРУЗОПОДЪЕМНОСТЬЮ ДО 20 Т | D77: МАШ.-Ч | E77: 0.074382 | F77: 77.5778
A78: 9 | B78: Е310-1018 ШНК4.04.06-14 Р.3.Т.7 К=0,49 | C78: ПЕРЕВОЗКА ГРУЗОВ АВТОМОБИЛЕМ, РАССТОЯНИЕ ПЕРЕВОЗКИ 18 КМ (ГРАВИЙНО-ПЕСЧАНОЙ СМЕСИ ДО ОБЪЕКТА). ПРИ ПЕРЕВОЗКЕ АВТОСАМОСВАЛАМИ ГРУЗОПОДЪЕМНОСТЬЮ 20, ПРИМЕНЕН КОЭФФИЦИЕНТ К НОРМАМ ЗАТРАТ ТРУДА МАШИНИСТОВ И ЭКСПЛУАТАЦИИ МАШИН - 0,49 | D78: Т | E78: 269.4278
A79: 9.1 | B79: 3 | C79: ЗАТРАТЫ ТРУДА МАШИНИСТОВ | D79: ЧЕЛ.-Ч | E79: 0.068404 | F79: 18.4299
A80: 9.2 | B80: 3456 | C80: АВТОМОБИЛИ-САМОСВАЛЫ ГРУЗОПОДЪЕМНОСТЬЮ ДО 20 Т | D80: МАШ.-Ч | E80: 0.068404 | F80: 18.4299
A81: 10 | B81: Е310-1018 ШНК4.04.06-14 Р.3.Т.7 К=0,49 | C81: ПЕРЕВОЗКА ГРУЗОВ АВТОМОБИЛЕМ, РАССТОЯНИЕ ПЕРЕВОЗКИ 18 КМ (ЩЕБЕНЬ ДО ОБЪЕКТА). ПРИ ПЕРЕВОЗКЕ АВТОСАМОСВАЛАМИ ГРУЗОПОДЪЕМНОСТЬЮ 20, ПРИМЕНЕН КОЭФФИЦИЕНТ К НОРМАМ ЗАТРАТ ТРУДА МАШИНИСТОВ И ЭКСПЛУАТАЦИИ МАШИН - 0,49 | D81: Т | E81: 139.9482
A82: 10.1 | B82: 3 | C82: ЗАТРАТЫ ТРУДА МАШИНИСТОВ | D82: ЧЕЛ.-Ч | E82: 0.068404 | F82: 9.573
A83: 10.2 | B83: 3456 | C83: АВТОМОБИЛИ-САМОСВАЛЫ ГРУЗОПОДЪЕМНОСТЬЮ ДО 20 Т | D83: МАШ.-Ч | E83: 0.068404 | F83: 9.573
A85: ИТОГО ПО ЛОКАЛЬНОЙ РЕСУРСНОЙ ВЕДОМОСТИ:
C87: ТРУДОВЫЕ РЕСУРСЫ
A88: 1 | B88: 1 | C88: ЗАТРАТЫ ТРУДА РАБОЧИХ-СТРОИТЕЛЕЙ | D88: ЧЕЛ.-Ч | F88: 580.4821
A89: 2 | B89: 3 | C89: ЗАТРАТЫ ТРУДА МАШИНИСТОВ | D89: ЧЕЛ.-Ч | F89: 226.2058
C90: СТРОИТЕЛЬНЫЕ МАШИНЫ И МЕХАНИЗМЫ
A91: 3 | B91: 107 | C91: АВТОГРЕЙДЕРЫ СРЕДНЕГО ТИПА 99 (135) КВТ (Л.С.) | D91: МАШ.-Ч | F91: 10.8113
A92: 4 | B92: 108 | C92: АВТОГУДРОНАТОРЫ 3500 Л | D92: МАШ.-Ч | F92: 2.1511
A93: 5 | B93: 112 | C93: АВТОПОГРУЗЧИКИ 5 Т | D93: МАШ.-Ч | F93: 1.8844
A94: 6 | B94: 258 | C94: БУЛЬДОЗЕРЫ ПРИ РАБОТЕ НА ДРУГИХ ВИДАХ СТРОИТЕЛЬСТВА 79 (108) КВТ (Л.С.) | D94: МАШ.-Ч | F94: 1.8001
A95: 7 | B95: 464 | C95: ГУДРОНАТОРЫ РУЧНЫЕ | D95: МАШ.-Ч | F95: 2.1397
A96: 8 | B96: 621 | C96: КАТКИ ДОРОЖНЫЕ САМОХОДНЫЕ ГЛАДКИЕ 8 Т | D96: МАШ.-Ч | F96: 14.2878
A97: 9 | B97: 623 | C97: КАТКИ ДОРОЖНЫЕ САМОХОДНЫЕ ГЛАДКИЕ 13 Т | D97: МАШ.-Ч | F97: 10.4352
A98: 10 | B98: 626 | C98: КАТКИ ДОРОЖНЫЕ САМОХОДНЫЕ НА ПНЕВМОКОЛЕСНОМ ХОДУ 30 Т | D98: МАШ.-Ч | F98: 9.3529
A99: 11 | B99: 1025 | C99: КИРКОВЩИКИ | D99: МАШ.-Ч | F99: 2.8321
A100: 12 | B100: 1135 | C100: МАШИНЫ ПОЛИВОМОЕЧНЫЕ 6000 Л | D100: МАШ.-Ч | F100: 9.2385
A101: 13 | B101: 1835 | C101: ТРАКТОРЫ НА ГУСЕНИЧНОМ ХОДУ 79 (108) КВТ (Л.С.) | D101: МАШ.-Ч | F101: 2.5769
A102: 14 | B102: 2499 | C102: АВТОМОБИЛИ БОРТОВЫЕ ГРУЗОПОДЪЕМНОСТЬЮ ДО 5 Т | D102: МАШ.-Ч | F102: 0.302544
... A109: 21 | B109: 3456 | C109: АВТОМОБИЛИ-САМОСВАЛЫ ГРУЗОПОДЪЕМНОСТЬЮ ДО 20 Т | D109: МАШ.-Ч | F109: 105.5808
C110: МАТЕРИАЛЬНЫЕ РЕСУРСЫ
A111: 22 | B111: 6087 | C111: АСФАЛЬТОБЕТОННЫЕ СМЕСИ МЕЛКОЗЕРНИСТЫЕ ТИПА Б М-2 | D111: Т | F111: 1042.9653
A112: 23 | B112: 9219 | C112: ВОДА | D112: М3 | F112: 50.0522
...

Sheet Объемка
A1: =+'Дефек акт'!A7 -> ТОШКЕНТ ШАҲАР ЮНУСОБОД ТУМАНИ, 14-МАВЗЕ, МФЙ "СЕВИНЧ" МАХАЛЛАСИДА УЙЛАР ОРАЛИҒИДАГИ 1500 МЕТР ЙЎЛЛАРНИ АСФАЛЬТЛАШ КЕРАК
A2: Йиғма иш хажми қайдномаси
A4: № | B4: Ишнинг номланиши | C4: Ўлчов бирлиги | D4: Хажми
B5: Умумий маълумотлар
A6: 1 | B6: Таъмирланаётган йул бўлагининг узунлиги | C6: м
A7: 2 | B7: Қатнов қисмининг ўртача эни | C7: м
A8: 3 | B8: Буюртмачи - Тошкент шаҳар минтақавий йўлларга буюртмачи хизмати ДУК
A9: 4 | B9: Курувчи ташкилоти - Танлов асосида аниқланади
A10: 5 | B10: Ишлар бажариладиган худуд - Тошкент шаҳар Юнусобод тумани
A11: 6 | B11: Курилиш монтаж ишлари автотранспорт харакати тўхтатилган холда бажарилади
B12: Йул тушамаси
A13: 1 | B13: Мавжуд қопламани механизм ёрдамида хайдаб бузиб, 1000м2 га 66м3 янги ҚШАли (ГОСТ 25607-2009 бўйича С5) материал қўшиш йўли билан тиклаш | C13: м2 | D13: =SUMIF('Дефек акт'!$F$14:$F$86,B13,'Дефек акт'!$I$14:$I$86) -> 2551.4
A14: 2 | B14: Донадорлиги 5-20 мм бўлган чақиқ тошдан текисловчи қатлам ётқизиш | C14: м³ | D14: =SUMIF('Дефек акт'!$F$14:$F$86,B14,'Дефек акт'!$I$14:$I$86) -> 76.6
A15: 3 | B15: Битум эмульцияси билан юзаки ишлов бериш | C15: т | D15: =+D17+D18 -> 5.026
B16: Шу жумладан:
B17: Битум эмульцияси билан юзаки ишлов бериш 0,3 л/м2 | C17: т | D17: =SUMIF('Дефек акт'!$F$14:$F$86,B17,'Дефек акт'!$I$14:$I$86) -> 0.16
B18: Битум эмульцияси билан юзаки ишлов бериш 0,6 л/м2 | C18: т | D18: =SUMIF('Дефек акт'!$F$14:$F$86,B18,'Дефек акт'!$I$14:$I$86) -> 4.866
A19: 4 | B19: Кичик мехенизм ёрдамида қайноқ майда заррали зич Тип Б Марка II асфальтобетондан 5 см қалинликда қоплама ёткизиш. (ГОСТ 9128-2013) | C19: м2 | D19: =SUMIF('Дефек акт'!$F$14:$F$86,B19,'Дефек акт'!$I$14:$I$86) -> 1512.72
A20: 5 | B20: Асфальтоукладчик билан қайноқ майда заррали зич Тип Б Марка II асфальтобетондан 5 см қалинликда қоплама ёткизиш. (ГОСТ 9128-2013) | C20: м2 | D20: =SUMIF('Дефек акт'!$F$14:$F$86,B20,'Дефек акт'!$I$14:$I$86) -> 7132.44
D21: =SUM(D12:D20)-D15 -> 11278.186
D22: =SUM('Дефек акт'!$I$15:$I$86) -> 11278.186
D23: =+D21-D22 -> 0

Sheet РЕСУРС
A2: =+Объемка!A1 -> ТОШКЕНТ ШАҲАР ЮНУСОБОД ТУМАНИ, 14-МАВЗЕ, МФЙ "СЕВИНЧ" МАХАЛЛАСИДА УЙЛАР ОРАЛИҒИДАГИ 1500 МЕТР ЙЎЛЛАРНИ АСФАЛЬТЛАШ КЕРАК
A4: СВОДНАЯ РЕСУРСНАЯ СМЕТА № 1
A5: ДОРОЖНЫЕ РАБОТЫ
A7: Основание: | C7: ДЕФЕКТНЫЙ АКТ
A8: N п/п | B8: Шифр (обоснование) | C8: Код АВС | D8: Наименование ресурса | E8: Единица измерения | F8: Сметная потреб-ность | G8: Сметная стоимость, СУМ | K8: Индекс
G9: в текущем уровне | I9: в текущем уровне
G10: единицы | H10: всего | I10: единицы | J10: всего
A11: 1 | B11: 2 | C11: 3 | D11: 4 | E11: 5 | F11: 6 | G11: 7 | H11: 8 | I11: 9 | J11: 10 | K11: 11
A13: Ресурсы по нормам СНиП
A14: Затраты труда
A15: 1. | C15: 1 | D15: Затраты труда рабочих-строителей | E15: чел.-ч | F15: 580.48206 | I15: 0 | J15: 0 | K15: 0
A16: 2. | C16: 3 | D16: Затраты труда машинистов | E16: чел.-ч | F16: 226.20576 | I16: 0 | J16: 0 | K16: 0
D17: Итого по трудовым ресурсам | E17: СУМ | J17: 0 | K17: 0
A19: Строительные машины и механизмы
A20: 1. | C20: 107 | D20: Автогрейдеры среднего типа 99 (135) кВт (л.с.) | E20: маш.-ч | F20: 10.81132 | I20: 0 | J20: 0 | K20: 0
A21: 2. | C21: 108 | D21: Автогудронаторы 3500 л | E21: маш.-ч | F21: 2.151128 | I21: 0 | J21: 0 | K21: 0
A22: 3. | C22: 112 | D22: Автопогрузчики 5 т | E22: маш.-ч | F22: 1.88436 | I22: 0 | J22: 0 | K22: 0
A23: 4. | C23: 258 | D23: Бульдозеры при работе на других видах строительства 79 (108) кВт (л.с.) | E23: маш.-ч | F23: 1.8001 | I23: 0 | J23: 0 | K23: 0
A24: 5. | C24: 464 | D24: Гудронаторы ручные | E24: маш.-ч | F24: 2.139732 | I24: 0 | J24: 0 | K24: 0
A25: 6. | C25: 621 | D25: Катки дорожные самоходные гладкие 8 т | E25: маш.-ч | F25: 14.28784 | I25: 0 | J25: 0 | K25: 0
A26: 7. | C26: 623 | D26: Катки дорожные самоходные гладкие 13 т | E26: маш.-ч | F26: 10.435226 | I26: 0 | J26: 0 | K26: 0
A27: 8. | C27: 626 | D27: Катки дорожные самоходные на пневмоколесном ходу 30 т | E27: маш.-ч | F27: 9.35286 | I27: 0 | J27: 0 | K27: 0
A28: 9. | C28: 1025 | D28: Кирковщики | E28: маш.-ч | F28: 2.832054 | I28: 0 | J28: 0 | K28: 0
A29: 10. | C29: 1135 | D29: Машины поливомоечные 6000 л | E29: маш.-ч | F29: 9.23851
A30: 11. | C30: 1835 | D30: Тракторы на гусеничном ходу 79 (108) кВт (л.с.) | E30: маш.-ч | F30: 2.576914
A31: 12. | C31: 2499 | D31: Автомобили бортовые грузоподъемностью до 5 т | E31: маш.-ч | F31: 0.302544
A32: 13. | C32: 2798 | D32: Резчики швов дисковые | E32: маш.-ч | F32: 1.069866
A33: 14. | C33: 3078 | D33: Виброплита с двигателем внутреннего сгорания | E33: маш.-ч | F33: 21.329352
A34: 15. | C34: 3097 | D34: Укладчики асфальтобетона типа "VOGELE" с шириной укладки до 6,5 м | E34: маш.-ч | F34: 12.838392
A35: 16. | C35: 3348 | D35: Катки самоходные дорожные вибрационные типа "DYNAPAC", "HAMM", "BOMAG", 8 т | E35: маш.-ч | F35: 21.967915
A36: 17. | C36: 3349 | D36: Катки самоходные дорожные вибрационные типа "DYNAPAC", "HAMM", "BOMAG", 10 т | E36: маш.-ч | F36: 9.7714428
A37: 18. | C37: 3350 | D37: Катки самоходные дорожные вибрационные типа "DYNAPAC", "HAMM", "BOMAG", 13 т | E37: маш.-ч | F37: 11.055282
A38: 19. | C38: 3456 | D38: Автомобили-самосвалы грузоподъемностью до 20 т | E38: маш.-ч | F38: 105.5808
D39: Итого по строительным машинам | E39: СУМ | J39: 0 | K39: 0
A41: Строительные материалы, изделия и детали
A42: 1. | C42: 6087 | D42: Асфальтобетонные смеси мелкозернистые типа Б М-2 | E42: т | F42: 1042.9653 | I42: 0 | J42: 0 | K42: 0
A43: 2. | C43: 9219 | D43: Вода | E43: м3 | F43: 50.052196 | I43: 0 | J43: 0 | K43: 0
A44: 3. | C44: 12303 | D44: Гравийно-песчаная смесь | E44: м3 | F44: 168.3924 | I44: 0 | J44: 0 | K44: 0
A45: 4. | C45: 12757 | D45: Щебень из естественного камня для строительных работ М-1000-1200 фракции 5-20 мм | E45: м3 | F45: 96.516
A46: 5. | C46: 30135 | D46: Битум | E46: т | F46: 1.0046332
A47: 6. | C47: 30137 | D47: Эмульсия битумная | E47: т | F47: 5.17678
D48: Итого по материальным ресурсам | E48: СУМ | J48: 0 | K48: 0
D50: Транспорные расходы 3%
A72: 1 | D72: Затраты труда рабочих-строителей | F72: =SUMIF($D$1:$D$71,D72,$F$1:$F$71) -> 580.48206
A73: 2 | D73: Итого по материальным ресурсам | H73: =SUMIF($D$1:$D$71,D73,$H$1:$H$71) -> 0
A74: 3 | D74: Итого по строительным машинам | H74: =SUMIF($D$1:$D$71,D74,$H$1:$H$71) -> 0
D75: Транспорные расходы 3% | H75: =SUMIF($D$1:$D$71,D75,$H$1:$H$71) -> 0
A82: 1 | D82: Асфальтобетонные смеси мелкозернистые типа Б М-2 | E82: т | F82: =SUMIF($D$1:$D$71,D82,$F$1:$F$71) -> 1042.9653 | H82: =SUMIF($D$1:$D$71,D82,$H$1:$H$71) -> 0
A83: 2 | D83: Смесь асфальтобетонная | E83: т | F83: =SUMIF($D$1:$D$71,D83,$F$1:$F$71) -> 0 | H83: =SUMIF($D$1:$D$71,D83,$H$1:$H$71) -> 0
A84: 3 | D84: Гравийно-песчаная смесь | E84: м3 | F84: =SUMIF($D$1:$D$71,D84,$F$1:$F$71) -> 168.3924 | H84: =SUMIF($D$1:$D$71,D84,$H$1:$H$71) -> 0
A85: 4 | D85: Щебень из естественного камня для строительных работ М-1000-1200 фракции 5-20 мм | E85: м3 | F85: =SUMIF($D$1:$D$71,D85,$F$1:$F$71) -> 96.516 | H85: =SUMIF($D$1:$D$71,D85,$H$1:$H$71) -> 0
G86: 0
