Workbook
Name _na1: #REF!
Name _na1: #REF!
Name _na1: #REF!
Name _na2: #REF!
Name _na2: #REF!
Name _na3: #REF!
Name _na3: #REF!
Name _na4: #REF!
Name _na4: #REF!
Name _na5: #REF!
Name _na5: #REF!
Name _na6: #REF!
Name _na6: #REF!
Name _na7: #REF!
Name _na7: #REF!
Name _na8: #REF!
Name _na8: #REF!
Name bases: #REF!
Name bases: #REF!
Name bases: #REF!
Name bases1: #REF!
Name bases1: #REF!
Name bases2: #REF!
Name bases2: #REF!
Name bases3: #REF!
Name bases3: #REF!
Name bases4: #REF!
Name bases4: #REF!
Name bases5: #REF!
Name bases5: #REF!
Name bases6: #REF!
Name bases6: #REF!
Name bases7: #REF!
Name bases7: #REF!
Name bases8: #REF!
Name bases8: #REF!
Name Build: #REF!
Name Build: #REF!
Name Build1: #REF!
Name Build1: #REF!
Name Build2: #REF!
Name Build2: #REF!
Name Build3: #REF!
Name Build3: #REF!
Name Build4: #REF!
Name Build4: #REF!
Name Build5: #REF!
Name Build5: #REF!
Name Build6: #REF!
Name Build6: #REF!
Name Build7: #REF!
Name Build7: #REF!
Name Build8: #REF!
Name Build8: #REF!
Name cmndBase: #REF!
Name cmndBase: #REF!
Name cmndDayMonthTo: #REF!
Name cmndDayMonthTo: #REF!
Name cmndDays: #REF!
Name cmndDays: #REF!

Sheet Дефек акт
G1: "ТАСДИҚЛАЙМАН"
G2: "Тошкент шаҳар минтақавий йўлларга
G3: буюртмачи хизмати" ДМ директори
G4: ____________________________
G5: "______" __________________2026 й
A7: ТОШКЕНТ ШАҲАР ЮНУСОБОД ТУМАНИ, 14-МАВЗЕ, МФЙ "СЕВИНЧ" МАХАЛЛАСИДА УЙЛАР ОРАЛИҒИДАГИ 1500 МЕТР ЙЎЛЛАРНИ АСФАЛЬТЛАШ КЕРАК
A8: НУҚСОНЛАР ДАЛОЛАТНОМАСИ
A9: Биз, куйида имзо чекувчилар, комиссия аъзолари: Тошкент шаҳар минтақавий йўлларга буюртмачи хизмати ДУК вакили ______________________________, Юнусобод тумани Ободонлаштириш бошқармаси вакили _______________________, Севинч МФЙ раиси _____________________________, мазкур кайдномани визуал текшириш ва инструментал улчашлар натижасида туздик ва ушбу кўча буйича куйидаги иш турлари ва хажмлари аникланди:
B10: Ишларнинг манзили | D10: Узунлиги, метр | E10: Йўл элементларининг мавжуд ҳолати | F10: Лойиҳада кўзда тутилган иш турлари ва тадбирлар | G10: Иш хажмлари | H10: Ўлчов бирлиги | I10: Миқдори (хажм)
B11: боши | C11: охири
B12: ПК+ | C12: ПК+
A13: 1 | B13: 2 | C13: 3 | D13: 4 | E13: 5 | F13: 6 | G13: 7 | H13: 8 | I13: 9
A14: 1-кўча.
A15: 1 | B15: 0+00 | C15: 3+24 | D15: 324 | E15: Йўлнинг мавжуд холати эски қопламадан иборат бўлиб, емирилишлар, ёриқлар, бузилишлар мавжуд. | F15: Битум эмульцияси билан юзаки ишлов бериш 0,6 л/м2 | G15: 0,6 х 2217,86 м2 / 1000 | H15: т | I15: 1.331
F16: Кичик мехенизм ёрдамида қайноқ майда заррали зич Тип Б Марка II асфальтобетондан 5 см қалинликда қоплама ёткизиш. (ГОСТ 9128-2013) | G16: 432 м2 | H16: м2 | I16: 432
F17: Асфальтоукладчик билан қайноқ майда заррали зич Тип Б Марка II асфальтобетондан 5 см қалинликда қоплама ёткизиш. (ГОСТ 9128-2013) | G17: 324 м х 5,5 м + 3,86 м2 | H17: м2 | I17: 1785.86
A18: 2 | B18: 3+24 | C18: 3+48 | D18: 24 | E18: Йўлнинг мавжуд холати эски қопламадан иборат бўлиб, емирилишлар, ёриқлар, бузилишлар мавжуд. . | F18: Битум эмульцияси билан юзаки ишлов бериш 0,6 л/м2 | G18: 0,6 х 108 м2 / 1000 | H18: т | I18: 0.065
F19: Асфальтоукладчик билан қайноқ майда заррали зич Тип Б Марка II асфальтобетондан 5 см қалинликда қоплама ёткизиш. (ГОСТ 9128-2013) | G19: 24 м х 4,5 м | H19: м2 | I19: 108
A20: 2-кўча.
A21: 3 | B21: 0+00 | C21: 1+20 | D21: 120 | E21: Йўлнинг мавжуд холати эски қопламадан иборат бўлиб, емирилишлар, ёриқлар, бузилишлар мавжуд. | F21: Битум эмульцияси билан юзаки ишлов бериш 0,6 л/м2 | G21: 0,6 х 819,86 м2 / 1000 | H21: т | I21: 0.492
F22: Кичик мехенизм ёрдамида қайноқ майда заррали зич Тип Б Марка II асфальтобетондан 5 см қалинликда қоплама ёткизиш. (ГОСТ 9128-2013) | G22: 192 м2 | H22: м2 | I22: 192
F23: Асфальтоукладчик билан қайноқ майда заррали зич Тип Б Марка II асфальтобетондан 5 см қалинликда қоплама ёткизиш. (ГОСТ 9128-2013) | G23: 120 м х 5,2 м + 3,86 м2 | H23: м2 | I23: 627.86
A24: 4 | B24: 1+20 | C24: 1+33 | D24: 13 | E24: Йўлнинг мавжуд холати эски қопламадан иборат бўлиб, емирилишлар, ёриқлар, бузилишлар мавжуд. . | F24: Битум эмульцияси билан юзаки ишлов бериш 0,6 л/м2 | G24: 0,6 х 117 м2 / 1000 | H24: т | I24: 0.07
F25: Асфальтоукладчик билан қайноқ майда заррали зич Тип Б Марка II асфальтобетондан 5 см қалинликда қоплама ёткизиш. (ГОСТ 9128-2013) | G25: 13 м х 9 м | H25: м2 | I25: 117
A26: 3-кўча.
A27: 5 | B27: 0+00 | C27: 0+50 | D27: 50 | E27: Йўлнинг мавжуд холати эски асфальтобетон қопламадан иборат бўлиб, тўрсимон ёриқлар, емирилишлар мавжуд. | F27: Битум эмульцияси билан юзаки ишлов бериш 0,3 л/м2 | G27: 0,3 х 337,72 м2 / 1000 | H27: т | I27: 0.101
F28: Асфальтоукладчик билан қайноқ майда заррали зич Тип Б Марка II асфальтобетондан 5 см қалинликда қоплама ёткизиш. (ГОСТ 9128-2013) | G28: 50 м х 6,6 м + 7,72 м2 | H28: м2 | I28: 337.72
A29: 4-кўча.
A30: 6 | B30: 0+00 | C30: 0+33 | D30: 33 | E30: Йўлнинг мавжуд холати эски қопламадан иборат бўлиб, емирилишлар, ёриқлар, бузилишлар мавжуд. . | F30: Битум эмульцияси билан юзаки ишлов бериш 0,6 л/м2 | G30: 0,6 х 148,5 м2 / 1000 | H30: т | I30: 0.089
F31: Асфальтоукладчик билан қайноқ майда заррали зич Тип Б Марка II асфальтобетондан 5 см қалинликда қоплама ёткизиш. (ГОСТ 9128-2013) | G31: 33 м х 4,5 м | H31: м2 | I31: 148.5
A32: 7 | B32: 0+33 | C32: 0+44 | D32: 11 | E32: Йўлнинг мавжуд холати эски қопламадан иборат бўлиб, емирилишлар, ёриқлар, бузилишлар мавжуд. . | F32: Битум эмульцияси билан юзаки ишлов бериш 0,6 л/м2 | G32: 0,6 х 88 м2 / 1000 | H32: т | I32: 0.053
F33: Асфальтоукладчик билан қайноқ майда заррали зич Тип Б Марка II асфальтобетондан 5 см қалинликда қоплама ёткизиш. (ГОСТ 9128-2013) | G33: 11 м х 8 м | H33: м2 | I33: 88
A34: 8 | B34: 0+44 | C34: 0+92 | D34: 48 | E34: Йўлнинг мавжуд холати эски қопламадан иборат бўлиб, емирилишлар, ёриқлар, бузилишлар мавжуд. . | F34: Битум эмульцияси билан юзаки ишлов бериш 0,6 л/м2 | G34: 0,6 х 144 м2 / 1000 | H34: т | I34: 0.086
F35: Асфальтоукладчик билан қайноқ майда заррали зич Тип Б Марка II асфальтобетондан 5 см қалинликда қоплама ёткизиш. (ГОСТ 9128-2013) | G35: 48 м х 3 м | H35: м2 | I35: 144
A36: 9 | B36: 0+92 | C36: 1+16 | D36: 24 | E36: Йўлнинг мавжуд холати эски қопламадан иборат бўлиб, емирилишлар, ёриқлар, бузилишлар мавжуд. . | F36: Битум эмульцияси билан юзаки ишлов бериш 0,6 л/м2 | G36: 0,6 х 99,86 м2 / 1000 | H36: т | I36: 0.06
F37: Асфальтоукладчик билан қайноқ майда заррали зич Тип Б Марка II асфальтобетондан 5 см қалинликда қоплама ёткизиш. (ГОСТ 9128-2013) | G37: 24 м х 4 м + 3,86 м2 | H37: м2 | I37: 99.86
A38: 10 | E38: Йўлнинг мавжуд холати эски қопламадан иборат бўлиб, емирилишлар, ёриқлар, бузилишлар мавжуд. . | F38: Битум эмульцияси билан юзаки ишлов бериш 0,6 л/м2 | G38: 0,6 х 90 м2 / 1000 | H38: т | I38: 0.054
F39: Кичик мехенизм ёрдамида қайноқ майда заррали зич Тип Б Марка II асфальтобетондан 5 см қалинликда қоплама ёткизиш. (ГОСТ 9128-2013) | G39: 90 м2 | H39: м2 | I39: 90
A40: 5-кўча.
A41: 11 | B41: 0+00 | C41: 0+93 | D41: 93 | E41: Йўлнинг мавжуд холати эски қопламадан иборат бўлиб, емирилишлар, ёриқлар, бузилишлар мавжуд. . | F41: Битум эмульцияси билан юзаки ишлов бериш 0,6 л/м2 | G41: 0,6 х 336,22 м2 / 1000 | H41: т | I41: 0.202
...

Sheet 01_ЛРВ
F1: Форма N 5
B2: ТОШКЕНТ ШАХАР ЮНУСОБОД ТУМАНИ, 14-МАВЗЕ, МФЙ "СЕВИНЧ" МАХАЛЛАСИДА УЙЛАР ОРАЛИГИДАГИ 1500 МЕТР ЙУЛЛАРНИ АСФАЛЬТЛАШ КЕРАК
B3: (наименование стройки)
C5: ЛОКАЛЬНАЯ РЕСУРСНАЯ ВЕДОМОСТЬ № | D5: 01
B6: (локальная ресурсная смета)
A8: на | B8: ДОРОЖНЫЕ РАБОТЫ,
B9: (наименование работ и затрат, наименование объекта)
A11: Основание: | C11: ДЕФЕКТНЫЙ АКТ
A12: N п.п. | B12: Шифр номера нормативов и коды ресурсов | C12: Наименование работ и затрат | D12: Единица измерения | E12: Количество
E13: на. ед. измерения | F13: по проектным данным
A14: 1 | B14: 2 | C14: 3 | D14: 4 | E14: 5 | F14: 6
A16: РАЗДЕЛ 1. ЙУЛ ТУШАМАСИ
A17: 1 | B17: Е2703-1-3 | C17: ИСПРАВЛЕНИЕ ПРОФИЛЯ ОСНОВАНИЙ ГРАВИЙНО-ПЕСЧАНОЙ СМЕСИ С ДОБАВЛЕНИЕМ НОВОГО МАТЕРИАЛА | D17: 1000М2 ПЛОЩАДИ ОСНОВАНИЯ | E17: 2.5514
A18: 1.1 | B18: 1 | C18: ЗАТРАТЫ ТРУДА РАБОЧИХ-СТРОИТЕЛЕЙ | D18: ЧЕЛ.-Ч | E18: 30.9 | F18: 78.8383
A19: 1.2 | B19: 3 | C19: ЗАТРАТЫ ТРУДА МАШИНИСТОВ | D19: ЧЕЛ.-Ч | E19: 16.35 | F19: 41.7154
A20: 1.3 | B20: 107 | C20: АВТОГРЕЙДЕРЫ СРЕДНЕГО ТИПА 99 (135) КВТ (Л.С.) | D20: МАШ.-Ч | E20: 3.7 | F20: 9.4402
A21: 1.4 | B21: 621 | C21: КАТКИ ДОРОЖНЫЕ САМОХОДНЫЕ ГЛАДКИЕ 8 Т | D21: МАШ.-Ч | E21: 5.6 | F21: 14.2878
A22: 1.5 | B22: 623 | C22: КАТКИ ДОРОЖНЫЕ САМОХОДНЫЕ ГЛАДКИЕ 13 Т | D22: МАШ.-Ч | E22: 4.09 | F22: 10.4352
A23: 1.6 | B23: 1025 | C23: КИРКОВЩИКИ | D23: МАШ.-Ч | E23: 1.11 | F23: 2.8321
A24: 1.7 | B24: 1135 | C24: МАШИНЫ ПОЛИВОМОЕЧНЫЕ 6000 Л | D24: МАШ.-Ч | E24: 1.95 | F24: 4.9752
A25: 1.8 | B25: 1835 | C25: ТРАКТОРЫ НА ГУСЕНИЧНОМ ХОДУ 79 (108) КВТ (Л.С.) | D25: МАШ.-Ч | E25: 1.01 | F25: 2.5769
A26: 1.9 | B26: 9219 | C26: ВОДА | D26: М3 | E26: 15 | F26: 38.271
A27: 1.10 | B27: 12303 | C27: ГРАВИЙНО-ПЕСЧАНАЯ СМЕСЬ | D27: М3 | E27: 66 | F27: 168.3924
A28: 2 | B28: Е2704-001-04 | C28: УСТРОЙСТВО ПОДСТИЛАЮЩИХ И ВЫРАВНИВАЮЩИХ СЛОЕВ ОСНОВАНИЙ ИЗ ЩЕБНЯ | D28: 100М3 | E28: 0.766
A29: 2.1 | B29: 1 | C29: ЗАТРАТЫ ТРУДА РАБОЧИХ-СТРОИТЕЛЕЙ | D29: ЧЕЛ.-Ч | E29: 21.6 | F29: 16.5456
A30: 2.2 | B30: 3 | C30: ЗАТРАТЫ ТРУДА МАШИНИСТОВ | D30: ЧЕЛ.-Ч | E30: 19.72 | F30: 15.1055
A31: 2.3 | B31: 107 | C31: АВТОГРЕЙДЕРЫ СРЕДНЕГО ТИПА 99 (135) КВТ (Л.С.) | D31: МАШ.-Ч | E31: 1.79 | F31: 1.3711
A32: 2.4 | B32: 112 | C32: АВТОПОГРУЗЧИКИ 5 Т | D32: МАШ.-Ч | E32: 2.46 | F32: 1.8844
A33: 2.5 | B33: 258 | C33: БУЛЬДОЗЕРЫ ПРИ РАБОТЕ НА ДРУГИХ ВИДАХ СТРОИТЕЛЬСТВА 79 (108) КВТ (Л.С.) | D33: МАШ.-Ч | E33: 2.35 | F33: 1.8001
A34: 2.6 | B34: 626 | C34: КАТКИ ДОРОЖНЫЕ САМОХОДНЫЕ НА ПНЕВМОКОЛЕСНОМ ХОДУ 30 Т | D34: МАШ.-Ч | E34: 12.21 | F34: 9.3529
A35: 2.7 | B35: 1135 | C35: МАШИНЫ ПОЛИВОМОЕЧНЫЕ 6000 Л | D35: МАШ.-Ч | E35: 0.91 | F35: 0.69706
A36: 2.8 | B36: 9219 | C36: ВОДА | D36: М3 | E36: 7 | F36: 5.362
A37: 2.9 | B37: 12757 | C37: ЩЕБЕНЬ ИЗ ЕСТЕСТВЕННОГО КАМНЯ ДЛЯ СТРОИТЕЛЬНЫХ РАБОТ М-1000-1200 ФРАКЦИИ 5-20 ММ | D37: М3 | E37: 126 | F37: 96.516
A38: 3 | B38: Е2706-026-01 | C38: ПОДГРУНТОВКА БИТУМНОЙ ЭМУЛЬСИИ С ДОСТАВКОЙ НА 6 КМ | D38: Т | E38: 5.026
A39: 3.1 | B39: 3 | C39: ЗАТРАТЫ ТРУДА МАШИНИСТОВ | D39: ЧЕЛ.-Ч | E39: 0.856 | F39: 4.3023
A40: 3.2 | B40: 108 | C40: АВТОГУДРОНАТОРЫ 3500 Л | D40: МАШ.-Ч | E40: 0.428 | F40: 2.1511
A41: 3.3 | B41: 30137 | C41: ЭМУЛЬСИЯ БИТУМНАЯ | D41: Т | E41: 1.03 | F41: 5.1768
A42: 4 | B42: Е2707-001-01 | C42: УСТРОЙСТВО АСФАЛЬТОБЕТОННЫХ ПОКРЫТИЙ ДОРОЖЕК ОДНОСЛОЙНЫХ ИЗ МЕЛКОЗЕРНИСТОЙ АСФАЛЬТО-БЕТОННОЙ СМЕСИ ТОЛЩИНОЙ 3 СМ | D42: 100М2 ПОКРЫТИЯ | E42: 15.1272
A43: 4.1 | B43: 1 | C43: ЗАТРАТЫ ТРУДА РАБОЧИХ-СТРОИТЕЛЕЙ | D43: ЧЕЛ.-Ч | E43: 14.4 | F43: 217.8317
A44: 4.2 | B44: 3 | C44: ЗАТРАТЫ ТРУДА МАШИНИСТОВ | D44: ЧЕЛ.-Ч | E44: 0.02 | F44: 0.302544
...

Sheet Объемка
A1: =+'Дефек акт'!A7 -> ТОШКЕНТ ШАҲАР ЮНУСОБОД ТУМАНИ, 14-МАВЗЕ, МФЙ "СЕВИНЧ" МАХАЛЛАСИДА УЙЛАР ОРАЛИҒИДАГИ 1500 МЕТР ЙЎЛЛАРНИ АСФАЛЬТЛАШ КЕРАК
A2: Йиғма иш хажми қайдномаси
A4: № | B4: Ишнинг номланиши | C4: Ўлчов бирлиги | D4: Хажми
B5: Умумий маълумотлар
A6: 1 | B6: Таъмирланаётган йул бўлагининг узунлиги | C6: м
A7: 2 | B7: Қатнов қисмининг ўртача эни | C7: м
A8: 3 | B8: Буюртмачи - Тошкент шаҳар минтақавий йўлларга буюртмачи хизмати ДУК
A9: 4 | B9: Курувчи ташкилоти - Танлов асосида аниқланади
A10: 5 | B10: Ишлар бажариладиган худуд - Тошкент шаҳар Юнусобод тумани
A11: 6 | B11: Курилиш монтаж ишлари автотранспорт харакати тўхтатилган холда бажарилади
B12: Йул тушамаси
A13: 1 | B13: Мавжуд қопламани механизм ёрдамида хайдаб бузиб, 1000м2 га 66м3 янги ҚШАли (ГОСТ 25607-2009 бўйича С5) материал қўшиш йўли билан тиклаш | C13: м2 | D13: =SUMIF('Дефек акт'!$F$14:$F$86,B13,'Дефек акт'!$I$14:$I$86) -> 2551.4
A14: 2 | B14: Донадорлиги 5-20 мм бўлган чақиқ тошдан текисловчи қатлам ётқизиш | C14: м³ | D14: =SUMIF('Дефек акт'!$F$14:$F$86,B14,'Дефек акт'!$I$14:$I$86) -> 76.6
A15: 3 | B15: Битум эмульцияси билан юзаки ишлов бериш | C15: т | D15: =+D17+D18 -> 5.026
B16: Шу жумладан:
B17: Битум эмульцияси билан юзаки ишлов бериш 0,3 л/м2 | C17: т | D17: =SUMIF('Дефек акт'!$F$14:$F$86,B17,'Дефек акт'!$I$14:$I$86) -> 0.16
B18: Битум эмульцияси билан юзаки ишлов бериш 0,6 л/м2 | C18: т | D18: =SUMIF('Дефек акт'!$F$14:$F$86,B18,'Дефек акт'!$I$14:$I$86) -> 4.866
A19: 4 | B19: Кичик мехенизм ёрдамида қайноқ майда заррали зич Тип Б Марка II асфальтобетондан 5 см қалинликда қоплама ёткизиш. (ГОСТ 9128-2013) | C19: м2 | D19: =SUMIF('Дефек акт'!$F$14:$F$86,B19,'Дефек акт'!$I$14:$I$86) -> 1512.72
A20: 5 | B20: Асфальтоукладчик билан қайноқ майда заррали зич Тип Б Марка II асфальтобетондан 5 см қалинликда қоплама ёткизиш. (ГОСТ 9128-2013) | C20: м2 | D20: =SUMIF('Дефек акт'!$F$14:$F$86,B20,'Дефек акт'!$I$14:$I$86) -> 7132.44
D21: =SUM(D12:D20)-D15 -> 11278.186
D22: =SUM('Дефек акт'!$I$15:$I$86) -> 11278.186
D23: =+D21-D22 -> 0

Sheet РЕСУРС
A2: =+Объемка!A1 -> ТОШКЕНТ ШАҲАР ЮНУСОБОД ТУМАНИ, 14-МАВЗЕ, МФЙ "СЕВИНЧ" МАХАЛЛАСИДА УЙЛАР ОРАЛИҒИДАГИ 1500 МЕТР ЙЎЛЛАРНИ АСФАЛЬТЛАШ КЕРАК
A4: СВОДНАЯ РЕСУРСНАЯ СМЕТА № 1
A5: ДОРОЖНЫЕ РАБОТЫ
A7: Основание: | C7: ДЕФЕКТНЫЙ АКТ
A8: N п/п | B8: Шифр (обоснование) | C8: Код АВС | D8: Наименование ресурса | E8: Единица измерения | F8: Сметная потреб-ность | G8: Сметная стоимость, СУМ | K8: Индекс
G9: в текущем уровне | I9: в текущем уровне
G10: единицы | H10: всего | I10: единицы | J10: всего
A11: 1 | B11: 2 | C11: 3 | D11: 4 | E11: 5 | F11: 6 | G11: 7 | H11: 8 | I11: 9 | J11: 10 | K11: 11
A13: Ресурсы по нормам СНиП
A14: Затраты труда
A15: 1. | C15: 1 | D15: Затраты труда рабочих-строителей | E15: чел.-ч | F15: 580.48206 | I15: 0 | J15: 0 | K15: 0
A16: 2. | C16: 3 | D16: Затраты труда машинистов | E16: чел.-ч | F16: 226.20576 | I16: 0 | J16: 0 | K16: 0
D17: Итого по трудовым ресурсам | E17: СУМ | J17: 0 | K17: 0
A19: Строительные машины и механизмы
A20: 1. | C20: 107 | D20: Автогрейдеры среднего типа 99 (135) кВт (л.с.) | E20: маш.-ч | F20: 10.81132 | I20: 0 | J20: 0 | K20: 0
A21: 2. | C21: 108 | D21: Автогудронаторы 3500 л | E21: маш.-ч | F21: 2.151128 | I21: 0 | J21: 0 | K21: 0
A22: 3. | C22: 112 | D22: Автопогрузчики 5 т | E22: маш.-ч | F22: 1.88436 | I22: 0 | J22: 0 | K22: 0
A23: 4. | C23: 258 | D23: Бульдозеры при работе на других видах строительства 79 (108) кВт (л.с.) | E23: маш.-ч | F23: 1.8001 | I23: 0 | J23: 0 | K23: 0
A24: 5. | C24: 464 | D24: Гудронаторы ручные | E24: маш.-ч | F24: 2.139732 | I24: 0 | J24: 0 | K24: 0
A25: 6. | C25: 621 | D25: Катки дорожные самоходные гладкие 8 т | E25: маш.-ч | F25: 14.28784 | I25: 0 | J25: 0 | K25: 0
A26: 7. | C26: 623 | D26: Катки дорожные самоходные гладкие 13 т | E26: маш.-ч | F26: 10.435226 | I26: 0 | J26: 0 | K26: 0
A27: 8. | C27: 626 | D27: Катки дорожные самоходные на пневмоколесном ходу 30 т | E27: маш.-ч | F27: 9.35286 | I27: 0 | J27: 0 | K27: 0
A28: 9. | C28: 1025 | D28: Кирковщики | E28: маш.-ч | F28: 2.832054 | I28: 0 | J28: 0 | K28: 0
A29: 10. | C29: 1135 | D29: Машины поливомоечные 6000 л | E29: маш.-ч | F29: 9.23851
A30: 11. | C30: 1835 | D30: Тракторы на гусеничном ходу 79 (108) кВт (л.с.) | E30: маш.-ч | F30: 2.576914
A31: 12. | C31: 2499 | D31: Автомобили бортовые грузоподъемностью до 5 т | E31: маш.-ч | F31: 0.302544
A32: 13. | C32: 2798 | D32: Резчики швов дисковые | E32: маш.-ч | F32: 1.069866
A33: 14. | C33: 3078 | D33: Виброплита с двигателем внутреннего сгорания | E33: маш.-ч | F33: 21.329352
A34: 15. | C34: 3097 | D34: Укладчики асфальтобетона типа "VOGELE" с шириной укладки до 6,5 м | E34: маш.-ч | F34: 12.838392
A35: 16. | C35: 3348 | D35: Катки самоходные дорожные вибрационные типа "DYNAPAC", "HAMM", "BOMAG", 8 т | E35: маш.-ч | F35: 21.967915
A36: 17. | C36: 3349 | D36: Катки самоходные дорожные вибрационные типа "DYNAPAC", "HAMM", "BOMAG", 10 т | E36: маш.-ч | F36: 9.7714428
A37: 18. | C37: 3350 | D37: Катки самоходные дорожные вибрационные типа "DYNAPAC", "HAMM", "BOMAG", 13 т | E37: маш.-ч | F37: 11.055282
A38: 19. | C38: 3456 | D38: Автомобили-самосвалы грузоподъемностью до 20 т | E38: маш.-ч | F38: 105.5808
D39: Итого по строительным машинам | E39: СУМ | J39: 0 | K39: 0
A41: Строительные материалы, изделия и детали
A42: 1. | C42: 6087 | D42: Асфальтобетонные смеси мелкозернистые типа Б М-2 | E42: т | F42: 1042.9653 | I42: 0 | J42: 0 | K42: 0
A43: 2. | C43: 9219 | D43: Вода | E43: м3 | F43: 50.052196 | I43: 0 | J43: 0 | K43: 0
A44: 3. | C44: 12303 | D44: Гравийно-песчаная смесь | E44: м3 | F44: 168.3924 | I44: 0 | J44: 0 | K44: 0
A45: 4. | C45: 12757 | D45: Щебень из естественного камня для строительных работ М-1000-1200 фракции 5-20 мм | E45: м3 | F45: 96.516
A46: 5. | C46: 30135 | D46: Битум | E46: т | F46: 1.0046332
...
