Workbook
Name _na1: #REF!
Name _na1: #REF!
Name _na2: #REF!
Name _na2: #REF!
Name _na3: #REF!
Name _na3: #REF!
Name _na4: #REF!
Name _na5: #REF!
Name _na6: #REF!
Name _na7: #REF!
Name _na8: #REF!
Name bases: #REF!
Name bases: #REF!
Name bases1: #REF!
Name bases2: #REF!
Name bases3: #REF!
Name bases4: #REF!
Name bases5: #REF!
Name bases6: #REF!
Name bases7: #REF!
Name bases8: #REF!
Name Build: #REF!
Name Build1: #REF!
Name Build2: #REF!
Name Build3: #REF!
Name Build4: #REF!
Name Build5: #REF!
Name Build6: #REF!
Name Build7: #REF!
Name Build8: #REF!
Name cmndBase: #REF!
Name cmndDayMonthTo: #REF!
Name cmndDays: #REF!
Name cmndDocNum: #REF!
Name cmndDocSer: #REF!
Name cmndFIO: #REF!
Name cmndOrdDay: #REF!
Name cmndOrdMonth: #REF!
Name cmndOrdNum: #REF!
Name cmndOrdYear: #REF!
Name cmndPoint: #REF!
Name cmndPoint1: #REF!
Name cmndPos: #REF!
Name cmndYearTo: #REF!
Name cntAddition: #REF!
Name cntDay: #REF!
Name cntMonth: #REF!
Name cntName: #REF!
Name cntNumber: #REF!
Name cntPayer: #REF!
Name cntPayer1: #REF!
Name cntPayerAddr1: #REF!
Name cntPayerAddr2: #REF!
Name cntPayerBank1: #REF!
Name cntPayerBank2: #REF!
Name cntPayerBank3: #REF!
Name cntPayerCount: #REF!
Name cntPayerCountCor: #REF!
Name cntPriceC: #REF!
Name cntPriceR: #REF!

Sheet Форма
B1: РЕКОМЕНДУЕМАЯ СТОИМОСТЬ ОБЪЕКТА В ТЕКУЩИХ ЦЕНАХ.
A3: НАМАНГАН ВИЛОЯТИ УЧКУРГОН ТУМАНИ НАМУНА МФЙДА ЖОЙЛАШГАН С.АБДУЛЛА КУЧАСИ ВА Б.МАШРАБ КУЧАСИНИ ОРАСИ 1850 М, МАРВАРИД КУЧАСИ 1125 М МАСОФАНИ АСФАЛЬТ КИЛИШ
A4: №№ ПП | B4: НАИМЕНОВАНИЕ ЗАТРАТ | C4: Цена
C5: (тыс.сум)
A6: 1 | B6: 2 | C6: 3
A7: 1 | B7: ЗАТРАТЫ НА ОБОРУДОВАНИЕ, МЕБЕЛЬ И ИНВЕНТАРЬ
A8: 2 | B8: ЗАТРАТЫ НА СТРОИТЕЛЬНЫЕ МАТЕРИАЛЫ, ИЗДЕЛИЯ И КОНСТРУКЦИИ
A9: 3 | B9: ТРАНСПОРТНЫЕ РАСХОДЫ НА МАТЕРИАЛЫ
A10: 4 | B10: ЗАГОТОВИТЕЛЬНО-СКЛАДСКИЕ РАСХОДЫ
A11: 5 | B11: ТРАНСПОРТНЫЕ РАСХОДЫ НА ОБОРУДОВАНИЕ
A12: 6 | B12: ЗАТРАТЫ НА ОСНОВНУЮ ЗАРАБОТНУЮ ПЛАТУ С УЧЕТОМ НАЧИСЛЕНИЙ НА СОЦИАЛЬНОЕ СТРАХОВАНИЕ
A13: 7 | B13: ЗАТРАТЫ НА ЭКСПЛУАТАЦИЮ МАШИН И МЕХАНИЗМОВ
B14: ИТОГО ПРЯМЫХ ЗАТРАТ
A15: 8 | B15: ОТРАСЛЕВАЯ РЕНТАБИЛЬНОСТЬ
A16: 9 | B16: ПРОЧИЕ ЗАТРАТЫ И РАСХОДЫ ПОДРЯДЧИКА
A17: 10 | B17: ПРОЧИЕ ЗАТРАТЫ И РАСХОДЫ ЗАКАЗЧИКА
A18: 11 | B18: ЗАТРАТЫ НА СТРАХОВАНИЕ СТРОИТЕЛЬСТВА ОБЪЕКТОВ
A19: 12 | B19: КОЭФФИЦИЕНТ РИСКА, ОПРЕДЕЛЯЕМЫЙ ИСХОДЯ ИЗ ПРОГНОЗИРУЕМОГО ИНДЕКСА РОСТА ЦЕН В СТРОИТЕЛЬСТВЕ НА ОЧЕРЕДНОЙ ГОД
A20: 13 | B20: И Т О Г О СТОИМОСТЬ СТРОИТЕЛЬСТВА В ТЕКУЩИХ ЦЕНАХ
A21: 14 | B21: НДС 12 %
A22: 15 | B22: ИТОГО С НДС
B24: ЗАКАЗЧИК
B26: ___________________
B27: МП

Sheet Исходные данные
A1: Исходные данные для определения стоимости объекта в текущих ценах
B3: 1 | C3: Затраты на оборудование, мебель и инвентарь (Со) | D3: 0 | E3: сум
B4: 2 | C4: Затраты на строительные материалы, изделия и конструкции (См) | D4: =+РЕСУРС!H70 -> 1.0102882e+09 | E4: сум
C5: Транспортные расходы на материалы | D5: =РЕСУРС!H72 -> 157722.76 | E5: сум
C6: Заготовительно-складские расходы | E6: сум
C7: Транспортные расходы на оборудование с загот.скл.расх | D7: 0 | E7: сум
B8: 3 | C8: Затраты на ОЗП с учетом начислений на соцстрах (Сзп) | D8: =ROUND(D9*D10/D11*D12,0) -> 15860081 | E8: сум
B9: 3.1 | C9: Нормативная трудоемкость объекта (Т) | D9: =+РЕСУРС!F15 -> 571.39114 | E9: чел/час
B10: 3.2 | C10: Среднегодовая заработная плата строителей по региону в расчете на месяц, определенная на основе статистических данных за предыдущие 12 месяцев, сум./месяц (Змс) | D10: =РЕСУРС!G15/1.12*'Исходные данные'!D11 -> 4070607.8 | E10: сум/месяц
B11: 3.3 | C11: Среднемесячный фонд рабочего времени в часах по данным Министерства труда и социальной защиты населения Республики Узбекистан (Ф) | D11: 164.25 | E11: час
B12: 3.4 | C12: Коэффициент учета размера отчислений на соцстрах (Ксс) | D12: 1.12
B13: 4 | C13: Затраты на эксплуатацию машин и механизмов (Сэм) | D13: =+РЕСУРС!H45 -> 1.6043357e+08 | E13: сум
C14: Сумма (сум)
B15: 5 | C15: Прочие затраты и расходы подрядчика (Пп) | D15: =(D4+D5+D8+D13)*D16 -> 2.0174573e+08 | E15: сум
C16: Процент (%) | D16: 0.17 | E16: %
C17: Сумма (сум) | E17: сум
B18: 6 | C18: Отраслевая рентабельность(Нпр) | D18: =(D4+D5+D8+D13)*D19 -> 0
C19: Процент (%) | D19: 0
C20: Сумма (сум)
B21: 7 | C21: Прочие затраты и расходы заказчика (Пз) | D21: 0 | E21: сум
C22: Процент (%) | E22: %
C23: Сумма (сум) | E23: сум
B24: 8 | C24: Затраты на страхование строительства объектов | D24: =(D4+D5+D8+D13+D15)*D25 -> 4443153.1 | E24: сум
C25: Процент (%) | D25: 0.0032 | E25: %
C26: Сумма (сум) | E26: сум
B27: 9 | C27: Коэффициент риска, исходя из прогноза индекса роста цен | D27: 1 | E27: %
C28: Итого стоимость объекта в текущих ценах | D28: =ROUND((D4+D8+D13+D15+D5+D6)*D27+D3+D7+D21+D18+D24,0)/1000 -> 1392928.5 | E28: тыс.сум

Sheet РЕСУРС
A2: НАМАНГАН ВИЛОЯТИ УЧҚЎРҒОН ТУМАНИ НАМУНА МФЙДА ЖОЙЛАШГАН С.АБДУЛЛА КЎЧАСИ ВА Б.МАШРАБ КЎЧАСИНИ ОРАСИ 1850 М, МАРВАРИД КЎЧАСИ 1125 М МАСОФАНИ АСФАЛЬТ ҚИЛИШ
A4: СВОДНАЯ РЕСУРСНАЯ СМЕТА № 1
A5: ДОРОЖНЫЕ РАБОТЫ
A7: Основание: | C7: ВЕДОМОСТЬ ОБЪЕМОВ РАБОТ
A8: N п/п | B8: Шифр (обоснование) | C8: Код АВС | D8: Наименование ресурса | E8: Единица измерения | F8: Сметная потреб-ность | G8: Сметная стоимость, СУМ
G9: в текущем уровне
G10: единицы | H10: всего
A11: 1 | B11: 2 | C11: 3 | D11: 4 | E11: 5 | F11: 6 | G11: 7 | H11: 8
A13: Ресурсы по нормам СНиП
A14: Затраты труда
A15: 1. | C15: 1 | D15: Затраты труда рабочих-строителей | E15: чел.-ч | F15: 571.39114 | G15: 27756.96 | H15: =+G15*F15 -> 15860081
A16: 2. | C16: 3 | D16: Затраты труда машинистов | E16: чел.-ч | F16: 577.41466 | H16: 0
D17: Итого по трудовым ресурсам | E17: СУМ | H17: =SUM(H15:H16) -> 15860081
A19: Строительные машины и механизмы
A20: 1. | C20: 97 | D20: Автомобили-самосвалы грузоподъемностью до 30 т | E20: маш.-ч | F20: 22.83255 | G20: 316771 | H20: =+G20*F20 -> 7232689.7
A21: 2. | C21: 107 | D21: Автогрейдеры среднего типа 99 (135) кВт (л.с.) | E21: маш.-ч | F21: 36.591886 | G21: 294846 | H21: =+G21*F21 -> 10788971
A22: 3. | C22: 108 | D22: Автогудронаторы 3500 л | E22: маш.-ч | F22: 9.20931 | G22: 180023 | H22: =+G22*F22 -> 1657887.6
A23: 4. | C23: 403 | D23: Вибраторы глубинные | E23: маш.-ч | F23: 0.0233856 | G23: 1672 | H23: =+G23*F23 -> 39.100723
A24: 5. | C24: 464 | D24: Гудронаторы ручные | E24: маш.-ч | F24: 3.805425 | G24: 303 | H24: =+G24*F24 -> 1153.0438
A25: 6. | C25: 619 | D25: Катки дорожные самоходные вибрационные 2,2 т | E25: маш.-ч | F25: 8.46965 | G25: 105589 | H25: =+G25*F25 -> 894301.87
A26: 7. | C26: 621 | D26: Катки дорожные самоходные гладкие 8 т | E26: маш.-ч | F26: 43.884568 | G26: 179705 | H26: =+G26*F26 -> 7886276.3
A27: 8. | C27: 623 | D27: Катки дорожные самоходные гладкие 13 т | E27: маш.-ч | F27: 32.051408 | G27: 202982 | H27: =+G27*F27 -> 6505858.8
A28: 9. | C28: 762 | D28: Краны на автомобильном ходу при работе на других видах строительства 10 т | E28: маш.-ч | F28: 0.152 | G28: 251577 | H28: =+G28*F28 -> 38239.704
A29: 10. | C29: 1025 | D29: Кирковщики | E29: маш.-ч | F29: 8.6985483 | G29: 0 | H29: =+G29*F29 -> 0
A30: 11. | C30: 1069 | D30: Машины бурильные на тракторе 85 (115) кВт (л.с.) глубиной бурения 3,5 м | E30: маш.-ч | F30: 1.1 | G30: 274574 | H30: =+G30*F30 -> 302031.4
A31: 12. | C31: 1135 | D31: Машины поливомоечные 6000 л | E31: маш.-ч | F31: 24.068708 | G31: 205109 | H31: =+G31*F31 -> 4936708.7
... A44: 25. | C44: 3457 | D44: Автомобили-самосвалы грузоподъемностью до 25 т | E44: маш.-ч | F44: 258.13161 | G44: 316771 | H44: =+G44*F44 -> 81768608
D45: Итого по строительным машинам | E45: СУМ | H45: =SUM(H20:H44) -> 1.6043357e+08
A47: Строительные материалы, изделия и детали
A48: 1. | C48: 6087 | D48: Асфальтобетонные смеси мелкозернистые типа Б М-2 | E48: т | F48: 1532.5715 | G48: 611471 | H48: =+G48*F48 -> 9.3712302e+08
A49: 2. | C49: 6322 | D49: Бетон тяжелый класса В15 /М-200/ фракции 5-20 мм | E49: м3 | F49: 0.11424 | G49: 370000 | H49: =+G49*F49 -> 42268.8
A50: 3. | C50: 9219 | D50: Вода | E50: м3 | F50: 146.91816 | G50: 0 | H50: =+G50*F50 -> 0
A51: 4. | C51: 12303 | D51: Гравийно-песчаная смесь | E51: м3 | F51: 1055.8139 | G51: 31171 | H51: =+G51*F51 -> 32910776 | I51: ,
A52: 5. | C52: 30135 | D52: Битум | E52: т | F52: 0.1725126 | G52: 5803571 | H52: =+G52*F52 -> 1001189.1
A53: 6. | C53: 30137 | D53: Эмульсия битумная | E53: т | F53: 7.83933 | G53: 4464285.7 | H53: =+G53*F53 -> 34997009
A54: 7. | C54: 30303 | D54: Болты с шестигранной головкой диаметром резьбы 10 мм | E54: т | F54: 0.0048 | G54: 15402000 | H54: =+G54*F54 -> 73929.6
A55: 8. | C55: 30407 | D55: Гвозди строительные | E55: т | F55: 2.128e-05 | G55: 9375000 | H55: =+G55*F55 -> 199.5
A56: 9. | C56: 30652 | D56: Известь строительная негашеная комовая, сорт 1 | E56: т | F56: 2.8e-05 | G56: 850000 | H56: =+G56*F56 -> 23.8
A57: 10. | C57: 31403 | D57: Грунтовка В-КФ-093 красно-коричневая, серая, черная | E57: т | F57: 0.001935 | G57: 18482000 | H57: =+G57*F57 -> 35762.67
A58: 11. | C58: 31445 | D58: Краски перхлорвиниловые | E58: т | F58: 0.000562 | G58: 18482000 | H58: =+G58*F58 -> 10386.884
...

Sheet Дефектовка
G1: "ТАСДИҚЛАЙМАН"
G2: Наманган минтақавий йўлларга буюртмачи хизмати ДМ директори
G4: ____________________ _____________
G5: "______" __________________2026 й
A7: НАМАНГАН ВИЛОЯТИ УЧҚЎРҒОН ТУМАНИ НАМУНА МФЙДА ЖОЙЛАШГАН С.АБДУЛЛА КЎЧАСИ ВА Б.МАШРАБ КЎЧАСИНИ ОРАСИ 1850 М, МАРВАРИД КЎЧАСИ 1125 М МАСОФАНИ АСФАЛЬТ ҚИЛИШ
A8: НУКСОНЛАР ДАЛОЛАТНОМАСИ
A9: Биз, куйида имзо чекувчилар, комиссия аъзолари: Наманган вилояти минтақавий йўлларга буюртмачи хизмати ДМ бажарилган ишларни қабул қилиш бўлими мутахассиси, лойиҳа таъминоти бўлими бошлиғи, Намуна МФЙ раиси, ташаббускор ҳамда лойиҳа ташкилот вакиллари мазкур далолатномани визуал текшириш ва инструментал ўлчашлар натижасида туздик ва ушбу кўча бўйича қуйидаги иш турлари ва хажмлари аниқланди:
A10: № т.р | B10: Ишлар манзили | D10: Узунлиги, метр | E10: Йўл элементларининг мавжуд ҳолати | F10: Лойиҳада кўзда тутилган иш турлари ва тадбирлар | G10: Иш хажмларини хисоблаш формуласи | H10: Ўлчов бирлиги | I10: Миқдори (хажм)
B11: боши | C11: охири
B12: ПК+ | C12: ПК+
A13: 1 | B13: 2 | C13: 3 | D13: 4 | E13: 5 | F13: 6 | G13: 7 | H13: 8 | I13: 9
A14: Трасса 1 (С.Абдулла кўчаси)
A15: 1 | B15: 0+00 9+35 | C15: 9+35 17+77 | D15: 935 842 | E15: Йўлнинг мавжуд холати қум шағал аралашмасидан иборат бўлиб, чўкишлар нотекисликлар мавжуд. | F15: Мавжуд йўл профилини 1000м2 га 66 м3 янги ҚШАли ГОСТ 25607-2009 (С6) материал қўшиш йўли билан тиклаш | G15: 935 м х 4 м х 50% 842 м х 3 м х 50% | H15: м2 | I15: 3138.37
F16: Битум эмульцияси билан юзаки ишлов бериш 0,6 л/м2 | G16: 0,6 х 6276,73 м2 / 1000 | H16: т | I16: 3.766
F17: Асфальтоукладчик ёрдамида қайноқ майда заррали зич асфальтобетондан 5 см қалинликда қоплама ёткизиш. (ГОСТ 9128-2013) | G17: 935 м х 4 м 842 м х 3 м | H17: м2 | I17: 6276.73
F18: Қум шағал аралашмаси ёрдамида (ГОСТ 25607-2009 бўйича С11) 5 см қалинликда йўл марзасини мустаҳкамлаш | G18: 1777 м х 0,25 м х 2 | H18: м2 | I18: 888.5
A19: 2 | B19: 9+00 | D19: 20 | E19: Автотураргохнинг мавжуд холати қум шағал аралашмасидан иборат бўлиб, чўкишлар нотекисликлар мавжуд. | F19: Мавжуд йўл профилини 1000м2 га 66 м3 янги ҚШАли ГОСТ 25607-2009 (С6) материал қўшиш йўли билан тиклаш | G19: 20 м х 5 м | H19: м2 | I19: 100
F20: Битум эмульцияси билан юзаки ишлов бериш 0,6 л/м2 | G20: 0,6 х 100 м2 / 1000 | H20: т | I20: 0.06
F21: Асфальтоукладчик ёрдамида қайноқ майда заррали зич асфальтобетондан 5 см қалинликда қоплама ёткизиш. (ГОСТ 9128-2013) | G21: 20 м х 5 м | H21: м2 | I21: 100
A22: 3 | B22: 0+05 17+72 | E22: Йўл белгилари етишмайди. | F22: Йўл белгиларини узунлиги 4 м ўлчами 50х50 мм бўлган металл устинини B-15 маркали қуйма бетон пойдеворга ўрнатиш | G22: 10 дона | H22: дона | I22: 10
G23: 0,112 м3 | H23: м3 | I23: 0.112
F24: Ўлчами 700 мм бўлган 1.11 .1"Хавфли бурилиш" йўл белгиси | G24: 1 дона | H24: дона | I24: 1
F25: Ўлчами 700 мм бўлган 1.11.2"Хавфли бурилиш" йўл белгиси | G25: 1 дона | H25: дона | I25: 1
F26: Ўлчами 615 х 500 мм бўлган 1.31.1"Бурилишнинг йўналиши" йўл белгиси | G26: 3 дона | H26: дона | I26: 3
F27: Ўлчами 615 х 500 мм бўлган 1.31.2"Бурилишнинг йўналиши" йўл белгиси | G27: 3 дона | H27: дона | I27: 3
F28: Ўлчами 700 мм бўлган 3.12 "Ўққа тушадиган оғирлик чекланган" йўл белгиси | G28: 2 дона | H28: дона | I28: 2
A29: Трасса 2 (Тош ховуз кўчаси)
A30: 4 | B30: 0+00 | C30: 0+57 | D30: 57 | E30: Йўлнинг мавжуд холати қум шағал аралашмасидан иборат бўлиб, чўкишлар нотекисликлар мавжуд. | F30: Мавжуд йўл профилини 1000м2 га 66 м3 янги ҚШАли ГОСТ 25607-2009 (С6) материал қўшиш йўли билан тиклаш | G30: 57 м х 3,5 м + 6,86 м2 | H30: м2 | I30: 206.36
F31: Битум эмульцияси билан юзаки ишлов бериш 0,6 л/м2 | G31: 0,6 х 206,36 м2 / 1000 | H31: т | I31: 0.124
F32: Асфальтоукладчик ёрдамида қайноқ майда заррали зич асфальтобетондан 5 см қалинликда қоплама ёткизиш. (ГОСТ 9128-2013) | G32: 57 м х 3,5 м + 6,86 м2 | H32: м2 | I32: 206.36
A33: Трасса 3 (Марварид кўчаси)
A34: 5 | B34: 0+00 | C34: 1+10 | D34: 110 | E34: Йўлнинг мавжуд холати қум шағал аралашмасидан иборат бўлиб, чўкишлар нотекисликлар мавжуд. | F34: Мавжуд йўл профилини 1000м2 га 66 м3 янги ҚШАли ГОСТ 25607-2009 (С6) материал қўшиш йўли билан тиклаш | G34: 110 м х 3,5 м + 6,86 м2 | H34: м2 | I34: 391.86
F35: Битум эмульцияси билан юзаки ишлов бериш 0,6 л/м2 | G35: 0,6 х 391,86 м2 / 1000 | H35: т | I35: 0.235
F36: Асфальтоукладчик ёрдамида қайноқ майда заррали зич асфальтобетондан 5 см қалинликда қоплама ёткизиш. (ГОСТ 9128-2013) | G36: 110 м х 3,5 м + 6,86 м2 | H36: м2 | I36: 391.86
F37: Қум шағал аралашмаси ёрдамида (ГОСТ 25607-2009 бўйича С11) 5 см қалинликда йўл марзасини мустаҳкамлаш | G37: 110 м х 0,25 м х 2 | H37: м2 | I37: 55
A38: 6 | B38: 1+10 | C38: 2+25 | D38: 115 | E38: Йўлнинг мавжуд холатида қум шағал аралашмаси тупроққа қоришиб кетган. | F38: Қум шағал аралашмаси ГОСТ 25607-2009 (С4) дан 20 см қалинликда асос ётқизиш | G38: 115 м х 3 м | H38: м2 | I38: 345
F39: Битум эмульцияси билан юзаки ишлов бериш 0,6 л/м2 | G39: 0,6 х 345 м2 / 1000 | H39: т | I39: 0.207
F40: Асфальтоукладчик ёрдамида қайноқ майда заррали зич асфальтобетондан 5 см қалинликда қоплама ёткизиш. (ГОСТ 9128-2013) | G40: 115 м х 3 м | H40: м2 | I40: 345
F41: Қум шағал аралашмаси ёрдамида (ГОСТ 25607-2009 бўйича С11) 5 см қалинликда йўл марзасини мустаҳкамлаш | G41: 115 м х 0,25 м х 2 | H41: м2 | I41: 57.5
A42: Трасса 4 (Марварид кўчаси)
...

Sheet Объемка
A1: =+Дефектовка!A7 -> НАМАНГАН ВИЛОЯТИ УЧҚЎРҒОН ТУМАНИ НАМУНА МФЙДА ЖОЙЛАШГАН С.АБДУЛЛА КЎЧАСИ ВА Б.МАШРАБ КЎЧАСИНИ ОРАСИ 1850 М, МАРВАРИД КЎЧАСИ 1125 М МАСОФАНИ АСФАЛЬТ ҚИЛИШ
A2: Йиғма иш хажми қайдномаси
A4: № | B4: Ишнинг номланиши | C4: Ўлчов бирлиги | D4: Хажми
B5: Умумий маълумотлар
A6: 1 | B6: Таъмирланаётган йўл бўлагининг узунлиги | C6: м | D6: 3587
A7: 2 | B7: Қатнов кисмининг ўртача эни | C7: м | D7: 3,0-4,0
A8: 3 | B8: Буюртмачи - Наманган минтақавий йўлларга буюртмачи хизмати ДМ
A9: 4 | B9: Курувчи ташкилоти - Танлов асосида аниқланади
A10: 5 | B10: Ишлар бажариладиган худуд - Наманган вилояти Учқўрғон тумани
A11: 6 | B11: Курилиш монтаж ишлари автотранспорт харакати тўхтатилган холда бажарилади
B12: Йўл тушамаси
A13: 1 | B13: Қум шағал аралашмаси ГОСТ 25607-2009 (С4) дан 20 см қалинликда асос ётқизиш | C13: м2 | D13: =SUMIF(Дефектовка!$F$15:$F$67,B13,Дефектовка!$I$15:$I$67) -> 1709.86
A14: =+A13+1 -> 2 | B14: Мавжуд йўл профилини 1000м2 га 66 м3 янги ҚШАли ГОСТ 25607-2009 (С6) материал қўшиш йўли билан тиклаш | C14: м2 | D14: =SUMIF(Дефектовка!$F$15:$F$67,B14,Дефектовка!$I$15:$I$67) -> 7836.53
A15: =+A14+1 -> 3 | B15: Битум эмульцияси билан юзаки ишлов бериш 0,6 л/м2 | C15: т | D15: =SUMIF(Дефектовка!$F$15:$F$67,B15,Дефектовка!$I$15:$I$67) -> 7.611
A16: =+A15+1 -> 4 | B16: Асфальтоукладчик ёрдамида қайноқ майда заррали зич асфальтобетондан 5 см қалинликда қоплама ёткизиш. (ГОСТ 9128-2013) | C16: м2 | D16: =SUMIF(Дефектовка!$F$15:$F$67,B16,Дефектовка!$I$15:$I$67) -> 12684.75
A17: =+A16+1 -> 5 | B17: Қум шағал аралашмаси ёрдамида (ГОСТ 25607-2009 бўйича С11) 5 см қалинликда йўл марзасини мустаҳкамлаш | C17: м2 | D17: =SUMIF(Дефектовка!$F$15:$F$67,B17,Дефектовка!$I$15:$I$67) -> 1728.5
B18: Йўл белгиларини ўрнатиш
A19: =+A17+1 -> 6 | B19: Йўл белгиларини узунлиги 4 м ўлчами 50х50 мм бўлган металл устинини B-15 маркали қуйма бетон пойдеворга ўрнатиш | C19: дона | D19: =SUMIF(Дефектовка!$F$15:$F$67,B19,Дефектовка!$I$15:$I$67) -> 10
C20: м3 | D20: =7*0.016 -> 0.112
B21: Ўлчами 700 мм бўлган 1.11 .1"Хавфли бурилиш" йўл белгиси | C21: дона | D21: =SUMIF(Дефектовка!$F$15:$F$67,B21,Дефектовка!$I$15:$I$67) -> 1
B22: Ўлчами 700 мм бўлган 1.11.2"Хавфли бурилиш" йўл белгиси | C22: дона | D22: =SUMIF(Дефектовка!$F$15:$F$67,B22,Дефектовка!$I$15:$I$67) -> 1
B23: Ўлчами 615 х 500 мм бўлган 1.31.1"Бурилишнинг йўналиши" йўл белгиси | C23: дона | D23: =SUMIF(Дефектовка!$F$15:$F$67,B23,Дефектовка!$I$15:$I$67) -> 3
B24: Ўлчами 615 х 500 мм бўлган 1.31.2"Бурилишнинг йўналиши" йўл белгиси | C24: дона | D24: =SUMIF(Дефектовка!$F$15:$F$67,B24,Дефектовка!$I$15:$I$67) -> 3
B25: Ўлчами 700 мм бўлган 3.12 "Ўққа тушадиган оғирлик чекланган" йўл белгиси | C25: дона | D25: =SUMIF(Дефектовка!$F$15:$F$67,B25,Дефектовка!$I$15:$I$67) -> 2
D27: =SUM(D12:D25) -> 23987.363
D28: =SUM(Дефектовка!I15:I67) -> 23987.363
D29: =+D28-D27 -> 0

Sheet ТРАНСПОРТ
A1: Транспортные расходы на перевозымые грузы
A2: =+Дефектовка!A7 -> НАМАНГАН ВИЛОЯТИ УЧҚЎРҒОН ТУМАНИ НАМУНА МФЙДА ЖОЙЛАШГАН С.АБДУЛЛА КЎЧАСИ ВА Б.МАШРАБ КЎЧАСИНИ ОРАСИ 1850 М, МАРВАРИД КЎЧАСИ 1125 М МАСОФАНИ АСФАЛЬТ ҚИЛИШ
A4: № П/П | B4: Наменование материалов | C4: Единица измерения | D4: Коли-чество | E4: Удель- ный вес | F4: Общая тонна | G4: Автотранспортная км | H4: тн/км | I4: Стоимость за один тн/км | J4: Всего
E5: тн
A6: 1 | B6: 2 | C6: 3 | D6: 4 | E6: 6 | F6: 7 | G6: 9 | H6: 10 | I6: 11 | J6: 12
A7: 1 | B7: Смесь асфальтобетонная горячая пористая мелкозернистая | C7: т | D7: =SUMIF(РЕСУРС!$D$15:$D$406,B7,РЕСУРС!$F$15:$F$406) -> 0 | E7: 1 | F7: =+E7*D7 -> 0 | G7: =+Дефектовка!G70 -> 0 | H7: =+G7*F7 -> 0 | J7: =+I7*H7 -> 0
A8: 2 | B8: Гравийно-песчаная смесь | C8: м3 | D8: =SUMIF(РЕСУРС!$D$15:$D$406,B8,РЕСУРС!$F$15:$F$406) -> 1055.8139 | E8: 1.6 | F8: =+E8*D8 -> 1689.3023 | G8: =+Дефектовка!G71 -> 0 | H8: =+G8*F8 -> 0 | J8: =+I8*H8 -> 0
A9: 3 | B9: Щебень из естественного камня для строительных работ М-1000-1200 фракции 5-20 мм | C9: м3 | D9: =SUMIF(РЕСУРС!$D$15:$D$406,B9,РЕСУРС!$F$15:$F$406) -> 0 | E9: 1.45 | F9: =+E9*D9 -> 0 | G9: =+Дефектовка!#REF! -> #REF! | H9: =+G9*F9 -> #REF! | J9: =+I9*H9 -> #REF!
A10: 4 | B10: Остальные материалы 3%
B11: ИТОГО
I15: =SUMIF(#REF!,G15,#REF!) -> #REF!
