Workbook

Sheet 1_ЛРВ
F1: Форма N 5
B2: М39 "АЛМАТИ-БИШКЕК-ТОШКЕНТ-ТЕРМИЗ" АВТОМОБИЛЬ ЙУЛИНИНГ 822 КМ КИСМИДА ЕР ОСТИ ПИЕДАЛАР ЙУЛАГИНИ КУРИШ
B3: (наименование стройки)
C5: ЛОКАЛЬНАЯ РЕСУРСНАЯ ВЕДОМОСТЬ № | D5: 1
B6: (локальная ресурсная смета)
A8: на | B8: ПОДЗЕМНЫЙ ПЕШЕХОДНЫЙ ПЕРЕХОД,
B9: (наименование работ и затрат, наименование объекта)
A11: Основание: | C11: ВЕДОМОСТЬ ОБЪЕМОВ РАБОТ
A12: N п.п. | B12: Шифр номера нормативов и коды ресурсов | C12: Наименование работ и затрат | D12: Единица измерения | E12: Количество
E13: на. ед. измерения | F13: по проектным данным
A14: 1 | B14: 2 | C14: 3 | D14: 4 | E14: 5 | F14: 6
A16: РАЗДЕЛ 1. ПОДГОТОВИТЕЛЬНЫЕ РАБОТЫ
A17: 1 | B17: Е2707-003-02 . ШНК4.02.00-04 П.3.3А,Б КЗТР=0,8, КЭМ=0,8, КМР=0 | C17: РАЗБОРКА СУЩЕСТВУЮЩЕГО СБОРНОГО ЖЕЛЕЗОБЕТОННОГО ТРОТУАРНОГО БЛОКА ПТК 2.2.14. | D17: 100М2 ТРОТУАРА | E17: 1.44
A18: 1.1 | B18: 1 | C18: ЗАТРАТЫ ТРУДА РАБОЧИХ-СТРОИТЕЛЕЙ | D18: ЧЕЛ.-Ч | E18: 30.48 | F18: 43.8912
A19: 1.2 | B19: 3 | C19: ЗАТРАТЫ ТРУДА МАШИНИСТОВ | D19: ЧЕЛ.-Ч | E19: 0.784 | F19: 1.129
A20: 1.3 | B20: 112 | C20: АВТОПОГРУЗЧИКИ 5 Т | D20: МАШ.-Ч | E20: 0.008 | F20: 0.01152
A21: 1.4 | B21: 762 | C21: КРАНЫ НА АВТОМОБИЛЬНОМ ХОДУ ПРИ РАБОТЕ НА ДРУГИХ ВИДАХ СТРОИТЕЛЬСТВА 10 Т | D21: МАШ.-Ч | E21: 0.328 | F21: 0.47232
A22: 1.5 | B22: 2499 | C22: АВТОМОБИЛИ БОРТОВЫЕ ГРУЗОПОДЪЕМНОСТЬЮ ДО 5 Т | D22: МАШ.-Ч | E22: 0.448 | F22: 0.64512
A23: 1.6 | B23: 3078 | C23: ВИБРОПЛИТА С ДВИГАТЕЛЕМ ВНУТРЕННЕГО СГОРАНИЯ | D23: МАШ.-Ч | E23: 4.104 | F23: 5.9098
A24: 2 | B24: Е310-1025 . ШНК4.04.06-14 Р.3.Т.7 К=0,41 | C24: ПЕРЕВОЗКА ГРУЗОВ АВТОМОБИЛЕМ, РАССТОЯНИЕ ПЕРЕВОЗКИ 25 КМ, КЛАСС ГРУЗА 1. ПРИ ПЕРЕВОЗКЕ АВТОСАМОСВАЛАМИ ГРУЗОПОДЪЕМНОСТЬЮ 25, ПРИМЕНЕН КОЭФФИЦИЕНТ К НОРМАМ ЗАТРАТ ТРУДА МАШИНИСТОВ И ЭКСПЛУАТАЦИИ МАШИН - 0,41 | D24: Т | E24: 49.68
A25: 2.1 | B25: 3 | C25: ЗАТРАТЫ ТРУДА МАШИНИСТОВ | D25: ЧЕЛ.-Ч | E25: 0.069536 | F25: 3.4545
A26: 2.2 | B26: 3457 | C26: АВТОМОБИЛИ-САМОСВАЛЫ ГРУЗОПОДЪЕМНОСТЬЮ ДО 25 Т | D26: МАШ.-Ч | E26: 0.069536 | F26: 3.4545
A27: 3 | B27: Е311-004-02 | C27: ПОГРУЗОЧНО-РАЗГРУЗОЧНЫЕ РАБОТЫ ПРИ АВТОМОБИЛЬНЫХ ПЕРЕВОЗКАХ. ИЗДЕЛИЯ ИЗ СБОРНОГО ЖЕЛЕЗОБЕТОНА, БЕТОНА, КЕРАМЗИТОБЕТОНА МАССОЙ ДО 3 Т: РАЗГРУЗКА | D27: Т | E27: 49.68
A28: 3.1 | B28: 1 | C28: ЗАТРАТЫ ТРУДА РАБОЧИХ-СТРОИТЕЛЕЙ | D28: ЧЕЛ.-Ч | E28: 0.142 | F28: 7.0546
A29: 3.2 | B29: 3 | C29: ЗАТРАТЫ ТРУДА МАШИНИСТОВ | D29: ЧЕЛ.-Ч | E29: 0.071 | F29: 3.5273
A30: 3.3 | B30: 761 | C30: КРАНЫ НА АВТОМОБИЛЬНОМ ХОДУ ПРИ РАБОТЕ НА ДРУГИХ ВИДАХ СТРОИТЕЛЬСТВА 6,3 Т | D30: МАШ.-Ч | E30: 0.071 | F30: 3.5273
A31: 4 | B31: Е2703-010-01 | C31: ДЕМОНТАЖ СУЩЕСТВУЮЩЕГО СБОРНОГО ЖЕЛЕЗОБЕТОННОГО БЛОКА МАРКОЙ ОТ-100.20 | D31: 100М | E31: 0.7
A32: 4.1 | B32: 1 | C32: ЗАТРАТЫ ТРУДА РАБОЧИХ-СТРОИТЕЛЕЙ | D32: ЧЕЛ.-Ч | E32: 92.04 | F32: 64.428
A33: 5 | B33: Е3001-001-02 | C33: УСТРОЙСТВО ОСНОВАНИЕ ИЗ ГПС | D33: 100М3 | E33: 0.042
A34: 5.1 | B34: 1 | C34: ЗАТРАТЫ ТРУДА РАБОЧИХ-СТРОИТЕЛЕЙ | D34: ЧЕЛ.-Ч | E34: 270.048 | F34: 11.342
A35: 5.2 | B35: 3 | C35: ЗАТРАТЫ ТРУДА МАШИНИСТОВ | D35: ЧЕЛ.-Ч | E35: 8.472 | F35: 0.355824
A36: 5.3 | B36: 660 | C36: КОМПРЕССОРЫ ПЕРЕДВИЖНЫЕ С ДВИГАТЕЛЕМ ВНУТРЕННЕГО СГОРАНИЯ ДАВЛЕНИЕМ ДО 686 КПА (7 АТМ.) 5 М3/МИН | D36: МАШ.-Ч | E36: 8.472 | F36: 0.355824
A37: 5.4 | B37: 1866 | C37: ТРАМБОВКИ ПНЕВМАТИЧЕСКИЕ | D37: МАШ.-Ч | E37: 16.956 | F37: 0.712152
A38: 5.5 | B38: 12303 | C38: ГРАВИЙНО-ПЕСЧАНАЯ СМЕСЬ | D38: М3 | E38: 110 | F38: 4.62
A39: 6 | B39: Е2702-010-02 | C39: УСТАНОВКА Ж/Б БЛОКОВ ОТ-100.20(БЕЗ СТОИМОСТЬ) | D39: 100М | E39: 0.7
A40: 6.1 | B40: 1 | C40: ЗАТРАТЫ ТРУДА РАБОЧИХ-СТРОИТЕЛЕЙ | D40: ЧЕЛ.-Ч | E40: 83.76 | F40: 58.632
A41: 6.2 | B41: 3 | C41: ЗАТРАТЫ ТРУДА МАШИНИСТОВ | D41: ЧЕЛ.-Ч | E41: 0.78 | F41: 0.546
A42: 6.3 | B42: 762 | C42: КРАНЫ НА АВТОМОБИЛЬНОМ ХОДУ ПРИ РАБОТЕ НА ДРУГИХ ВИДАХ СТРОИТЕЛЬСТВА 10 Т | D42: МАШ.-Ч | E42: 0.732 | F42: 0.5124
A43: 6.4 | B43: 2499 | C43: АВТОМОБИЛИ БОРТОВЫЕ ГРУЗОПОДЪЕМНОСТЬЮ ДО 5 Т | D43: МАШ.-Ч | E43: 0.048 | F43: 0.0336
A44: 6.5 | B44: 6323 | C44: БЕТОН ТЯЖЕЛЫЙ КЛАССА В15 /М-200/ ФРАКЦИИ 10-20 ММ (СУЛЬФАТОСТОЙКИЙ) | D44: М3 | E44: 3.8 | F44: 2.66
A45: 6.6 | B45: 12226 | C45: РАСТВОР ГОТОВЫЙ КЛАДОЧНЫЙ ЦЕМЕНТНЫЙ, МАРКА 100 | D45: М3 | E45: 0.06 | F45: 0.042
A46: 6.7 | B46: 30407 | C46: ГВОЗДИ СТРОИТЕЛЬНЫЕ | D46: Т | E46: 0.001 | F46: 0.0007
A47: 6.8 | B47: 36038 | C47: ПИЛОМАТЕРИАЛЫ ХВОЙНЫХ ПОРОД БРУСЬЯ НЕОБРЕЗНЫЕ ДЛИНОЙ 4-6,5 М, ВСЕ ШИРИНЫ, ТОЛЩИНОЙ 100, 125 ММ IV СОРТА | D47: М3 | E47: 0.17 | F47: 0.119
A48: 7 | B48: Е2709-001-10 ДОП. 9. ШНК4.02.00-04 П.3.3А,Б КЗТР=0,8, КЭМ=0,8, КМР=0 К=2 | C48: ДЕМОНТАЖ ЖЕЛЕЗОБЕТОННЫХ ОГРАЖДЕНИЙ 2БДО-5.84(2 РАЗА). | D48: 100 М ЖЕЛЕЗОБЕТОННЫХ ОГРАЖДЕНИЙ | E48: 1.25
A49: 7.1 | B49: 1 | C49: ЗАТРАТЫ ТРУДА РАБОЧИХ-СТРОИТЕЛЕЙ | D49: ЧЕЛ.-Ч | E49: 15.168 | F49: 18.96
A50: 7.2 | B50: 3 | C50: ЗАТРАТЫ ТРУДА МАШИНИСТОВ | D50: ЧЕЛ.-Ч | E50: 4.6848 | F50: 5.856
A51: 7.3 | B51: 2190 | C51: АВТОМОБИЛИ БОРТОВЫЕ ГРУЗОПОДЪЕМНОСТЬЮ ДО 10 Т | D51: МАШ.Ч | E51: 2.3424 | F51: 2.928
A52: 7.4 | B52: 2796 | C52: КРАН НА АВТОМОБИЛЬНОМ ХОДУ КС-4874М НА БАЗЕ ISUZI, ГРУЗОПОДЪЕМНОСТЬЮ 16 Т | D52: МАШ.-Ч | E52: 2.3424 | F52: 2.928
A53: 8 | B53: Е2709-001-10 ДОП. 9 К=2 | C53: МОНТАЖ ЖЕЛЕЗОБЕТОННЫХ ОГРАЖДЕНИЙ 2БДО-5.84(2 РАЗА) | D53: 100 М ЖЕЛЕЗОБЕТОННЫХ ОГРАЖДЕНИЙ | E53: 1.25
A54: 8.1 | B54: 1 | C54: ЗАТРАТЫ ТРУДА РАБОЧИХ-СТРОИТЕЛЕЙ | D54: ЧЕЛ.-Ч | E54: 18.96 | F54: 23.7
A55: 8.2 | B55: 3 | C55: ЗАТРАТЫ ТРУДА МАШИНИСТОВ | D55: ЧЕЛ.-Ч | E55: 5.856 | F55: 7.32
A56: 8.3 | B56: 2190 | C56: АВТОМОБИЛИ БОРТОВЫЕ ГРУЗОПОДЪЕМНОСТЬЮ ДО 10 Т | D56: МАШ.Ч | E56: 2.928 | F56: 3.66
A57: 8.4 | B57: 2796 | C57: КРАН НА АВТОМОБИЛЬНОМ ХОДУ КС-4874М НА БАЗЕ ISUZI, ГРУЗОПОДЪЕМНОСТЬЮ 16 Т | D57: МАШ.-Ч | E57: 2.928 | F57: 3.66
A58: 9 | B58: Е2709-008-01 . ШНК4.02.00-04 П.3.3Д КЗТР=0,6, КЭМ=0,7, КМР=0 | C58: ДЕМОНТАЖ СТОЕК И ДОРОЖНЫХ ЗНАКОВ. | D58: 100ШТ | E58: 0.06
A59: 9.1 | B59: 1 | C59: ЗАТРАТЫ ТРУДА РАБОЧИХ-СТРОИТЕЛЕЙ | D59: ЧЕЛ.-Ч | E59: 230.4 | F59: 13.824
A60: 9.2 | B60: 3 | C60: ЗАТРАТЫ ТРУДА МАШИНИСТОВ | D60: ЧЕЛ.-Ч | E60: 2.9652 | F60: 0.177912
A61: 9.3 | B61: 762 | C61: КРАНЫ НА АВТОМОБИЛЬНОМ ХОДУ ПРИ РАБОТЕ НА ДРУГИХ ВИДАХ СТРОИТЕЛЬСТВА 10 Т | D61: МАШ.-Ч | E61: 1.2768 | F61: 0.076608
A62: 9.4 | B62: 2499 | C62: АВТОМОБИЛИ БОРТОВЫЕ ГРУЗОПОДЪЕМНОСТЬЮ ДО 5 Т | D62: МАШ.-Ч | E62: 1.6884 | F62: 0.101304
A63: 10 | B63: Е310-1025 | C63: ПЕРЕВОЗКА ГРУЗОВ АВТОМОБИЛЕМ, РАССТОЯНИЕ ПЕРЕВОЗКИ 25 КМ, КЛАСС ГРУЗА 1 | D63: Т | E63: 0.028
A64: 10.1 | B64: 3 | C64: ЗАТРАТЫ ТРУДА МАШИНИСТОВ | D64: ЧЕЛ.-Ч | E64: 0.1696 | F64: 0.004749
A65: 10.2 | B65: 163 | C65: АВТОМОБИЛИ-САМОСВАЛЫ ГРУЗОПОДЪЕМНОСТЬЮ ДО 10 Т | D65: МАШ.-Ч | E65: 0.1696 | F65: 0.004749
A66: 11 | B66: Е311-017-02 | C66: ПОГРУЗОЧНО-РАЗГРУЗОЧНЫЕ РАБОТЫ ПРИ АВТОМОБИЛЬНЫХ ПЕРЕВОЗКАХ. ИЗДЕЛИЯ МЕТАЛЛИЧЕСКИЕ (АРМОКАРКАСЫ, ЗАГОТОВКИ ТРУБНЫЕ И ДР.): РАЗГРУЗКА | D66: Т | E66: 0.028
A67: 11.1 | B67: 1 | C67: ЗАТРАТЫ ТРУДА РАБОЧИХ-СТРОИТЕЛЕЙ | D67: ЧЕЛ.-Ч | E67: 0.113 | F67: 0.003164
A68: 11.2 | B68: 3 | C68: ЗАТРАТЫ ТРУДА МАШИНИСТОВ | D68: ЧЕЛ.-Ч | E68: 0.057 | F68: 0.001596
A69: 11.3 | B69: 761 | C69: КРАНЫ НА АВТОМОБИЛЬНОМ ХОДУ ПРИ РАБОТЕ НА ДРУГИХ ВИДАХ СТРОИТЕЛЬСТВА 6,3 Т | D69: МАШ.-Ч | E69: 0.057 | F69: 0.001596
A70: 12 | B70: Е4604-001-02 | C70: РАЗБОРКА ФУНДАМЕНТОВ БЕТОННЫХ | D70: М3 | E70: 0.75
A71: 12.1 | B71: 1 | C71: ЗАТРАТЫ ТРУДА РАБОЧИХ-СТРОИТЕЛЕЙ | D71: ЧЕЛ.-Ч | E71: 9.59 | F71: 7.1925
A72: 12.2 | B72: 3 | C72: ЗАТРАТЫ ТРУДА МАШИНИСТОВ | D72: ЧЕЛ.-Ч | E72: 2.84 | F72: 2.13
A73: 12.3 | B73: 660 | C73: КОМПРЕССОРЫ ПЕРЕДВИЖНЫЕ С ДВИГАТЕЛЕМ ВНУТРЕННЕГО СГОРАНИЯ ДАВЛЕНИЕМ ДО 686 КПА (7 АТМ.) 5 М3/МИН | D73: МАШ.-Ч | E73: 2.84 | F73: 2.13
A74: 12.4 | B74: 1199 | C74: МОЛОТКИ ПРИ РАБОТЕ ОТ ПЕРЕДВИЖНЫХ КОМПРЕССОРНЫХ СТАНЦИЙ ОТБОЙНЫЕ ПНЕВМАТИЧЕСКИЕ | D74: МАШ.-Ч | E74: 5.68 | F74: 4.26
A75: 13 | B75: Е311-052-01 | C75: ПОГРУЗОЧНО-РАЗГРУЗОЧНЫЕ РАБОТЫ ПРИ АВТОМОБИЛЬНЫХ ПЕРЕВОЗКАХ. МУСОР СТРОИТЕЛЬНЫЙ С ПОГРУЗКОЙ ЭКСКАВАТОРАМИ ЕМКОСТЬЮ КОВША ДО 0,65М3: ПОГРУЗКА | D75: Т | E75: 1.8
A76: 13.1 | B76: 3 | C76: ЗАТРАТЫ ТРУДА МАШИНИСТОВ | D76: ЧЕЛ.-Ч | E76: 0.024 | F76: 0.0432
A77: 13.2 | B77: 2264 | C77: ЭКСКАВАТОРЫ ОДНОКОВШОВЫЕ ДИЗЕЛЬНЫЕ НА ГУСЕНИЧНОМ ХОДУ ПРИ РАБОТЕ НА ДРУГИХ ВИДАХ СТРОИТЕЛЬСТВА (КРОМЕ ВОДОХОЗЯЙСТВЕННОГО) 0,65 М3 | D77: МАШ.-Ч | E77: 0.024 | F77: 0.0432
A78: 14 | B78: Е310-1025 | C78: ПЕРЕВОЗКА ГРУЗОВ АВТОМОБИЛЕМ, РАССТОЯНИЕ ПЕРЕВОЗКИ 25 КМ, КЛАСС ГРУЗА 1 | D78: Т | E78: 1.8
A79: 14.1 | B79: 3 | C79: ЗАТРАТЫ ТРУДА МАШИНИСТОВ | D79: ЧЕЛ.-Ч | E79: 0.1696 | F79: 0.30528
A80: 14.2 | B80: 163 | C80: АВТОМОБИЛИ-САМОСВАЛЫ ГРУЗОПОДЪЕМНОСТЬЮ ДО 10 Т | D80: МАШ.-Ч | E80: 0.1696 | F80: 0.30528
A81: 15 | B81: Е2713-002-03 | C81: РАЗБОРКА АСФАЛЬТОБЕТОННОГО ПОКРЫТИЯ И ОСНОВАНИЯ ТОЛЩИНОЙ 15 СМ ХОЛОДНОЙ ФРЕЗОЙ " SF=2100С " | D81: 1000М2 ПЛОЩАДИ | E81: 0.68
A82: 15.1 | B82: 3 | C82: ЗАТРАТЫ ТРУДА МАШИНИСТОВ | D82: ЧЕЛ.-Ч | E82: 26.784 | F82: 18.2131
A83: 15.2 | B83: 163 | C83: АВТОМОБИЛИ-САМОСВАЛЫ ГРУЗОПОДЪЕМНОСТЬЮ ДО 10 Т | D83: МАШ.-Ч | E83: 6.552 | F83: 4.4554
A84: 15.3 | B84: 1135 | C84: МАШИНЫ ПОЛИВОМОЕЧНЫЕ 6000 Л | D84: МАШ.-Ч | E84: 0.576 | F84: 0.39168
A85: 15.4 | B85: 3485 | C85: ДОРОЖНАЯ ФРЕЗА SF 2100C | D85: МАШ.-Ч | E85: 6.552 | F85: 4.4554
A86: 16 | B86: Е310-1025 . ШНК4.04.06-14 Р.3.Т.7 К=0,41 | C86: ПЕРЕВОЗКА ГРУЗОВ АВТОМОБИЛЕМ, РАССТОЯНИЕ ПЕРЕВОЗКИ 25 КМ, КЛАСС ГРУЗА 1. ПРИ ПЕРЕВОЗКЕ АВТОСАМОСВАЛАМИ ГРУЗОПОДЪЕМНОСТЬЮ 25, ПРИМЕНЕН КОЭФФИЦИЕНТ К НОРМАМ ЗАТРАТ ТРУДА МАШИНИСТОВ И ЭКСПЛУАТАЦИИ МАШИН - 0,41 | D86: Т | E86: 255
A87: 16.1 | B87: 3 | C87: ЗАТРАТЫ ТРУДА МАШИНИСТОВ | D87: ЧЕЛ.-Ч | E87: 0.069536 | F87: 17.7317
A88: 16.2 | B88: 3457 | C88: АВТОМОБИЛИ-САМОСВАЛЫ ГРУЗОПОДЪЕМНОСТЬЮ ДО 25 Т | D88: МАШ.-Ч | E88: 0.069536 | F88: 17.7317
A89: 17 | B89: Е2702-011-01 ДОП. 9. ШНК4.02.00-04 П.3.3А,Б КЗТР=0,8, КЭМ=0,8, КМР=0 | C89: РАЗБОРКА СУЩЕСТВУЮЩЕГО СБОРНОГО ЖЕЛЕЗОБЕТОННОГО КЮВЕТНОГО ЛОТКА МАРКОЙ ЛК-6.6. | D89: 100 М3 СБОРНЫХ ЖЕЛЕЗОБЕТОННЫХ ЛОТКОВ | E89: 0.044
A90: 17.1 | B90: 1 | C90: ЗАТРАТЫ ТРУДА РАБОЧИХ-СТРОИТЕЛЕЙ | D90: ЧЕЛ.-Ч | E90: 178.56 | F90: 7.8566
A91: 17.2 | B91: 3 | C91: ЗАТРАТЫ ТРУДА МАШИНИСТОВ | D91: ЧЕЛ.-Ч | E91: 49.9488 | F91: 2.1977
A92: 17.3 | B92: 2499 | C92: АВТОМОБИЛИ БОРТОВЫЕ ГРУЗОПОДЪЕМНОСТЬЮ ДО 5 Т | D92: МАШ.-Ч | E92: 13.6224 | F92: 0.599386
A93: 17.4 | B93: 2796 | C93: КРАН НА АВТОМОБИЛЬНОМ ХОДУ КС-4874М НА БАЗЕ ISUZI, ГРУЗОПОДЪЕМНОСТЬЮ 16 Т | D93: МАШ.-Ч | E93: 36.3264 | F93: 1.5984
A94: 18 | B94: Е310-1025 | C94: ПЕРЕВОЗКА ГРУЗОВ АВТОМОБИЛЕМ, РАССТОЯНИЕ ПЕРЕВОЗКИ 25 КМ, КЛАСС ГРУЗА 1 | D94: Т | E94: 11
A95: 18.1 | B95: 3 | C95: ЗАТРАТЫ ТРУДА МАШИНИСТОВ | D95: ЧЕЛ.-Ч | E95: 0.1696 | F95: 1.8656
A96: 18.2 | B96: 163 | C96: АВТОМОБИЛИ-САМОСВАЛЫ ГРУЗОПОДЪЕМНОСТЬЮ ДО 10 Т | D96: МАШ.-Ч | E96: 0.1696 | F96: 1.8656
A97: 19 | B97: Е311-004-02 | C97: ПОГРУЗОЧНО-РАЗГРУЗОЧНЫЕ РАБОТЫ ПРИ АВТОМОБИЛЬНЫХ ПЕРЕВОЗКАХ. ИЗДЕЛИЯ ИЗ СБОРНОГО ЖЕЛЕЗОБЕТОНА, БЕТОНА, КЕРАМЗИТОБЕТОНА МАССОЙ ДО 3 Т: РАЗГРУЗКА | D97: Т | E97: 11
A98: 19.1 | B98: 1 | C98: ЗАТРАТЫ ТРУДА РАБОЧИХ-СТРОИТЕЛЕЙ | D98: ЧЕЛ.-Ч | E98: 0.142 | F98: 1.562
A99: 19.2 | B99: 3 | C99: ЗАТРАТЫ ТРУДА МАШИНИСТОВ | D99: ЧЕЛ.-Ч | E99: 0.071 | F99: 0.781
A100: 19.3 | B100: 761 | C100: КРАНЫ НА АВТОМОБИЛЬНОМ ХОДУ ПРИ РАБОТЕ НА ДРУГИХ ВИДАХ СТРОИТЕЛЬСТВА 6,3 Т | D100: МАШ.-Ч | E100: 0.071 | F100: 0.781
A101: 20 | B101: Е4606-010-04 ДОП. 11 ГОСАРХИТЕКТСТРОЙ РУЗ ПР. № 429 ОТ 15.12.17 Г. | C101: РАЗБОРКА ЖЕЛЕЗОБЕТОННЫХ КОНСТРУКЦИЙ ГИДРОМОЛОТОМ НM-960 С ПРИМЕНЕНИЕМ ЭКСКАВАТОРА "ЛИБХЕР R-924 В" | D101: 10 М3 | E101: 4.92
A102: 20.1 | B102: 1 | C102: ЗАТРАТЫ ТРУДА РАБОЧИХ-СТРОИТЕЛЕЙ | D102: ЧЕЛ.-Ч | E102: 1.7 | F102: 8.364
A103: 20.2 | B103: 3 | C103: ЗАТРАТЫ ТРУДА МАШИНИСТОВ | D103: ЧЕЛ.-Ч | E103: 3.35 | F103: 16.482
A104: 20.3 | B104: 2466 | C104: ЭКСКАВАТОР "ЛИБХЕР R-924 B" ОДНОКОВШОВЫЙ ДИЗЕЛЬНЫЙ НА ГУСЕНИЧНОМ ХОДУ ПРИ РАБОТЕ НА ДРУГИХ ВИДАХ СТРОИТЕЛЬСТВА 1,2 М3 | D104: МАШ-Ч | E104: 3.35 | F104: 16.482
...

Sheet 1_ЛРВ (2)
F1: Форма N 5
B2: М39 "АЛМАТИ-БИШКЕК-ТОШКЕНТ-ТЕРМИЗ" АВТОМОБИЛЬ ЙУЛИНИНГ 822 КМ КИСМИДА ЕР ОСТИ ПИЕДАЛАР ЙУЛАГИНИ КУРИШ
B3: (наименование стройки)
C5: ЛОКАЛЬНАЯ РЕСУРСНАЯ ВЕДОМОСТЬ № | D5: 1
B6: (локальная ресурсная смета)
A8: на | B8: ВНЕШНИЙ И ВНУТРИПЛОЩАДОЧНЫЕ ЭЛЕКТРИЧЕСКИЕ СЕТИ 10КВ И 0.4КВ И ЭЛЕКТРООСВЕЩЕНИЯ,
B9: (наименование работ и затрат, наименование объекта)
A11: Основание: | C11: ВЕДОМОСТЬ ОБЪЕМОВ РАБОТ
A12: N п.п. | B12: Шифр номера нормативов и коды ресурсов | C12: Наименование работ и затрат | D12: Единица измерения | E12: Количество
E13: на. ед. измерения | F13: по проектным данным
A14: 1 | B14: 2 | C14: 3 | D14: 4 | E14: 5 | F14: 6
A16: РАЗДЕЛ 1. ВНЕШНИЙ И ВНУТРИПЛОЩАДОЧНЫЕ ЭЛЕКТРИЧЕСКИЕ СЕТИ 10КВ И 0.4КВ
A17: РАЗДЕЛ 2. КАБЕЛЬНАЯ ЛИНИЯ 10КВ
A18: 1 | B18: Ц0802-141-02 | C18: КАБЕЛИ ДО 35 КВ В ГОТОВЫХ ТРАНШЕЯХ | D18: 100М | E18: 4.5
A19: 1.1 | B19: 1 | C19: ЗАТРАТЫ ТРУДА РАБОЧИХ-СТРОИТЕЛЕЙ | D19: ЧЕЛ.-Ч | E19: 13.7 | F19: 61.65
A20: 1.2 | B20: 3 | C20: ЗАТРАТЫ ТРУДА МАШИНИСТОВ | D20: ЧЕЛ.-Ч | E20: 4.34 | F20: 19.53
A21: 1.3 | B21: 513 | C21: ДОМКРАТЫ ГИДРАВЛИЧЕСКИЕ ГРУЗОПОДЪЕМНОСТЬЮ 63 Т | D21: МАШ.-Ч | E21: 3.22 | F21: 14.49
A22: 1.4 | B22: 766 | C22: КРАНЫ НА АВТОМОБИЛЬНОМ ХОДУ ПРИ РАБОТЕ НА МОНТАЖЕ ТЕХНОЛОГИЧЕСКОГО ОБОРУДОВАНИЯ 10 Т | D22: МАШ.-Ч | E22: 0.56 | F22: 2.52
A23: 1.5 | B23: 983 | C23: ЛЕБЕДКИ ЭЛЕКТРИЧЕСКИЕ, ТЯГОВЫМ УСИЛИЕМ 156,96 (16) КН (Т) | D23: МАШ.-Ч | E23: 3.22 | F23: 14.49
A24: 1.6 | B24: 2510 | C24: АВТОМОБИЛИ БОРТОВЫЕ ГРУЗОПОДЪЕМНОСТЬЮ ДО 8 Т | D24: МАШ.-Ч | E24: 0.56 | F24: 2.52
A25: 1.7 | B25: 31087 | C25: КРАСКА | D25: КГ | E25: 0.25 | F25: 1.125
A26: 1.8 | B26: 31248 | C26: ЛАК БИТУМНЫЙ БТ-123 | D26: Т | E26: 6e-05 | F26: 0.00027
A27: 1.9 | B27: 32540 | C27: ПРОВОЛОКА СТАЛЬНАЯ НИЗКОУГЛЕРОДИСТАЯ РАЗНОГО НАЗНАЧЕНИЯ ОЦИНКОВАННАЯ ДИАМЕТРОМ 3,0 ММ | D27: Т | E27: 4e-05 | F27: 0.00018
A28: 1.10 | B28: 33746 | C28: СТАЛЬ ПОЛОСОВАЯ СПОКОЙНАЯ МАРКИ СТ3СП, ШИРИНОЙ 50-200 ММ ТОЛЩИНОЙ 4-5 ММ | D28: Т | E28: 0.001 | F28: 0.0045
A29: 1.11 | B29: 35518 | C29: РОЛИ СВИНЦОВЫЕ, МАРКИ С1 ТОЛЩИНОЙ 1,0 ММ | D29: Т | E29: 0.0008 | F29: 0.0036
A30: 1.12 | B30: 45527 | C30: БИРКИ МАРКИРОВОЧНЫЕ | D30: 100ШТ | E30: 0.041 | F30: 0.1845
... A33: 1.15 | B33: 65140 | C33: СТАЛЬ УГЛОВАЯ, РАВНОПОЛОЧНАЯ, МАРКА СТАЛИ ВСТ3КП2 РАЗМЕРОМ 50Х50Х5 ММ | D33: Т | E33: 0.01 | F33: 0.045
A34: 2 | B34: С | C34: КАБЕЛЬ СИЛОВОЙ С АЛЮМИНИЕВОЙ ЖИЛОЙ 10 КВ УСИЛЕННЫЙ АПВПУ-1Х120/25 ММ2 | D34: М | E34: 450
A35: 3 | B35: Ц0802-164-07 | C35: МУФТА ДЛЯ КАБЕЛЯ НАПРЯЖЕНИЕМ ДО 10 КВ | D35: ШТ | E35: 1
A36: 3.1 | B36: 1 | C36: ЗАТРАТЫ ТРУДА РАБОЧИХ-СТРОИТЕЛЕЙ | D36: ЧЕЛ.-Ч | E36: 9.34 | F36: 9.34
A37: 3.2 | B37: 3 | C37: ЗАТРАТЫ ТРУДА МАШИНИСТОВ | D37: ЧЕЛ.-Ч | E37: 3.97 | F37: 3.97
A38: 3.3 | B38: 406 | C38: ВЫШКИ ТЕЛЕСКОПИЧЕСКИЕ 25 М | D38: МАШ.-Ч | E38: 3.9 | F38: 3.9
A39: 3.4 | B39: 2510 | C39: АВТОМОБИЛИ БОРТОВЫЕ ГРУЗОПОДЪЕМНОСТЬЮ ДО 8 Т | D39: МАШ.-Ч | E39: 0.07 | F39: 0.07
A40: 3.5 | B40: 31681 | C40: ПАРАФИН НЕФТЯНОЙ ТВЕРДЫЙ П-3 | D40: Т | E40: 1e-05 | F40: 1e-05
A41: 3.6 | B41: 34001 | C41: БЕНЗИН АВИАЦИОННЫЙ Б-70 | D41: Т | E41: 0.0002 | F41: 0.0002
A42: 3.7 | B42: 45077 | C42: ПРОПАН-БУТАН, СМЕСЬ ТЕХНИЧЕСКАЯ | D42: КГ | E42: 3.6 | F42: 3.6
A43: 3.8 | B43: 45527 | C43: БИРКИ МАРКИРОВОЧНЫЕ | D43: 100ШТ | E43: 0.01 | F43: 0.01
A44: 3.9 | B44: 45883 | C44: КНОПКИ МОНТАЖНЫЕ | D44: 1000ШТ | E44: 0.00204 | F44: 0.00204
A45: 3.10 | B45: 64235 | C45: ЛЕНТА К226 | D45: 100М | E45: 0.0024 | F45: 0.0024
A46: 4 | B46: С | C46: МУФТА ДЛЯ КАБЕЛЯ КОНЦЕВАЯ КМА-80-10КВ ГУ-16-538-337-79 | D46: КОМП. | E46: 1
A47: 5 | B47: Ц0802-164-07 | C47: МУФТА ДЛЯ КАБЕЛЯ НАПРЯЖЕНИЕМ ДО 10 КВ | D47: ШТ | E47: 3
A48: 5.1 | B48: 1 | C48: ЗАТРАТЫ ТРУДА РАБОЧИХ-СТРОИТЕЛЕЙ | D48: ЧЕЛ.-Ч | E48: 9.34 | F48: 28.02
A49: 5.2 | B49: 3 | C49: ЗАТРАТЫ ТРУДА МАШИНИСТОВ | D49: ЧЕЛ.-Ч | E49: 3.97 | F49: 11.91
A50: 5.3 | B50: 406 | C50: ВЫШКИ ТЕЛЕСКОПИЧЕСКИЕ 25 М | D50: МАШ.-Ч | E50: 3.9 | F50: 11.7
A51: 5.4 | B51: 2510 | C51: АВТОМОБИЛИ БОРТОВЫЕ ГРУЗОПОДЪЕМНОСТЬЮ ДО 8 Т | D51: МАШ.-Ч | E51: 0.07 | F51: 0.21
A52: 5.5 | B52: 31681 | C52: ПАРАФИН НЕФТЯНОЙ ТВЕРДЫЙ П-3 | D52: Т | E52: 1e-05 | F52: 3e-05
A53: 5.6 | B53: 34001 | C53: БЕНЗИН АВИАЦИОННЫЙ Б-70 | D53: Т | E53: 0.0002 | F53: 0.0006
A54: 5.7 | B54: 45077 | C54: ПРОПАН-БУТАН, СМЕСЬ ТЕХНИЧЕСКАЯ | D54: КГ | E54: 3.6 | F54: 10.8
A55: 5.8 | B55: 45527 | C55: БИРКИ МАРКИРОВОЧНЫЕ | D55: 100ШТ | E55: 0.01 | F55: 0.03
A56: 5.9 | B56: 45883 | C56: КНОПКИ МОНТАЖНЫЕ | D56: 1000ШТ | E56: 0.00204 | F56: 0.00612
A57: 5.10 | B57: 64235 | C57: ЛЕНТА К226 | D57: 100М | E57: 0.0024 | F57: 0.0072
A58: 6 | B58: С | C58: МУФТА ДЛЯ КАБЕЛЯ КОНЦЕВАЯ 3ПКВТ-10(150-240)М | D58: КОМП. | E58: 3
A59: 7 | B59: Ц0801-056-01 | C59: РАЗЪЕДИНИТЕЛЬ НАПРЯЖЕНИЕМ ДО 10 КВ, РЛНД-1-10-400УХЛ1 | D59: ШТ | E59: 1
A60: 7.1 | B60: 1 | C60: ЗАТРАТЫ ТРУДА РАБОЧИХ-СТРОИТЕЛЕЙ | D60: ЧЕЛ.-Ч | E60: 2.78 | F60: 2.78
A61: 7.2 | B61: 3 | C61: ЗАТРАТЫ ТРУДА МАШИНИСТОВ | D61: ЧЕЛ.-Ч | E61: 0.12 | F61: 0.12
A62: 7.3 | B62: 766 | C62: КРАНЫ НА АВТОМОБИЛЬНОМ ХОДУ ПРИ РАБОТЕ НА МОНТАЖЕ ТЕХНОЛОГИЧЕСКОГО ОБОРУДОВАНИЯ 10 Т | D62: МАШ.-Ч | E62: 0.06 | F62: 0.06
A63: 7.4 | B63: 2510 | C63: АВТОМОБИЛИ БОРТОВЫЕ ГРУЗОПОДЪЕМНОСТЬЮ ДО 8 Т | D63: МАШ.-Ч | E63: 0.06 | F63: 0.06
A64: 7.5 | B64: 30484 | C64: БОЛТЫ СТРОИТЕЛЬНЫЕ С ГАЙКАМИ И ШАЙБАМИ | D64: КГ | E64: 0.42 | F64: 0.42
A65: 7.6 | B65: 65747 | C65: ШАЙБЫ КВАДРАТНЫЕ | D65: 100ШТ | E65: 0.04 | F65: 0.04
A66: 8 | B66: С | C66: РАЗЪЕДИНИТЕЛЬ РЛНД-1-10-400УХЛ1 | D66: КОМП. | E66: 1
A67: 9 | B67: Ц0802-472-02 ДОП. 8 | C67: ЗАЗЕМЛЯЮЩИЕ ПРОВОДНИКИ. ЗАЗЕМЛИТЕЛЬ ГОРИЗОНТАЛЬНЫЙ ИЗ СТАЛИ ПОЛОСОВОЙ | D67: 100М | E67: 0.82
A68: 9.1 | B68: 1 | C68: ЗАТРАТЫ ТРУДА РАБОЧИХ-СТРОИТЕЛЕЙ | D68: ЧЕЛ.-Ч | E68: 16.6 | F68: 13.612
A69: 9.2 | B69: 2016 | C69: УСТАНОВКИ ДЛЯ СВАРКИ РУЧНОЙ ДУГОВОЙ (ПОСТОЯННОГО ТОКА) | D69: МАШ.-Ч | E69: 3.13 | F69: 2.5666
A70: 9.3 | B70: 31248 | C70: ЛАК БИТУМНЫЙ БТ-123 | D70: Т | E70: 0.0037 | F70: 0.003034
A71: 9.4 | B71: 35377 | C71: ЭЛЕКТРОДЫ ДИАМЕТРОМ 4 ММ Э42А | D71: КГ | E71: 0.9 | F71: 0.738
A72: 10 | B72: С | C72: СТАЛЬ ПОЛОСОВАЯ КИПЯЩАЯ 40Х4 ММ | D72: Т | E72: 0.03
A73: 11 | B73: Ц0802-471-02 ДОП. 8 | C73: ЗАЗЕМЛИТЕЛЬ ВЕРТИКАЛЬНЫЙ ИЗ УГЛОВОЙ СТАЛИ, РАЗМЕР, ММ 63Х63Х6 | D73: 10ШТ | E73: 3.2
A74: 11.1 | B74: 1 | C74: ЗАТРАТЫ ТРУДА РАБОЧИХ-СТРОИТЕЛЕЙ | D74: ЧЕЛ.-Ч | E74: 11.8 | F74: 37.76
A75: 11.2 | B75: 2016 | C75: УСТАНОВКИ ДЛЯ СВАРКИ РУЧНОЙ ДУГОВОЙ (ПОСТОЯННОГО ТОКА) | D75: МАШ.-Ч | E75: 1.75 | F75: 5.6
A76: 11.3 | B76: 31248 | C76: ЛАК БИТУМНЫЙ БТ-123 | D76: Т | E76: 0.0024 | F76: 0.00768
A77: 11.4 | B77: 35377 | C77: ЭЛЕКТРОДЫ ДИАМЕТРОМ 4 ММ Э42А | D77: КГ | E77: 0.72 | F77: 2.304
A78: 12 | B78: С | C78: СТАЛЬ УГЛОВАЯ, РАЗМЕРОМ 63Х63Х6 ММ | D78: Т | E78: 0.56
A79: 13 | B79: Ц0801-067-05 | C79: УСТАНОВКА КОНДЕНСАТОРНАЯ РЕГУЛИРУЕМАЯ МНОГОСТУПЕНЧАТАЯ ГАБАРИТЫ | D79: ШТ | E79: 1
A80: 13.1 | B80: 1 | C80: ЗАТРАТЫ ТРУДА РАБОЧИХ-СТРОИТЕЛЕЙ | D80: ЧЕЛ.-Ч | E80: 3.29 | F80: 3.29
A81: 13.2 | B81: 2016 | C81: УСТАНОВКИ ДЛЯ СВАРКИ РУЧНОЙ ДУГОВОЙ (ПОСТОЯННОГО ТОКА) | D81: МАШ.-Ч | E81: 0.33 | F81: 0.33
A82: 13.3 | B82: 35377 | C82: ЭЛЕКТРОДЫ ДИАМЕТРОМ 4 ММ Э42А | D82: КГ | E82: 0.18 | F82: 0.18
A83: 13.4 | B83: 64457 | C83: НАКОНЕЧНИКИ КАБЕЛЬНЫЕ | D83: ШТ | E83: 1 | F83: 1
A84: 14 | B84: С | C84: КОНДЕНСАТОРНАЯ РЕГУЛИРУЕМАЯ МНОГОСТУПЕНЧАТАЯ ГАБАРИТЫ УКМ58-0,4-25-25-УЗ | D84: КОМП. | E84: 1
A85: 15 | B85: Ц0802-143-01 | C85: ПОКРЫТИЕ КАБЕЛЯ КИРПИЧОМ КАБЕЛЯ | D85: 100М | E85: 4.5
A86: 15.1 | B86: 1 | C86: ЗАТРАТЫ ТРУДА РАБОЧИХ-СТРОИТЕЛЕЙ | D86: ЧЕЛ.-Ч | E86: 6.51 | F86: 29.295
A87: 15.2 | B87: 3 | C87: ЗАТРАТЫ ТРУДА МАШИНИСТОВ | D87: ЧЕЛ.-Ч | E87: 4.24 | F87: 19.08
A88: 15.3 | B88: 2510 | C88: АВТОМОБИЛИ БОРТОВЫЕ ГРУЗОПОДЪЕМНОСТЬЮ ДО 8 Т | D88: МАШ.-Ч | E88: 4.24 | F88: 19.08
A89: 16 | B89: С | C89: КИРПИЧ | D89: ШТ | E89: 800
A90: 17 | B90: Ц0802-142-01 | C90: УСТРОЙСТВО ПОСТЕЛИ КАБЕЛЕ В ТРАНШЕЕ | D90: 100М | E90: 4.5
A91: 17.1 | B91: 1 | C91: ЗАТРАТЫ ТРУДА РАБОЧИХ-СТРОИТЕЛЕЙ | D91: ЧЕЛ.-Ч | E91: 6.63 | F91: 29.835
A92: 17.2 | B92: 3 | C92: ЗАТРАТЫ ТРУДА МАШИНИСТОВ | D92: ЧЕЛ.-Ч | E92: 4.99 | F92: 22.455
A93: 17.3 | B93: 2510 | C93: АВТОМОБИЛИ БОРТОВЫЕ ГРУЗОПОДЪЕМНОСТЬЮ ДО 8 Т | D93: МАШ.-Ч | E93: 4.99 | F93: 22.455
A94: 18 | B94: С | C94: ПЕСОК | D94: М3 | E94: 6
A95: РАЗДЕЛ 3. КАБЕЛЬНАЯ ЛИНИЯ 0,4КВ
A96: 19 | B96: Е3304-29-05 | C96: УСТАНОВКА ОБОРУДОВАНИЯ ДЛЯ КОМПЛЕКТНЫХ ТРАНСФОРМАТОРНЫХ ПОДСТАНЦИЙ ГОРОДСКОГО ТИПА | D96: ПОДСТАН. | E96: 1
A97: 19.1 | B97: 1 | C97: ЗАТРАТЫ ТРУДА РАБОЧИХ-СТРОИТЕЛЕЙ | D97: ЧЕЛ.-Ч | E97: 13 | F97: 13
A98: 19.2 | B98: 3 | C98: ЗАТРАТЫ ТРУДА МАШИНИСТОВ | D98: ЧЕЛ.-Ч | E98: 4.27 | F98: 4.27
A99: 19.3 | B99: 775 | C99: КРАНЫ НА АВТОМОБИЛЬНОМ ХОДУ 10 Т | D99: МАШ.-Ч | E99: 4.27 | F99: 4.27
A100: 20 | C100: ТРАНСФОРМАТОРНАЯ ПОДСТАНЦИЯ КОМПЛЕКТНАЯ, ГОРОДСКОГО ТИПА МАРКИ ГКТП-(К/К)-40-10/0,4 | D100: КОМП. | E100: 1
A101: 21 | B101: Е0601-005-04 | C101: УСТРОЙСТВО ЖЕЛЕЗОБЕТОННЫХ ФУНДАМЕНТОВ | D101: 100 М3 ЖЕЛЕЗОБЕТОНА В ДЕЛЕ | E101: 0.04
A102: 21.1 | B102: 1 | C102: ЗАТРАТЫ ТРУДА РАБОЧИХ-СТРОИТЕЛЕЙ | D102: ЧЕЛ.-Ч | E102: 453.6 | F102: 18.144
A103: 21.2 | B103: 3 | C103: ЗАТРАТЫ ТРУДА МАШИНИСТОВ | D103: ЧЕЛ.-Ч | E103: 24.61 | F103: 0.9844
A104: 21.3 | B104: 403 | C104: ВИБРАТОРЫ ГЛУБИННЫЕ | D104: МАШ.-Ч | E104: 19.04 | F104: 0.7616
A105: 21.4 | B105: 783 | C105: КРАНЫ НА ГУСЕНИЧНОМ ХОДУ ПРИ РАБОТЕ НА ДРУГИХ ВИДАХ СТРОИТЕЛЬСТВА ДО 16 Т | D105: МАШ.-Ч | E105: 22.96 | F105: 0.9184
A106: 21.5 | B106: 1571 | C106: ПИЛА ЭЛЕКТРИЧЕСКАЯ ЦЕПНАЯ | D106: МАШ.-Ч | E106: 1.35 | F106: 0.054
...

Sheet ОБЩЕЕ РЕЗЮМЕ
B1: УМУМИЙ РЕЗЮМЕ: УМУМИЙ ИШ ХАЖМЛАРИ / СВОДНАЯ ВЕДОМОСТЬ ОБЪЕМОВ РАБОТ
A3: № пакета
A4: Имя пакета | C4: =#REF! -> #REF!
A5: Название участника торгов
B6: Умумий смета | C6: Общая смета | D6: Reference Ссылка | E6: Amount Сумма
A7: 000 | B7: ='№000 ОБЩИЕ УСЛОВИЯ'!B1 -> КАЙДНОМА №000 УМУМИЙ ТАЛАБЛАР | C7: ='№100 ПРЕДВАРИТЕЛЬНЫЕ ПУНКТЫ'!B1 -> КАЙДНОМА №100 ДАСТЛАБКИ МАСАЛАЛАР | D7: ='№000 ОБЩИЕ УСЛОВИЯ'!G61 -> 0
A8: 100 | B8: ='№100 ПРЕДВАРИТЕЛЬНЫЕ ПУНКТЫ'!B1 -> КАЙДНОМА №100 ДАСТЛАБКИ МАСАЛАЛАР | C8: ='№100 ПРЕДВАРИТЕЛЬНЫЕ ПУНКТЫ'!B2 -> ВЕДОМОСТЬ №100 ПРЕДВАРИТЕЛЬНЫЕ ПУНКТЫ | D8: ='№100 ПРЕДВАРИТЕЛЬНЫЕ ПУНКТЫ'!G61 -> 0
A9: 200 | B9: ='№200 РАСЧИСТКА УЧАСТКА'!B1 -> КАЙДНОМА№200 КУРИЛИШ МАЙДОНИНИ ТОЗАЛАШ | C9: ='№200 РАСЧИСТКА УЧАСТКА'!B2 -> ВЕДОМОСТЬ №200 РАСЧИСТКА УЧАСТКА | D9: ='№200 РАСЧИСТКА УЧАСТКА'!G20 -> 0
A10: 300 | B10: ВЕДОМОСТЬ №300 ПЕРЕНОС КОММУНИКАЦИЙ | C10: ВЕДОМОСТЬ №300 ПЕРЕНОС КОММУНИКАЦИЙ | D10: 0
A11: 400 | B11: ЗЕМЛЯНЫЕ РАБОТЫ | C11: =B11 -> ЗЕМЛЯНЫЕ РАБОТЫ | D11: 0
A12: 500 | B12: - | C12: - | D12: -
A13: 600 | B13: ='№600 ОСНОВАНИЯ'!B1 -> КАЙДНОМА №600 ҚУЙИ АСОС ВА АСОС ҚАТЛАМЛАРИ, ЙЎЛ ЧЕТИНИ МУСТАҲКАМЛАШ | C13: ='№600 ОСНОВАНИЯ'!B2 -> ВЕДОМОСТЬ №600 ПОДСТИЛАЮЩИЙ СЛОИ ОСНОВАНИЯ И СЛОИ ОСНОВАНИЯ, УКРЕПЛЕНИЕ ОБОЧИН | D13: ='№600 ОСНОВАНИЯ'!G13 -> 0
A14: 700 | B14: ='№700 ПОКРЫТИЯ АСФАЛЬТ'!B1 -> КАЙДНОМА №700 ОРГАНИК БОҒЛОВЧИ МОДДАЛАР (АСФАЛТ-БЕТОН) АСОСИДАГИ ЙЎЛ ҚОПЛАМАЛАРИ | C14: ='№700 ПОКРЫТИЯ АСФАЛЬТ'!B2 -> ВЕДОМОСТЬ №700 ПОКРЫТИЯ С ПРИМЕНЕНИЕМ ОРГАНИЧЕСКИХ ВЯЖУЩИХ (асфальтобетон) | D14: ='№700 ПОКРЫТИЯ АСФАЛЬТ'!G17 -> 0
A15: 900 | B15: ='№900. ИНЖЕНЕРНОЕ ОБУСТРОЙСТВО'!B1 -> КАЙДНОМА №900 ЙЎЛНИ ЖИХОЗЛАШ | C15: ='№900. ИНЖЕНЕРНОЕ ОБУСТРОЙСТВО'!B2 -> ВЕДОМОСТЬ №900 ИНЖЕНЕРНОЕ ОБУСТРОЙСТВО ДОРОГИ | D15: ='№900. ИНЖЕНЕРНОЕ ОБУСТРОЙСТВО'!G74 -> 0
A16: 1100 | B16: КАЙДНОМА №1100 БЕТОН ИНШООТЛАР ВА КЎПРИКЛАР | C16: ВЕДОМОСТЬ №1100 БЕТОННЫЕ КОНСТРУКЦИИ И МОСТЫ
A17: A | B17: Кайдномалар бўйича жами | C17: Итого по ведомостям | D17: =SUM(D7:D16) -> 0
A18: B | B18: Кўзда тутилмаган харажатлар 10% | C18: Непредвиденные затраты в размере 10% | D18: =D17*0.1 -> 0
A19: C | B19: ҚҚСсиз умумий тендер суммаси (А+В) | C19: Общая сумма тендера без НДС (А+В) | D19: =D17+D18 -> 0
A20: D | B20: Қўшилган қиймат солиғи 12% | C20: Налог на добавленную стоимость | D20: =D19*0.12 -> 0
A21: E | B21: ҚҚСни ўз ичига олган ҳолда тендернинг умумий нархи (C+D) | C21: Общая сумма тендерной цены, включая НДС (C+D) | D21: =D19+D20 -> 0
B23: * Все резервные суммы используются полностью или частично под руководством и по усмотрению Инженера

Sheet №000 ОБЩИЕ УСЛОВИЯ
B1: КАЙДНОМА №000 УМУМИЙ ТАЛАБЛАР
B2: ВЕДОМОСТЬ №000 ОБЩИЕ УСЛОВИЯ
A3: № пакета
A4: Имя пакета | C4: =#REF! -> #REF!
A5: Название участника торгов
A6: № | B6: Тавсифи | C6: Описание | D6: Ед. изм. | E6: Количество | F6: Стоим. ед.изм.(сум) | G6: Стоимость (сум)
C7: Ссылка на Технические Спецификации раздела 100
C8: Мобилизация и Демобилизация
C9: Мобилизация и Демобилизация | D9: LS/ФС | G9: =E9*F9 -> 0
C10: Гарантии и страхования Подрядчика
C11: Гарантии и страхования Подрядчика | D11: LS/ФС | G11: =E11*F11 -> 0
C12: Охрана Труда
C13: Охрана Труда | D13: LS/ФС | G13: =E13*F13 -> 0
C14: Обеспечение и содержание проектного офиса(ов) Инженера в полном оборудованном состоянии
C15: Обеспечение офиса Инженера | D15: LS/ФС | G15: =E15*F15 -> 0
C16: Содержание офиса Инженера | D16: LS/ФС | G16: =E16*F16 -> 0
C17: Обеспечение Средств Связи
C18: Обеспечение средств связи | D18: LS/ФС | G18: =E18*F18 -> 0
C19: Содержание средств связи | D19: LS/ФС | G19: =E19*F19 -> 0
C20: Защитная Одежда
C21: Защитная спецодежда | D21: LS/ФС | G21: =E21*F21 -> 0
C22: Строительство Зданий и Сооружений (Офис, Жилье и Лаборатория)
C23: Строительство офиса Инженера, жилых помещений и лаборатории | D23: LS/ФС | G23: =E23*F23 -> 0
C24: Содержание офиса, жилья и лаборатории | D24: LS/ФС | G24: =E24*F24 -> 0
C25: Обеспечение и Содержание Полевого Оборудования Инженера
C26: Обеспечение Полевого Оборудования Инженера | D26: LS/ФС | G26: =E26*F26 -> 0
C27: Содержание Полевого Оборудования Инженера | D27: LS/ФС | G27: =E27*F27 -> 0
C28: Обеспечение и Содержание Лаборатории Инженера
C29: Обеспечение полностью оборудованной лаборатории Инженера | D29: LS/ФС | G29: =E29*F29 -> 0
C30: Содержание лаборатории Инженера | D30: LS/ФС | G30: =E30*F30 -> 0
C31: Обеспечение и Содержание Жилья Инженера
C32: Предоставление Инженеру жилья Тип I | D32: LS/ФС | G32: =E32*F32 -> 0
C33: Обслуживание Инженеру жилья Тип I | D33: LS/ФС | G33: =E33*F33 -> 0
C34: Предоставление Инженеру жилья Тип II | D34: LS/ФС | G34: =E34*F34 -> 0
C35: Обслуживание Инженеру жилья Тип II | D35: LS/ФС | G35: =E35*F35 -> 0
C36: Предоставление Инженеру жилья Тип III | D36: LS/ФС | G36: =E36*F36 -> 0
C37: Обслуживание Инженеру жилья Тип III | D37: LS/ФС | G37: =E37*F37 -> 0
C38: Обеспечение и Содержание Транспортных Средств
C39: Поставка транспортных средств Тип A (1 единица) | D39: LS/ФС | G39: =E39*F39 -> 0
C40: Содержание транспортных средств Тип A | D40: LS/ФС | G40: =E40*F40 -> 0
C41: Поставка транспортных средств Тип B (2 единицы) | D41: LS/ФС | G41: =E41*F41 -> 0
C42: Содержание транспортных средств Тип B | D42: LS/ФС | G42: =E42*F42 -> 0
C43: Охрана Окружающей Среды
C44: План охраны окружающей среды | D44: LS/ФС | G44: =E44*F44 -> 0
C45: Мониторинг качества воздуха,качества воды,шума и вибраций | D45: LS/ФС | G45: =E45*F45 -> 0
C46: Хранение топлива и химических веществ | D46: LS/ФС | G46: =E46*F46 -> 0
C47: Мероприятия по улучшению окружающей среды | D47: LS/ФС | G47: =E47*F47 -> 0
C48: Фотографии Прогресса Работ и Видео Съемка
C49: Фото и видеосъемка прогресса работ | D49: LS/ФС | G49: =E49*F49 -> 0
C50: Организация Движения во Время Строительства
C51: Организация движения в период строительства | D51: LS/ФС | G51: =E51*F51 -> 0
C52: Разбивка и Закрепление
C53: Разбивка и закрепление | D53: LS/ФС | G53: =E53*F53 -> 0
C54: Подготовка проектной документации и исполнительных Чертежей
C55: Подготовка проектной документации | D55: LS/ФС | G55: =E55*F55 -> 0
C56: Подготовка исполнительных чертежей | D56: LS/ФС | G56: =E56*F56 -> 0
C57: Ремонт и содержание дороги при строительстве
C58: Ремонт и содержание дороги при строительстве | D58: LS/ФС | G58: =E58*F58 -> 0
C59: Ремонт и содержание дороги после строительства
C60: Ремонт и содержание дороги после строительства в течении 2 х лет | D60: LS/ФС | G60: =E60*F60 -> 0
B61: КАЙДНОМА 000 буйича жами (умумий сметага ўтказиш билан) | C61: ВСЕГО ПО ВЕДОМОСТИ №000 (с переносом в сводную ведомость) | G61: =SUM(G8:G60) -> 0
B62: Сокращенные Обозначения
B63: LS=Lump Sum | C63: месяц
B64: ФC=Фиксированная сумма | C64: НП=не применяется
D65: Всего ВЕДОМОСТЬ No.000 | G65: ___________
D66: Всего страниц: | G66: (_______)

Sheet №100 ПРЕДВАРИТЕЛЬНЫЕ ПУНКТЫ
B1: КАЙДНОМА №100 ДАСТЛАБКИ МАСАЛАЛАР
B2: ВЕДОМОСТЬ №100 ПРЕДВАРИТЕЛЬНЫЕ ПУНКТЫ
A3: № пакета
A4: Имя пакета | C4: =#REF! -> #REF!
A5: Название участника торгов
A6: № | B6: Тавсифи | C6: Описание | D6: Ед. изм. | E6: Количество | F6: Стоим. ед.изм.(сум) | G6: Стоимость (сум)
C7: Ссылка на Технические Спецификации раздела 100
C8: Мобилизация и Демобилизация
C9: Мобилизация и Демобилизация | D9: LS/ФС | G9: =E9*F9 -> 0
C10: Гарантии и страхования Подрядчика
C11: Гарантии и страхования Подрядчика | D11: LS/ФС | G11: =E11*F11 -> 0
C12: Охрана Труда
C13: Охрана Труда | D13: LS/ФС | G13: =E13*F13 -> 0
C14: Обеспечение и содержание проектного офиса(ов) Инженера в полном оборудованном состоянии
C15: Обеспечение офиса Инженера | D15: LS/ФС | G15: =E15*F15 -> 0
C16: Содержание офиса Инженера | D16: LS/ФС | G16: =E16*F16 -> 0
C17: Обеспечение Средств Связи
C18: Обеспечение средств связи | D18: LS/ФС | G18: =E18*F18 -> 0
C19: Содержание средств связи | D19: LS/ФС | G19: =E19*F19 -> 0
C20: Защитная Одежда
C21: Защитная спецодежда | D21: LS/ФС | G21: =E21*F21 -> 0
C22: Строительство Зданий и Сооружений (Офис, Жилье и Лаборатория)
C23: Строительство офиса Инженера, жилых помещений и лаборатории | D23: LS/ФС | G23: =E23*F23 -> 0
C24: Содержание офиса, жилья и лаборатории | D24: LS/ФС | G24: =E24*F24 -> 0
C25: Обеспечение и Содержание Полевого Оборудования Инженера
C26: Обеспечение Полевого Оборудования Инженера | D26: LS/ФС | G26: =E26*F26 -> 0
C27: Содержание Полевого Оборудования Инженера | D27: LS/ФС | G27: =E27*F27 -> 0
C28: Обеспечение и Содержание Лаборатории Инженера
C29: Обеспечение полностью оборудованной лаборатории Инженера | D29: LS/ФС | G29: =E29*F29 -> 0
C30: Содержание лаборатории Инженера | D30: LS/ФС | G30: =E30*F30 -> 0
C31: Обеспечение и Содержание Жилья Инженера
C32: Предоставление Инженеру жилья Тип I | D32: LS/ФС | G32: =E32*F32 -> 0
C33: Обслуживание Инженеру жилья Тип I | D33: LS/ФС | G33: =E33*F33 -> 0
C34: Предоставление Инженеру жилья Тип II | D34: LS/ФС | G34: =E34*F34 -> 0
C35: Обслуживание Инженеру жилья Тип II | D35: LS/ФС | G35: =E35*F35 -> 0
C36: Предоставление Инженеру жилья Тип III | D36: LS/ФС | G36: =E36*F36 -> 0
C37: Обслуживание Инженеру жилья Тип III | D37: LS/ФС | G37: =E37*F37 -> 0
C38: Обеспечение и Содержание Транспортных Средств
C39: Поставка транспортных средств Тип A (1 единица) | D39: LS/ФС | G39: =E39*F39 -> 0
C40: Содержание транспортных средств Тип A | D40: LS/ФС | G40: =E40*F40 -> 0
C41: Поставка транспортных средств Тип B (2 единицы) | D41: LS/ФС | G41: =E41*F41 -> 0
C42: Содержание транспортных средств Тип B | D42: LS/ФС | G42: =E42*F42 -> 0
C43: Охрана Окружающей Среды
C44: План охраны окружающей среды | D44: LS/ФС | G44: =E44*F44 -> 0
C45: Мониторинг качества воздуха,качества воды,шума и вибраций | D45: LS/ФС | G45: =E45*F45 -> 0
C46: Хранение топлива и химических веществ | D46: LS/ФС | G46: =E46*F46 -> 0
C47: Мероприятия по улучшению окружающей среды | D47: LS/ФС | G47: =E47*F47 -> 0
C48: Фотографии Прогресса Работ и Видео Съемка
C49: Фото и видеосъемка прогресса работ | D49: LS/ФС | G49: =E49*F49 -> 0
C50: Организация Движения во Время Строительства
C51: Организация движения в период строительства | D51: LS/ФС | G51: =E51*F51 -> 0
C52: Разбивка и Закрепление
C53: Разбивка и закрепление | D53: LS/ФС | G53: =E53*F53 -> 0
C54: Подготовка проектной документации и исполнительных Чертежей
C55: Подготовка проектной документации | D55: LS/ФС | G55: =E55*F55 -> 0
C56: Подготовка исполнительных чертежей | D56: LS/ФС | G56: =E56*F56 -> 0
C57: Ремонт и содержание дороги при строительстве
C58: Ремонт и содержание дороги при строительстве | D58: LS/ФС | G58: =E58*F58 -> 0
C59: Ремонт и содержание дороги после строительства
C60: Ремонт и содержание дороги после строительства в течении 2 х лет | D60: LS/ФС | G60: =E60*F60 -> 0
C61: ВСЕГО ПО ВЕДОМОСТИ №100 (с переносом в сводную ведомость) | G61: =SUM(G8:G60) -> 0
B62: Сокращенные Обозначения
B63: LS=Lump Sum | C63: месяц
B64: ФC=Фиксированная сумма | C64: НП=не применяется
D65: Всего ВЕДОМОСТЬ No.100 | G65: ___________
D66: Всего страниц: | G66: (_______)

Sheet №200 РАСЧИСТКА УЧАСТКА
B1: КАЙДНОМА№200 КУРИЛИШ МАЙДОНИНИ ТОЗАЛАШ
B2: ВЕДОМОСТЬ №200 РАСЧИСТКА УЧАСТКА
A3: № пакета
A4: Имя пакета | C4: =#REF! -> #REF!
A5: Название участника торгов
A6: № | B6: Тавсифи | C6: Описание | D6: Ед. изм. | E6: Количество | F6: Стоим. ед.изм.(сум) | G6: Стоимость (сум)
A7: 1 | C7: 2 | D7: 3 | E7: 5 | F7: 6 | G7: 7
C8: Ссылка на Технические Спецификации Раздела 200
C9: 201. Удаление дорожных знаков, сооружений и препятствий
A10: 201.01 | C10: Разборка существующего сборного железобетонного тротуарного блока ПТК 2.2.14, весом - 1,38 тн с погрузкой и перевозкой до 25 км на базу эксплуатационной организации | D10: м3 | E10: 19.8 | G10: =E10*F10 -> 0
A11: 201.02 | C11: Демонтаж-монтаж существующего сборного железобетонного блока маркой ОТ-100.20 | D11: шт | E11: 70 | G11: =E11*F11 -> 0
A12: 201.03 | C12: Демонтаж-монтаж ж.б. блоков 2БДО-5.84 | D12: шт | E12: 25 | G12: =E12*F12 -> 0
A13: 201.04 | C13: Демонтаж дорожного знаков | D13: шт | E13: 6 | G13: =E13*F13 -> 0
A14: 201.05 | C14: Демонтаж металлических стоек из труб d-83 | D14: пм | E14: 24 | G14: =E14*F14 -> 0
A15: 201.06 | C15: Разборка существующего монолитного бетона под ограждениями | D15: м3 | E15: 0.75 | G15: =E15*F15 -> 0
A16: 201.07 | C16: Разборка существующего а/б покрытия общей толщиной 15,0 см | D16: м2 | E16: 680 | G16: =E16*F16 -> 0
A17: 201.08 | C17: Разборка существующего сборного железобетонного кюветноголотка маркой ЛК-6.6 | D17: шт | E17: 8 | G17: =E17*F17 -> 0
A18: 201.09 | C18: Разборка железобетонных конструкций(существующего монолитного железобетонного подпорного стены) | D18: м3 | E18: 49.2 | G18: =E18*F18 -> 0
A19: 201.10 | C19: Планировка строительной площадки пешеходного перехода | D19: м2 | E19: 1875 | G19: =E19*F19 -> 0
B20: КАЙДНОМА 200 буйича жами (умумий сметага ўтказиш билан) | C20: ИТОГО ПО ВЕДОМОСТИ № 200 (с переносом в сводную ведомость) | G20: =SUM(G9:G19) -> 0
B21: Сокращенные Обозначения
B22: пм =погонный метр | C22: шт = Штука
B23: м2=кубический метр | C23: м3=кубический метр

Sheet №400 ЗЕМЛЯНЫЕ РАБОТЫ
B1: КАЙДНОМА №400 ЕР ИШЛАРИ
B2: ВЕДОМОСТЬ №400 ЗЕМЛЯНЫЕ РАБОТЫ
A3: № пакета
A4: Имя пакета | C4: М39 "Алмати-Бишкек-Тошкент-Термиз" автомобиль йўлининг 822 км кисмида ер ости пиёдалар йўлагини қуриш
A5: Название участника торгов
A6: № | B6: Тавсифи | C6: Описание | D6: Ед. изм. | E6: Количество | F6: Стоим. ед.изм.(сум) | G6: Стоимость (сум)
A7: 1 | B7: 2 | C7: 3 | D7: 4 | E7: 5 | F7: 6 | G7: 7
C8: Ссылка на Технические Спецификации Раздела 400
A9: 401 | C9: Снятия ратсительного слоя
A10: 401.01 | C10: Срезка растительного слоя грунта | D10: м3 | G10: =E10*F10 -> 0
A11: 402 | C11: Выемка и насыпь
A12: 402.01 | C12: Возведение Насыпи | D12: м3 | G12: =E12*F12 -> 0
B13: КАЙДНОМА 400 буйича жами (умумий сметага ўтказиш билан) | C13: ИТОГО ПО ВЕДОМОСТИ № 400 (с переносом в сводную ведомость)
B15: Сокращенные Обозначения
B16: м3= метр кубический | C16: м2=квадратный метр

Sheet №600 ОСНОВАНИЯ
B1: КАЙДНОМА №600 ҚУЙИ АСОС ВА АСОС ҚАТЛАМЛАРИ, ЙЎЛ ЧЕТИНИ МУСТАҲКАМЛАШ
B2: ВЕДОМОСТЬ №600 ПОДСТИЛАЮЩИЙ СЛОИ ОСНОВАНИЯ И СЛОИ ОСНОВАНИЯ, УКРЕПЛЕНИЕ ОБОЧИН
A3: № пакета
A4: Имя пакета | C4: =#REF! -> #REF!
A5: Название участника торгов
A6: № | B6: Тавсифи | C6: Описание | D6: Ед. изм. | E6: Количество | F6: Стоим. ед.изм.(сум) | G6: Стоимость (сум)
A7: 1 | B7: 2 | C7: 3 | D7: 4 | E7: 5 | F7: 6 | G7: 7
C8: Ссылка на Технические Спецификации Раздела 600
A9: 601 | C9: Подстилающий Слой/Слои Основания и Обочины из Гранулированного Материала
A10: 601.01 | C10: Устройство нижнего слоя основания из гравийно-песчаной смеси по ГОСТ 25607-2009 смесь С4 толщиной 25.0 см | D10: м2 | E10: 700
A11: 601.02 | C11: Устройство среднего слоя основания из гравийно-песчаной смеси по ГОСТ 25607-2009 смесь С4 толщиной 25.0 см | D11: м2 | E11: 700 | G11: =E11*F11 -> 0
A12: 601.03 | C12: Устройство основания из гравийно-песчаной смеси по ГОСТ 25607-2009 смесь С4 толщиной 10,0 см | D12: м2 | E12: 415
B13: КАЙДНОМА 600 буйича жами (умумий сметага ўтказиш билан) | C13: ИТОГО ПО ВЕДОМОСТИ № 600 (с переносом в сводную ведомость) | G13: =SUM(G11:G11) -> 0
B15: Abbreviations/Сокращенные Обозначения
B16: м2=квадратный метр

Sheet №700 ПОКРЫТИЯ АСФАЛЬТ
B1: КАЙДНОМА №700 ОРГАНИК БОҒЛОВЧИ МОДДАЛАР (АСФАЛТ-БЕТОН) АСОСИДАГИ ЙЎЛ ҚОПЛАМАЛАРИ
B2: ВЕДОМОСТЬ №700 ПОКРЫТИЯ С ПРИМЕНЕНИЕМ ОРГАНИЧЕСКИХ ВЯЖУЩИХ (асфальтобетон)
A3: № пакета
A4: Имя пакета | C4: =#REF! -> #REF!
A5: Название участника торгов
A6: № | B6: Тавсифи | C6: Описание | D6: Ед. изм. | E6: Количество | F6: Стоим. ед.изм.(сум) | G6: Стоимость (сум)
A7: 1 | B7: 2 | C7: 3 | D7: 4 | E7: 5 | F7: 6 | G7: 7
C8: Ссылка на Технические Спецификации Раздела 700
A9: 701 | C9: Покрытия на остановочных полосах из cмесей, Приготовленных в Установке
A10: 701.01 | C10: Устройство верхнего слоя основания из горячей высокопористой крупнозернистой а/б смеси марки I по ГОСТ 9128-2013 толщиной 9 см. | D10: м2 | E10: 700 | G10: =E10*F10 -> 0
A11: 701.02 | C11: Устройство нижнего слоя покрытия из горячей пористой крупнозернистой а/б смеси марки I по ГОСТ 9128-2013 толщиной 7 см. | D11: м2 | E11: 700 | G11: =E11*F11 -> 0
A12: 701.03 | C12: Устройство верхнего слоя покрытия из горячей плотной мелкозернистой а/б смеси марки I типа Б по ГОСТ 9128-2013 толщиной 5 см. | D12: м2 | E12: 700
A13: 701.04 | C13: Устройство однослойного покрытия из горячей плотной мелкозернистой а/б смеси марки I типа Б по ГОСТ 9128-2013 толщиной 5 см. | D13: м2 | E13: 415
A14: 702 | B14: Подгрунтовка | C14: Подгрунтовка
A15: 702.01 | C15: Подгрунтовка битумным эмулсией по норме 0,9 л/м² | D15: ton/тн | E15: 1.004 | G15: =E15*F15 -> 0
A16: 702.02 | C16: Подгрунтовка битумным эмулсией по норме 0,3 л/м² | D16: ton/тн | E16: 0.21 | G16: =E16*F16 -> 0
B17: КАЙДНОМА 700 буйича жами (умумий сметага ўтказиш билан) | C17: ИТОГО ПО ВЕДОМОСТИ № 700 (с переносом в сводную ведомость)
B19: Abbreviations/Сокращенные Обозначения
B20: м2=квадратный метр | C20: Ton/тн=тонна
B21: м3= метр кубический

Sheet №900. ИНЖЕНЕРНОЕ ОБУСТРОЙСТВО
B1: КАЙДНОМА №900 ЙЎЛНИ ЖИХОЗЛАШ
B2: ВЕДОМОСТЬ №900 ИНЖЕНЕРНОЕ ОБУСТРОЙСТВО ДОРОГИ
A3: № пакета
A4: Имя пакета | C4: =#REF! -> #REF!
A5: Название участника торгов
A6: № | B6: Тавсифи | C6: Описание | D6: Ед. изм. | E6: Количество | F6: Стоим. ед.изм.(сум) | G6: Стоимость (сум)
A7: 1 | B7: 2 | C7: 3 | D7: 4 | E7: 5 | F7: 6 | G7: 7
C8: Ссылка на Технические Спецификации Раздела 900
A9: 901 | C9: Горизонтальная дорожная разметка
A10: 901.01 | C10: Разметка проезжей части сплошной линией толщиной 0,10 м (1.1) | D10: пм | E10: 400 | G10: =E10*F10 -> 0
A11: 901.02 | C11: Разметка линией шириной 0,10 м при соотношении штриха к промежутку 1:3 (1.5) | D11: пм | E11: 300 | G11: =E11*F11 -> 0
A12: 902 | C12: Дорожные Знаки
A13: 902.01 | C13: Знаки приоритета | D13: шт | E13: 2 | G13: =E13*F13 -> 0
A14: 902.01 | C14: Знаки прямоугольник | D14: шт | E14: 2 | G14: =E14*F14 -> 0
A15: 903 | C15: Опоры для Дорожных Знаков
A16: 903.01 | C16: Опоры из стальной прямаугольной трубы размером стороны 60х40мм диаметром толщиной стенки 5 мм | D16: шт | E16: 4 | G16: =E16*F16 -> 0
A17: 904 | C17: Кабельная линия 10КВ
A18: 904.01 | C18: Кабель силовой c изоляцией из силанольносшитого полиэтилена на напряжение 10кВ с алюминиевой жилой сечением 1х120мм2 с медным экраном по изолированной жиле сеч. 25мм2 | D18: м | E18: 150
A19: 904.02 | C19: Концевая мачтовая муфта наружной установки с алюминиевым корпусом апр-е 10кВ для кабеля сеч. 3х50мм2 с сальником и наконечниками | D19: компл | E19: 1
A20: 904.03 | C20: Концевая муфта внутренней установки для экранированного одножильного кабеля с изоляцией из сшитого полиэтилена на напряжении 10кВ сеч. 1х120/25мм2 (с экраном из медных проволок) с болтовым наконечником | D20: компл | E20: 3
A21: 904.04 | C21: Линейный разъединитель ручного привода с заземлителем | D21: компл | E21: 1
A22: 904.05 | C22: Сталь полосовая 4х40мм | D22: м | E22: 82
A23: 904.06 | C23: Уголок стальной №63; L=3м | D23: шт | E23: 32
A24: 904.07 | C24: Конденсаторная установка 380В; -25кВар. | D24: шт | E24: 1
A25: 904.08 | C25: Кирпич жженый | D25: шт | E25: 400
A26: 904.09 | C26: Песок речной | D26: м3 | E26: 3
A27: 905 | C27: Кабельная линия 0.4КВ
A28: 905.01 | C28: Комплектная однотрансформаторная подстанция | D28: шт | E28: 1
A29: 905.02 | C29: Фундаменты под ГКТП | D29: шт | E29: 1
A30: 905.03 | C30: Компенсирующее устройство | D30: шт | E30: 1
A31: 905.04 | C31: Установка АДЭС-32кВт/40кВА с устройством АВР -32А | D31: шт | E31: 1
A32: 905.05 | C32: Пункт распределительный с вводным автоматом | D32: шт | E32: 1
A33: 905.06 | C33: Кабель силовой с алюм. жилами сечением 4х25мм² | D33: м | E33: 300
A34: 905.07 | C34: Муфта концевая для кабеля с алюмин. жилами на напряжении до 1кВ сеч. 4х50мм2 | D34: шт | E34: 16
A35: 905.08 | C35: Труба ПНД двухстенная жесткая Ф100х10мм | D35: м | E35: 150
A36: 905.09 | C36: Муфта соединительная для двухстенных ПНД труб Ф100х10мм | D36: шт | E36: 26
A37: 905.10 | C37: Наконечник аллюминиевый | D37: шт | E37: 10
A38: 905.11 | C38: Кирпич жженые | D38: шт | E38: 2400
A39: 905.12 | C39: Песок речной | D39: м3 | E39: 36
... A42: 905.15 | C42: Сталь полосовая ∅40х4 | D42: м | E42: 65.2
A43: 906 | C43: АСКУЭ
A44: 906.01 | C44: GSМ-модем | D44: шт | E44: 1
A45: 906.02 | C45: Блок питания | D45: шт | E45: 1
A46: 906.03 | C46: Автоматический выключатель | D46: шт | E46: 1
A47: 906.04 | C47: Розетка | D47: шт | E47: 1
A48: 906.05 | C48: Прибор учета электроэнергии (5А; 380V) | D48: шт | E48: 1
A49: 906.06 | C49: SIM карта | D49: шт | E49: 1
A50: 906.07 | C50: Модем | D50: шт | E50: 1
A51: 906.08 | C51: Кабель компьютерной и телефонной сети | D51: пм | E51: 20
A52: 906.09 | C52: Провод с медными жилами | D52: пм | E52: 40
A53: 907 | C53: Оборудование и изделия, распределяемые по линии комплектующих организаций
A54: 907.01 | C54: Щит силовой распределительный для наружной установки со встроенным IP65 | D54: шт | E54: 1
A55: 907.02 | C55: Автоматический выключатель 3Р на 80А, харак.С | D55: шт | E55: 1
A56: 907.03 | C56: Автоматический выключатель 3Р на 40А, харак.С | D56: шт | E56: 3
A57: 907.04 | C57: Автоматический выключатель 1Р на 25А, харак.С | D57: шт | E57: 2
A58: 907.05 | C58: Автоматический выключатель 1Р на 16А, харак.С | D58: шт | E58: 10
A59: 907.06 | C59: Cтальная шина уравнивания потенциалов сечением 50х5мм | D59: шт | E59: 1
A60: 907.07 | C60: Щит аварийного питания на два ввода ~380 Iн.р.=32А | D60: шт | E60: 1
A61: 907.08 | C61: Светильник длинный светодиодный, 220В, 36Вт , IP65 | D61: шт | E61: 64
A62: 907.09 | C62: Кабель силовой с алюминиевыми жилами кабель -4х35 мм2, изоляцией и защитным шлангом из ПВХ | D62: пм | E62: 285
A63: 907.10 | C63: Кабель силовой с медными жилами с ПВХ изоляцией и оболочкой сечением 3х2,5мм2 | D63: пм | E63: 1340
A64: 907.11 | C64: Кабель силовой с медными жилами с ПВХ изоляцией и оболочкой сечением 5х4,0мм2 | D64: пм | E64: 450
A65: 907.12 | C65: Кабель контрольный с медными жилами с ПВХ изоляцией и оболочкой сечением 7х1,5мм2 | D65: пм | E65: 20
A66: 908 | C66: Трубные изделия
A67: 908.01 | C67: Гофра Ф25мм | D67: м | E67: 954
A68: 908.02 | C68: Труба ПНД д=50мм | D68: м | E68: 325
A69: 908.03 | C69: Полоса 4х40 ГОСТ 103-2006 | D69: м | E69: 50
A70: 908.04 | C70: Заземляющий стержень стальной оцинкованный ф16мм, длиной 5000мм | D70: м | E70: 15
A71: 908.05 | C71: Розетка с заземляющим контактом открытой установки, 220В, 16А, IP54 | D71: шт | E71: 2
A72: 908.06 | C72: Рытье и засыпка траншеи под кабель в грунте 2-й категории 80% мех способом, 20% вручную | D72: м2 | E72: 480
A73: 908.07 | C73: Рытье и засыпка траншеи под контур заземление в грунте 2-й категории 100% вручную | D73: м3 | E73: 14
B74: КАЙДНОМА 900 буйича жами (умумий сметага ўтказиш билан) | C74: ИТОГО ПО ВЕДОМОСТИ № 900 (с переносом в сводную ведомость) | G74: =SUM(G9:G16) -> 0
B76: Abbreviations/Сокращенные Обозначения
B77: пм =погонный метр | C77: Шт=Штука
B78: м2=квадратный метр

Sheet №1100. БЕТОННЫЕ КОНСТРУКЦИИ И М
B1: КАЙДНОМА №1100 БЕТОН КОНСТРУКЦИЯЛАР ВА КЎПРИКЛАР
B2: ВЕДОМОСТЬ №1100 БЕТОННЫЕ КОНСТРУКЦИИ И МОСТЫ
A3: № пакета
A4: Имя пакета | C4: =#REF! -> #REF!
A5: Название участника торгов
A6: № | B6: Тавсифи | C6: Описание | D6: Ед. изм. | E6: Количество | F6: Стоим. ед.изм.(сум) | G6: Стоимость (сум)
A7: 1 | B7: 2 | C7: 3 | D7: 4 | E7: 5 | F7: 6 | G7: 7
C8: Ссылка на Технические Спецификации Раздела 1100
A9: 1101 | C9: Разработка котлована пешеходного перехода, лестничных сходов и пандусов
A10: 1101.01 | C10: Разборка грунта 2-гр котлована для устройства пешеходного перехода, лестничных сходов и пандусов экскаватором емк. ковша 1 м3 с погрузкой и перевозкой до 20 км в отвал.Работа на отвале, группа грунта - II | D10: м3 | E10: 4337.5 | G10: =E10*F10 -> 0
A11: 1102 | C11: Засыпка пешеходного перехода, лестничных сходов и пандусов | G11: =E11*F11 -> 0
A12: 1102.01 | C12: Разборка грунта 2-гр котлована для устройства пешеходного перехода, лестничных сходов и пандусов экскаватором емк. ковша 1 м3, в т.ч. ручная доработка грунт 2 группы в размере 3% с перемещением грунта до 20 м бульдозером на отвал для обратная засыпка | D12: м3 | E12: 2865.36 | G12: =E12*F12 -> 0
A13: 1103 | C13: Устройство подготовки основания
A14: 1103.1 | C14: Планировка дно катлована | D14: м2 | E14: 350 | H14: 350
A15: 1103.2 | C15: каменной наброски | D15: м3 | E15: 53.2
A16: 1103.03 | C16: основание ГПС | D16: м3 | E16: 114.08 | H16: 44.91
A17: 1103.04 | C17: подготовки бетона В15 | D17: м3 | E17: 61.04 | H17: 28.03
A18: 1103.05 | C18: Основание из песка | D18: м3 | E18: 0.84
A19: 1104 | C19: Устройство фундамента из монолитного бетона с армированный сеткой под сборные блоки №95 пешеходного перехода
A20: 1104.01 | C20: Стальная стержневая арматура | D20: м3 | E20: 7.776
A21: 1104.02 | C21: Бетон В 20 (сульфатостойкий) | D21: м3 | E21: 167.71
A22: 1105 | C22: Устройство блоков №95
A23: 1105.01 | C23: Стоимость и монтаж сборных блоков №95 3П40.25.10-2 | D23: шт | E23: 39
A24: 1106 | C24: Гидроизоляция пешеходного перехода
A25: 1106.01 | C25: Оклеечная гидроизоляция оклеечной из 2-х слоев "Бикром"а | D25: м2 | E25: 922 | H25: 550
A26: 1106.02 | C26: Обмазочная гидроизоляция блоков с соприкасающихся грунтом с горячей битумной мастикой за 2 раза | D26: м2 | E26: 1441 | H26: 1441
A27: 1107 | C27: Устройство дренажных труб
A28: 1107.01 | C28: Отсыпка под дренажных труб природным песком | D28: м3 | E28: 8.4
A29: 1107.02 | C29: Геотекстиль | D29: м2 | E29: 39.6
A30: 1107.03 | C30: Устройство дренажных труб для водоотвода за стенками опор из ПНД, маркой TUPAR SN6, диаметром-200мм тол. стены - 10мм | D30: пм | E30: 104
A31: 1107.04 | C31: Труба стальная водапроводная диаметром d- 194мм толщ - 6мм | D31: пм | E31: 7.8
A32: 1107.05 | C32: Щебень с фракциями 20-40мм для отсыпки над дренажных труб | D32: м3 | E32: 34
A33: 1108 | C33: Устройство защитного слоя
A34: 1108.01 | C34: устройством выравнивающего слоя из бетона В25, (сульфатостойкий) h-3см | D34: м3 | E34: 5.25
A35: 1108.02 | C35: защитного слоя h-4 см Бетон В25 (сульфатостойкий) | D35: м3 | E35: 7
A36: 1109 | C36: Устройства монолитных железобетонных стоек, ригелей и стенок на входу и выходе пешеходного перехода
A37: 1109.01 | C37: Бетон В25 (сульфататойкий) | D37: м3 | E37: 49.92
A38: 1109.02 | C38: металл-всего | D38: тн | E38: 4.485
A39: 1110 | C39: Устройство монолитного ж.б. фундамента под днища и ступенок с изготовлением и установкой арматурных сеток
A40: 1110.01 | C40: бетон В20 F200 W-4 (сульфатостойкий) | D40: м3 | E40: 67.33
A41: 1110.02 | C41: металл-всего | D41: тн | E41: 1.474
A42: 1111 | C42: Устройство монолитного ж.б. днища и ступенок с изготовлением и установкой арматурных сеток
A43: 1111.01 | C43: бетон В20 F200 W-4 (сульфатостойкий) | D43: м3 | E43: 13.83
A44: 1111.02 | C44: металл-всего | D44: тн | E44: 0.543
A45: 1112 | C45: Устройство прохожей части лесничных сходов подземного пешеходного перехода из монолитного ж.б. с изготовлением и установкой арматурных каркасов
A46: 1112.01 | C46: бетон В20 F200 W-4 (сульфатостойкий) | D46: м3 | E46: 30.4
A47: 1112.02 | C47: металл-всего | D47: тн | E47: 2.391
A48: 1113 | C48: Изготовления и монтаж поручней из труб
A49: 1113.01 | C49: Установка закладные детали | D49: шт | E49: 450
A50: 1113.02 | C50: поручней из труб коррозийностойкого металла d-48 мм, толщ.-3,5 мм | D50: пм | E50: 605
A51: 1113.03 | C51: мет. труба d-42 мм толщ.-3мм | D51: пм | E51: 123.9
A52: 1113.04 | C52: Окраска металлических поверхности поручней из 2-х слоев с маслянной краской | D52: м2 | E52: 130
A53: 1114 | C53: Устройство прохожей части пандусов из монолитного ж.б. с изготовлением и установкой арматурных каркасов
A54: 1114.01 | C54: бетон В 25 (сульфатостойкий) | D54: м3 | E54: 41.9
A55: 1114.02 | C55: металл-всего | D55: тн | E55: 1.693
A56: 1115 | C56: Устройство стенок лесничных сходов подземного пешеходного перехода из монолитного ж.б. с изготовлением и установкой арматурных каркасов
A57: 1115.01 | C57: бетон В 25 (сульфатостойкий) | D57: м3 | E57: 41.92
A58: 1115.02 | C58: металл-всего | D58: тн | E58: 4.94
A59: 1116 | C59: Устройство стенок пандусов из монолитного ж.б. с изготовлением и установкой арматурных каркасов
A60: 1116.01 | C60: бетон В 25 (сульфатостойкий) | D60: м3 | E60: 148
A61: 1116.02 | C61: металл-всего | D61: тн | E61: 17.198
A62: 1117 | C62: Устройство монолитного ж/б колодца (сульфатостойкий)
A63: 1117.01 | C63: бетон В 25 (сульфатостойкий) | D63: м3 | E63: 4.14
A64: 1117.02 | C64: металл-всего | D64: тн | E64: 0.242
A65: 1118 | C65: Установка насос
A66: 1118.01 | C66: Установка насоса центробежных с электродвигателем, масса агрегата до 0,1т. Насосы с электродвигателем GRUNDFOS UNILIFT KP 150-A1 | D66: шт | E66: 1
A67: 1119 | C67: Устройство монолитного бетонного лотка с обеспечением
A68: 1119.01 | C68: бетон В 25 (сульфатостойкий) | D68: м3 | E68: 21.09
A69: 1120 | C69: Изготовление и установка металлические решетки на колодец и на прямки
A70: 1120.01 | C70: уголок 63х63х4 | D70: пм | E70: 16.98
A71: 1120.02 | C71: уголок 50х50х3 | D71: пм | E71: 113
A72: 1120.03 | C72: уголок 45х45х3 | D72: пм | E72: 150.5
A73: 1120.04 | C73: уголок32х32х3 | D73: пм | E73: 345
A74: 1120.05 | C74: арматура А240 d-6,5 | D74: тн | E74: 3.56e-05
A75: 1120.06 | C75: полосовой сталь толшиной-12мм | D75: тн | E75: 0.124
A76: 1121 | C76: Архитуктурное оформление тоннеля
A77: 1121.01 | C77: Облицовка поверхностей потолков декаративными панелями типа "алюпан" с устройством каркаса из жестянного профеля | D77: м2 | E77: 161.6
A78: 1121.02 | C78: Облицовка полы тонельного части пешеходного перехода плитами полированными, Плиты облицовочные из мозаичных, полированные, толщиной 12 мм (размером 600х600х12 мм) | D78: м2 | E78: 1049.7
A79: 1121.03 | C79: Облицовка площадок и ступеней лесничного схода с гранитными плитами полированными тольшиной 30 мм | D79: м2 | E79: 85.3
A80: 1121.04 | C80: Облицовка наружная сторона стены входа и выхода подземного пешеходного перехода по бетонной поверхности с гранитными плитами полированными тольшиной 20 мм размером 1200х600х20 мм | D80: м2 | E80: 136.5
A81: 1122 | C81: Тактильная плита для инвалидов
A82: 1122.01 | C82: Предупреждающая полиуретановая тактильная плита- TPU размером 300х300 | D82: шт | E82: 76
A83: 1122.02 | C83: Направленная полиуретановая тактильная плита- TPU размером 300х300 | D83: шт | E83: 870
A84: 1122.03 | C84: Клей полиуретановый для тактильной плитки | D84: тн | E84: 0.222
A85: 1122.04 | C85: Лента с надписями Брайля на ручках | D85: шт | E85: 10
A86: 1123 | C86: Конструкция кровли для перекрытия входа и выхода пешеходного перехода
A87: 1123.01 | C87: Устройство металлический стоек из металлический профеля(труба) сечением 100х70х5мм | D87: пм | E87: 155.3
A88: 1123.02 | C88: 80х80х3,5 мм | D88: пм | E88: 378.6
A89: 1123.03 | C89: 60х40х4 мм | D89: пм | E89: 403.8
A90: 1123.04 | C90: Стоимость и установка покрытия из лексана толщиной 10 мм, размером-12х2,1 | D90: м2 | E90: 579.6
A91: 1123.05 | C91: Покраска металлический каркасов кровли с масляной краской (2раза) с грунтовкой | D91: м2 | E91: 300
A92: 1124 | C92: Устройство монолитных железобетонных фундаментов под подпорных стен толщиной 40 см
A93: 1124.01 | C93: бетон В-25 | D93: м3 | E93: 39.3
A94: 1124.02 | C94: металл всего. Изготовление и установка арматурных каркасов | D94: тн | E94: 5.165
A95: 1125 | C95: Устройство подпорных стен железобетонных высотой до 2,8 м, толщиной 400 мм
A96: 1125.01 | C96: бетон В-25 | D96: м3 | E96: 54.4
A97: 1125.02 | C97: металл всего. Изготовление и установка арматурных каркасов | D97: м3 | E97: 8.098
C98: Монтаж металлических индивидуальных перильных ограждений, металл всего | D98: тн | E98: 1.659
A99: 1126 | C99: Устройство тротуаров
A100: 1126.01 | C100: Планировка | D100: м2 | E100: 295
...
