Workbook

Sheet 1_ЛРВ
F1: Форма N 5
B2: М39 "АЛМАТИ-БИШКЕК-ТОШКЕНТ-ТЕРМИЗ" АВТОМОБИЛЬ ЙУЛИНИНГ 822 КМ КИСМИДА ЕР ОСТИ ПИЕДАЛАР ЙУЛАГИНИ КУРИШ
B3: (наименование стройки)
C5: ЛОКАЛЬНАЯ РЕСУРСНАЯ ВЕДОМОСТЬ № | D5: 1
B6: (локальная ресурсная смета)
A8: на | B8: ПОДЗЕМНЫЙ ПЕШЕХОДНЫЙ ПЕРЕХОД,
B9: (наименование работ и затрат, наименование объекта)
A11: Основание: | C11: ВЕДОМОСТЬ ОБЪЕМОВ РАБОТ
A12: N п.п. | B12: Шифр номера нормативов и коды ресурсов | C12: Наименование работ и затрат | D12: Единица измерения | E12: Количество
E13: на. ед. измерения | F13: по проектным данным
A14: 1 | B14: 2 | C14: 3 | D14: 4 | E14: 5 | F14: 6
A16: РАЗДЕЛ 1. ПОДГОТОВИТЕЛЬНЫЕ РАБОТЫ
A17: 1 | B17: Е2707-003-02 . ШНК4.02.00-04 П.3.3А,Б КЗТР=0,8, КЭМ=0,8, КМР=0 | C17: РАЗБОРКА СУЩЕСТВУЮЩЕГО СБОРНОГО ЖЕЛЕЗОБЕТОННОГО ТРОТУАРНОГО БЛОКА ПТК 2.2.14. | D17: 100М2 ТРОТУАРА | E17: 1.44
A18: 1.1 | B18: 1 | C18: ЗАТРАТЫ ТРУДА РАБОЧИХ-СТРОИТЕЛЕЙ | D18: ЧЕЛ.-Ч | E18: 30.48 | F18: 43.8912
A19: 1.2 | B19: 3 | C19: ЗАТРАТЫ ТРУДА МАШИНИСТОВ | D19: ЧЕЛ.-Ч | E19: 0.784 | F19: 1.129
A20: 1.3 | B20: 112 | C20: АВТОПОГРУЗЧИКИ 5 Т | D20: МАШ.-Ч | E20: 0.008 | F20: 0.01152
A21: 1.4 | B21: 762 | C21: КРАНЫ НА АВТОМОБИЛЬНОМ ХОДУ ПРИ РАБОТЕ НА ДРУГИХ ВИДАХ СТРОИТЕЛЬСТВА 10 Т | D21: МАШ.-Ч | E21: 0.328 | F21: 0.47232
A22: 1.5 | B22: 2499 | C22: АВТОМОБИЛИ БОРТОВЫЕ ГРУЗОПОДЪЕМНОСТЬЮ ДО 5 Т | D22: МАШ.-Ч | E22: 0.448 | F22: 0.64512
A23: 1.6 | B23: 3078 | C23: ВИБРОПЛИТА С ДВИГАТЕЛЕМ ВНУТРЕННЕГО СГОРАНИЯ | D23: МАШ.-Ч | E23: 4.104 | F23: 5.9098
A24: 2 | B24: Е310-1025 . ШНК4.04.06-14 Р.3.Т.7 К=0,41 | C24: ПЕРЕВОЗКА ГРУЗОВ АВТОМОБИЛЕМ, РАССТОЯНИЕ ПЕРЕВОЗКИ 25 КМ, КЛАСС ГРУЗА 1. ПРИ ПЕРЕВОЗКЕ АВТОСАМОСВАЛАМИ ГРУЗОПОДЪЕМНОСТЬЮ 25, ПРИМЕНЕН КОЭФФИЦИЕНТ К НОРМАМ ЗАТРАТ ТРУДА МАШИНИСТОВ И ЭКСПЛУАТАЦИИ МАШИН - 0,41 | D24: Т | E24: 49.68
A25: 2.1 | B25: 3 | C25: ЗАТРАТЫ ТРУДА МАШИНИСТОВ | D25: ЧЕЛ.-Ч | E25: 0.069536 | F25: 3.4545
A26: 2.2 | B26: 3457 | C26: АВТОМОБИЛИ-САМОСВАЛЫ ГРУЗОПОДЪЕМНОСТЬЮ ДО 25 Т | D26: МАШ.-Ч | E26: 0.069536 | F26: 3.4545
A27: 3 | B27: Е311-004-02 | C27: ПОГРУЗОЧНО-РАЗГРУЗОЧНЫЕ РАБОТЫ ПРИ АВТОМОБИЛЬНЫХ ПЕРЕВОЗКАХ. ИЗДЕЛИЯ ИЗ СБОРНОГО ЖЕЛЕЗОБЕТОНА, БЕТОНА, КЕРАМЗИТОБЕТОНА МАССОЙ ДО 3 Т: РАЗГРУЗКА | D27: Т | E27: 49.68
A28: 3.1 | B28: 1 | C28: ЗАТРАТЫ ТРУДА РАБОЧИХ-СТРОИТЕЛЕЙ | D28: ЧЕЛ.-Ч | E28: 0.142 | F28: 7.0546
A29: 3.2 | B29: 3 | C29: ЗАТРАТЫ ТРУДА МАШИНИСТОВ | D29: ЧЕЛ.-Ч | E29: 0.071 | F29: 3.5273
A30: 3.3 | B30: 761 | C30: КРАНЫ НА АВТОМОБИЛЬНОМ ХОДУ ПРИ РАБОТЕ НА ДРУГИХ ВИДАХ СТРОИТЕЛЬСТВА 6,3 Т | D30: МАШ.-Ч | E30: 0.071 | F30: 3.5273
A31: 4 | B31: Е2703-010-01 | C31: ДЕМОНТАЖ СУЩЕСТВУЮЩЕГО СБОРНОГО ЖЕЛЕЗОБЕТОННОГО БЛОКА МАРКОЙ ОТ-100.20 | D31: 100М | E31: 0.7
A32: 4.1 | B32: 1 | C32: ЗАТРАТЫ ТРУДА РАБОЧИХ-СТРОИТЕЛЕЙ | D32: ЧЕЛ.-Ч | E32: 92.04 | F32: 64.428
A33: 5 | B33: Е3001-001-02 | C33: УСТРОЙСТВО ОСНОВАНИЕ ИЗ ГПС | D33: 100М3 | E33: 0.042
A34: 5.1 | B34: 1 | C34: ЗАТРАТЫ ТРУДА РАБОЧИХ-СТРОИТЕЛЕЙ | D34: ЧЕЛ.-Ч | E34: 270.048 | F34: 11.342
A35: 5.2 | B35: 3 | C35: ЗАТРАТЫ ТРУДА МАШИНИСТОВ | D35: ЧЕЛ.-Ч | E35: 8.472 | F35: 0.355824
A36: 5.3 | B36: 660 | C36: КОМПРЕССОРЫ ПЕРЕДВИЖНЫЕ С ДВИГАТЕЛЕМ ВНУТРЕННЕГО СГОРАНИЯ ДАВЛЕНИЕМ ДО 686 КПА (7 АТМ.) 5 М3/МИН | D36: МАШ.-Ч | E36: 8.472 | F36: 0.355824
A37: 5.4 | B37: 1866 | C37: ТРАМБОВКИ ПНЕВМАТИЧЕСКИЕ | D37: МАШ.-Ч | E37: 16.956 | F37: 0.712152
A38: 5.5 | B38: 12303 | C38: ГРАВИЙНО-ПЕСЧАНАЯ СМЕСЬ | D38: М3 | E38: 110 | F38: 4.62
A39: 6 | B39: Е2702-010-02 | C39: УСТАНОВКА Ж/Б БЛОКОВ ОТ-100.20(БЕЗ СТОИМОСТЬ) | D39: 100М | E39: 0.7
A40: 6.1 | B40: 1 | C40: ЗАТРАТЫ ТРУДА РАБОЧИХ-СТРОИТЕЛЕЙ | D40: ЧЕЛ.-Ч | E40: 83.76 | F40: 58.632
A41: 6.2 | B41: 3 | C41: ЗАТРАТЫ ТРУДА МАШИНИСТОВ | D41: ЧЕЛ.-Ч | E41: 0.78 | F41: 0.546
A42: 6.3 | B42: 762 | C42: КРАНЫ НА АВТОМОБИЛЬНОМ ХОДУ ПРИ РАБОТЕ НА ДРУГИХ ВИДАХ СТРОИТЕЛЬСТВА 10 Т | D42: МАШ.-Ч | E42: 0.732 | F42: 0.5124
A43: 6.4 | B43: 2499 | C43: АВТОМОБИЛИ БОРТОВЫЕ ГРУЗОПОДЪЕМНОСТЬЮ ДО 5 Т | D43: МАШ.-Ч | E43: 0.048 | F43: 0.0336
A44: 6.5 | B44: 6323 | C44: БЕТОН ТЯЖЕЛЫЙ КЛАССА В15 /М-200/ ФРАКЦИИ 10-20 ММ (СУЛЬФАТОСТОЙКИЙ) | D44: М3 | E44: 3.8 | F44: 2.66
...

Sheet 1_ЛРВ (2)
F1: Форма N 5
B2: М39 "АЛМАТИ-БИШКЕК-ТОШКЕНТ-ТЕРМИЗ" АВТОМОБИЛЬ ЙУЛИНИНГ 822 КМ КИСМИДА ЕР ОСТИ ПИЕДАЛАР ЙУЛАГИНИ КУРИШ
B3: (наименование стройки)
C5: ЛОКАЛЬНАЯ РЕСУРСНАЯ ВЕДОМОСТЬ № | D5: 1
B6: (локальная ресурсная смета)
A8: на | B8: ВНЕШНИЙ И ВНУТРИПЛОЩАДОЧНЫЕ ЭЛЕКТРИЧЕСКИЕ СЕТИ 10КВ И 0.4КВ И ЭЛЕКТРООСВЕЩЕНИЯ,
B9: (наименование работ и затрат, наименование объекта)
A11: Основание: | C11: ВЕДОМОСТЬ ОБЪЕМОВ РАБОТ
A12: N п.п. | B12: Шифр номера нормативов и коды ресурсов | C12: Наименование работ и затрат | D12: Единица измерения | E12: Количество
E13: на. ед. измерения | F13: по проектным данным
A14: 1 | B14: 2 | C14: 3 | D14: 4 | E14: 5 | F14: 6
A16: РАЗДЕЛ 1. ВНЕШНИЙ И ВНУТРИПЛОЩАДОЧНЫЕ ЭЛЕКТРИЧЕСКИЕ СЕТИ 10КВ И 0.4КВ
A17: РАЗДЕЛ 2. КАБЕЛЬНАЯ ЛИНИЯ 10КВ
A18: 1 | B18: Ц0802-141-02 | C18: КАБЕЛИ ДО 35 КВ В ГОТОВЫХ ТРАНШЕЯХ | D18: 100М | E18: 4.5
A19: 1.1 | B19: 1 | C19: ЗАТРАТЫ ТРУДА РАБОЧИХ-СТРОИТЕЛЕЙ | D19: ЧЕЛ.-Ч | E19: 13.7 | F19: 61.65
A20: 1.2 | B20: 3 | C20: ЗАТРАТЫ ТРУДА МАШИНИСТОВ | D20: ЧЕЛ.-Ч | E20: 4.34 | F20: 19.53
A21: 1.3 | B21: 513 | C21: ДОМКРАТЫ ГИДРАВЛИЧЕСКИЕ ГРУЗОПОДЪЕМНОСТЬЮ 63 Т | D21: МАШ.-Ч | E21: 3.22 | F21: 14.49
A22: 1.4 | B22: 766 | C22: КРАНЫ НА АВТОМОБИЛЬНОМ ХОДУ ПРИ РАБОТЕ НА МОНТАЖЕ ТЕХНОЛОГИЧЕСКОГО ОБОРУДОВАНИЯ 10 Т | D22: МАШ.-Ч | E22: 0.56 | F22: 2.52
A23: 1.5 | B23: 983 | C23: ЛЕБЕДКИ ЭЛЕКТРИЧЕСКИЕ, ТЯГОВЫМ УСИЛИЕМ 156,96 (16) КН (Т) | D23: МАШ.-Ч | E23: 3.22 | F23: 14.49
A24: 1.6 | B24: 2510 | C24: АВТОМОБИЛИ БОРТОВЫЕ ГРУЗОПОДЪЕМНОСТЬЮ ДО 8 Т | D24: МАШ.-Ч | E24: 0.56 | F24: 2.52
A25: 1.7 | B25: 31087 | C25: КРАСКА | D25: КГ | E25: 0.25 | F25: 1.125
A26: 1.8 | B26: 31248 | C26: ЛАК БИТУМНЫЙ БТ-123 | D26: Т | E26: 6e-05 | F26: 0.00027
A27: 1.9 | B27: 32540 | C27: ПРОВОЛОКА СТАЛЬНАЯ НИЗКОУГЛЕРОДИСТАЯ РАЗНОГО НАЗНАЧЕНИЯ ОЦИНКОВАННАЯ ДИАМЕТРОМ 3,0 ММ | D27: Т | E27: 4e-05 | F27: 0.00018
A28: 1.10 | B28: 33746 | C28: СТАЛЬ ПОЛОСОВАЯ СПОКОЙНАЯ МАРКИ СТ3СП, ШИРИНОЙ 50-200 ММ ТОЛЩИНОЙ 4-5 ММ | D28: Т | E28: 0.001 | F28: 0.0045
A29: 1.11 | B29: 35518 | C29: РОЛИ СВИНЦОВЫЕ, МАРКИ С1 ТОЛЩИНОЙ 1,0 ММ | D29: Т | E29: 0.0008 | F29: 0.0036
A30: 1.12 | B30: 45527 | C30: БИРКИ МАРКИРОВОЧНЫЕ | D30: 100ШТ | E30: 0.041 | F30: 0.1845
... A33: 1.15 | B33: 65140 | C33: СТАЛЬ УГЛОВАЯ, РАВНОПОЛОЧНАЯ, МАРКА СТАЛИ ВСТ3КП2 РАЗМЕРОМ 50Х50Х5 ММ | D33: Т | E33: 0.01 | F33: 0.045
A34: 2 | B34: С | C34: КАБЕЛЬ СИЛОВОЙ С АЛЮМИНИЕВОЙ ЖИЛОЙ 10 КВ УСИЛЕННЫЙ АПВПУ-1Х120/25 ММ2 | D34: М | E34: 450
A35: 3 | B35: Ц0802-164-07 | C35: МУФТА ДЛЯ КАБЕЛЯ НАПРЯЖЕНИЕМ ДО 10 КВ | D35: ШТ | E35: 1
A36: 3.1 | B36: 1 | C36: ЗАТРАТЫ ТРУДА РАБОЧИХ-СТРОИТЕЛЕЙ | D36: ЧЕЛ.-Ч | E36: 9.34 | F36: 9.34
A37: 3.2 | B37: 3 | C37: ЗАТРАТЫ ТРУДА МАШИНИСТОВ | D37: ЧЕЛ.-Ч | E37: 3.97 | F37: 3.97
A38: 3.3 | B38: 406 | C38: ВЫШКИ ТЕЛЕСКОПИЧЕСКИЕ 25 М | D38: МАШ.-Ч | E38: 3.9 | F38: 3.9
A39: 3.4 | B39: 2510 | C39: АВТОМОБИЛИ БОРТОВЫЕ ГРУЗОПОДЪЕМНОСТЬЮ ДО 8 Т | D39: МАШ.-Ч | E39: 0.07 | F39: 0.07
A40: 3.5 | B40: 31681 | C40: ПАРАФИН НЕФТЯНОЙ ТВЕРДЫЙ П-3 | D40: Т | E40: 1e-05 | F40: 1e-05
A41: 3.6 | B41: 34001 | C41: БЕНЗИН АВИАЦИОННЫЙ Б-70 | D41: Т | E41: 0.0002 | F41: 0.0002
A42: 3.7 | B42: 45077 | C42: ПРОПАН-БУТАН, СМЕСЬ ТЕХНИЧЕСКАЯ | D42: КГ | E42: 3.6 | F42: 3.6
A43: 3.8 | B43: 45527 | C43: БИРКИ МАРКИРОВОЧНЫЕ | D43: 100ШТ | E43: 0.01 | F43: 0.01
A44: 3.9 | B44: 45883 | C44: КНОПКИ МОНТАЖНЫЕ | D44: 1000ШТ | E44: 0.00204 | F44: 0.00204
A45: 3.10 | B45: 64235 | C45: ЛЕНТА К226 | D45: 100М | E45: 0.0024 | F45: 0.0024
A46: 4 | B46: С | C46: МУФТА ДЛЯ КАБЕЛЯ КОНЦЕВАЯ КМА-80-10КВ ГУ-16-538-337-79 | D46: КОМП. | E46: 1
...

Sheet ОБЩЕЕ РЕЗЮМЕ
B1: УМУМИЙ РЕЗЮМЕ: УМУМИЙ ИШ ХАЖМЛАРИ / СВОДНАЯ ВЕДОМОСТЬ ОБЪЕМОВ РАБОТ
A3: № пакета
A4: Имя пакета | C4: =#REF! -> #REF!
A5: Название участника торгов
B6: Умумий смета | C6: Общая смета | D6: Reference Ссылка | E6: Amount Сумма
A7: 000 | B7: ='№000 ОБЩИЕ УСЛОВИЯ'!B1 -> КАЙДНОМА №000 УМУМИЙ ТАЛАБЛАР | C7: ='№100 ПРЕДВАРИТЕЛЬНЫЕ ПУНКТЫ'!B1 -> КАЙДНОМА №100 ДАСТЛАБКИ МАСАЛАЛАР | D7: ='№000 ОБЩИЕ УСЛОВИЯ'!G61 -> 0
A8: 100 | B8: ='№100 ПРЕДВАРИТЕЛЬНЫЕ ПУНКТЫ'!B1 -> КАЙДНОМА №100 ДАСТЛАБКИ МАСАЛАЛАР | C8: ='№100 ПРЕДВАРИТЕЛЬНЫЕ ПУНКТЫ'!B2 -> ВЕДОМОСТЬ №100 ПРЕДВАРИТЕЛЬНЫЕ ПУНКТЫ | D8: ='№100 ПРЕДВАРИТЕЛЬНЫЕ ПУНКТЫ'!G61 -> 0
A9: 200 | B9: ='№200 РАСЧИСТКА УЧАСТКА'!B1 -> КАЙДНОМА№200 КУРИЛИШ МАЙДОНИНИ ТОЗАЛАШ | C9: ='№200 РАСЧИСТКА УЧАСТКА'!B2 -> ВЕДОМОСТЬ №200 РАСЧИСТКА УЧАСТКА | D9: ='№200 РАСЧИСТКА УЧАСТКА'!G20 -> 0
A10: 300 | B10: ВЕДОМОСТЬ №300 ПЕРЕНОС КОММУНИКАЦИЙ | C10: ВЕДОМОСТЬ №300 ПЕРЕНОС КОММУНИКАЦИЙ | D10: 0
A11: 400 | B11: ЗЕМЛЯНЫЕ РАБОТЫ | C11: =B11 -> ЗЕМЛЯНЫЕ РАБОТЫ | D11: 0
A12: 500 | B12: - | C12: - | D12: -
A13: 600 | B13: ='№600 ОСНОВАНИЯ'!B1 -> КАЙДНОМА №600 ҚУЙИ АСОС ВА АСОС ҚАТЛАМЛАРИ, ЙЎЛ ЧЕТИНИ МУСТАҲКАМЛАШ | C13: ='№600 ОСНОВАНИЯ'!B2 -> ВЕДОМОСТЬ №600 ПОДСТИЛАЮЩИЙ СЛОИ ОСНОВАНИЯ И СЛОИ ОСНОВАНИЯ, УКРЕПЛЕНИЕ ОБОЧИН | D13: ='№600 ОСНОВАНИЯ'!G13 -> 0
A14: 700 | B14: ='№700 ПОКРЫТИЯ АСФАЛЬТ'!B1 -> КАЙДНОМА №700 ОРГАНИК БОҒЛОВЧИ МОДДАЛАР (АСФАЛТ-БЕТОН) АСОСИДАГИ ЙЎЛ ҚОПЛАМАЛАРИ | C14: ='№700 ПОКРЫТИЯ АСФАЛЬТ'!B2 -> ВЕДОМОСТЬ №700 ПОКРЫТИЯ С ПРИМЕНЕНИЕМ ОРГАНИЧЕСКИХ ВЯЖУЩИХ (асфальтобетон) | D14: ='№700 ПОКРЫТИЯ АСФАЛЬТ'!G17 -> 0
A15: 900 | B15: ='№900. ИНЖЕНЕРНОЕ ОБУСТРОЙСТВО'!B1 -> КАЙДНОМА №900 ЙЎЛНИ ЖИХОЗЛАШ | C15: ='№900. ИНЖЕНЕРНОЕ ОБУСТРОЙСТВО'!B2 -> ВЕДОМОСТЬ №900 ИНЖЕНЕРНОЕ ОБУСТРОЙСТВО ДОРОГИ | D15: ='№900. ИНЖЕНЕРНОЕ ОБУСТРОЙСТВО'!G74 -> 0
A16: 1100 | B16: КАЙДНОМА №1100 БЕТОН ИНШООТЛАР ВА КЎПРИКЛАР | C16: ВЕДОМОСТЬ №1100 БЕТОННЫЕ КОНСТРУКЦИИ И МОСТЫ
A17: A | B17: Кайдномалар бўйича жами | C17: Итого по ведомостям | D17: =SUM(D7:D16) -> 0
A18: B | B18: Кўзда тутилмаган харажатлар 10% | C18: Непредвиденные затраты в размере 10% | D18: =D17*0.1 -> 0
A19: C | B19: ҚҚСсиз умумий тендер суммаси (А+В) | C19: Общая сумма тендера без НДС (А+В) | D19: =D17+D18 -> 0
A20: D | B20: Қўшилган қиймат солиғи 12% | C20: Налог на добавленную стоимость | D20: =D19*0.12 -> 0
A21: E | B21: ҚҚСни ўз ичига олган ҳолда тендернинг умумий нархи (C+D) | C21: Общая сумма тендерной цены, включая НДС (C+D) | D21: =D19+D20 -> 0
B23: * Все резервные суммы используются полностью или частично под руководством и по усмотрению Инженера

Sheet №000 ОБЩИЕ УСЛОВИЯ
B1: КАЙДНОМА №000 УМУМИЙ ТАЛАБЛАР
B2: ВЕДОМОСТЬ №000 ОБЩИЕ УСЛОВИЯ
A3: № пакета
A4: Имя пакета | C4: =#REF! -> #REF!
A5: Название участника торгов
A6: № | B6: Тавсифи | C6: Описание | D6: Ед. изм. | E6: Количество | F6: Стоим. ед.изм.(сум) | G6: Стоимость (сум)
C7: Ссылка на Технические Спецификации раздела 100
C8: Мобилизация и Демобилизация
C9: Мобилизация и Демобилизация | D9: LS/ФС | G9: =E9*F9 -> 0
C10: Гарантии и страхования Подрядчика
C11: Гарантии и страхования Подрядчика | D11: LS/ФС | G11: =E11*F11 -> 0
C12: Охрана Труда
C13: Охрана Труда | D13: LS/ФС | G13: =E13*F13 -> 0
C14: Обеспечение и содержание проектного офиса(ов) Инженера в полном оборудованном состоянии
C15: Обеспечение офиса Инженера | D15: LS/ФС | G15: =E15*F15 -> 0
C16: Содержание офиса Инженера | D16: LS/ФС | G16: =E16*F16 -> 0
C17: Обеспечение Средств Связи
C18: Обеспечение средств связи | D18: LS/ФС | G18: =E18*F18 -> 0
C19: Содержание средств связи | D19: LS/ФС | G19: =E19*F19 -> 0
C20: Защитная Одежда
C21: Защитная спецодежда | D21: LS/ФС | G21: =E21*F21 -> 0
C22: Строительство Зданий и Сооружений (Офис, Жилье и Лаборатория)
C23: Строительство офиса Инженера, жилых помещений и лаборатории | D23: LS/ФС | G23: =E23*F23 -> 0
C24: Содержание офиса, жилья и лаборатории | D24: LS/ФС | G24: =E24*F24 -> 0
C25: Обеспечение и Содержание Полевого Оборудования Инженера
C26: Обеспечение Полевого Оборудования Инженера | D26: LS/ФС | G26: =E26*F26 -> 0
C27: Содержание Полевого Оборудования Инженера | D27: LS/ФС | G27: =E27*F27 -> 0
C28: Обеспечение и Содержание Лаборатории Инженера
C29: Обеспечение полностью оборудованной лаборатории Инженера | D29: LS/ФС | G29: =E29*F29 -> 0
C30: Содержание лаборатории Инженера | D30: LS/ФС | G30: =E30*F30 -> 0
C31: Обеспечение и Содержание Жилья Инженера
C32: Предоставление Инженеру жилья Тип I | D32: LS/ФС | G32: =E32*F32 -> 0
C33: Обслуживание Инженеру жилья Тип I | D33: LS/ФС | G33: =E33*F33 -> 0
C34: Предоставление Инженеру жилья Тип II | D34: LS/ФС | G34: =E34*F34 -> 0
C35: Обслуживание Инженеру жилья Тип II | D35: LS/ФС | G35: =E35*F35 -> 0
C36: Предоставление Инженеру жилья Тип III | D36: LS/ФС | G36: =E36*F36 -> 0
C37: Обслуживание Инженеру жилья Тип III | D37: LS/ФС | G37: =E37*F37 -> 0
C38: Обеспечение и Содержание Транспортных Средств
C39: Поставка транспортных средств Тип A (1 единица) | D39: LS/ФС | G39: =E39*F39 -> 0
C40: Содержание транспортных средств Тип A | D40: LS/ФС | G40: =E40*F40 -> 0
...

Sheet №100 ПРЕДВАРИТЕЛЬНЫЕ ПУНКТЫ
B1: КАЙДНОМА №100 ДАСТЛАБКИ МАСАЛАЛАР
B2: ВЕДОМОСТЬ №100 ПРЕДВАРИТЕЛЬНЫЕ ПУНКТЫ
A3: № пакета
A4: Имя пакета | C4: =#REF! -> #REF!
A5: Название участника торгов
A6: № | B6: Тавсифи | C6: Описание | D6: Ед. изм. | E6: Количество | F6: Стоим. ед.изм.(сум) | G6: Стоимость (сум)
C7: Ссылка на Технические Спецификации раздела 100
C8: Мобилизация и Демобилизация
C9: Мобилизация и Демобилизация | D9: LS/ФС | G9: =E9*F9 -> 0
C10: Гарантии и страхования Подрядчика
C11: Гарантии и страхования Подрядчика | D11: LS/ФС | G11: =E11*F11 -> 0
C12: Охрана Труда
C13: Охрана Труда | D13: LS/ФС | G13: =E13*F13 -> 0
C14: Обеспечение и содержание проектного офиса(ов) Инженера в полном оборудованном состоянии
C15: Обеспечение офиса Инженера | D15: LS/ФС | G15: =E15*F15 -> 0
C16: Содержание офиса Инженера | D16: LS/ФС | G16: =E16*F16 -> 0
C17: Обеспечение Средств Связи
C18: Обеспечение средств связи | D18: LS/ФС | G18: =E18*F18 -> 0
C19: Содержание средств связи | D19: LS/ФС | G19: =E19*F19 -> 0
C20: Защитная Одежда
C21: Защитная спецодежда | D21: LS/ФС | G21: =E21*F21 -> 0
C22: Строительство Зданий и Сооружений (Офис, Жилье и Лаборатория)
C23: Строительство офиса Инженера, жилых помещений и лаборатории | D23: LS/ФС | G23: =E23*F23 -> 0
C24: Содержание офиса, жилья и лаборатории | D24: LS/ФС | G24: =E24*F24 -> 0
C25: Обеспечение и Содержание Полевого Оборудования Инженера
C26: Обеспечение Полевого Оборудования Инженера | D26: LS/ФС | G26: =E26*F26 -> 0
C27: Содержание Полевого Оборудования Инженера | D27: LS/ФС | G27: =E27*F27 -> 0
C28: Обеспечение и Содержание Лаборатории Инженера
C29: Обеспечение полностью оборудованной лаборатории Инженера | D29: LS/ФС | G29: =E29*F29 -> 0
C30: Содержание лаборатории Инженера | D30: LS/ФС | G30: =E30*F30 -> 0
C31: Обеспечение и Содержание Жилья Инженера
C32: Предоставление Инженеру жилья Тип I | D32: LS/ФС | G32: =E32*F32 -> 0
C33: Обслуживание Инженеру жилья Тип I | D33: LS/ФС | G33: =E33*F33 -> 0
C34: Предоставление Инженеру жилья Тип II | D34: LS/ФС | G34: =E34*F34 -> 0
C35: Обслуживание Инженеру жилья Тип II | D35: LS/ФС | G35: =E35*F35 -> 0
C36: Предоставление Инженеру жилья Тип III | D36: LS/ФС | G36: =E36*F36 -> 0
C37: Обслуживание Инженеру жилья Тип III | D37: LS/ФС | G37: =E37*F37 -> 0
C38: Обеспечение и Содержание Транспортных Средств
C39: Поставка транспортных средств Тип A (1 единица) | D39: LS/ФС | G39: =E39*F39 -> 0
C40: Содержание транспортных средств Тип A | D40: LS/ФС | G40: =E40*F40 -> 0
...

Sheet №200 РАСЧИСТКА УЧАСТКА
B1: КАЙДНОМА№200 КУРИЛИШ МАЙДОНИНИ ТОЗАЛАШ
B2: ВЕДОМОСТЬ №200 РАСЧИСТКА УЧАСТКА
A3: № пакета
A4: Имя пакета | C4: =#REF! -> #REF!
A5: Название участника торгов
A6: № | B6: Тавсифи | C6: Описание | D6: Ед. изм. | E6: Количество | F6: Стоим. ед.изм.(сум) | G6: Стоимость (сум)
A7: 1 | C7: 2 | D7: 3 | E7: 5 | F7: 6 | G7: 7
C8: Ссылка на Технические Спецификации Раздела 200
C9: 201. Удаление дорожных знаков, сооружений и препятствий
A10: 201.01 | C10: Разборка существующего сборного железобетонного тротуарного блока ПТК 2.2.14, весом - 1,38 тн с погрузкой и перевозкой до 25 км на базу эксплуатационной организации | D10: м3 | E10: 19.8 | G10: =E10*F10 -> 0
A11: 201.02 | C11: Демонтаж-монтаж существующего сборного железобетонного блока маркой ОТ-100.20 | D11: шт | E11: 70 | G11: =E11*F11 -> 0
A12: 201.03 | C12: Демонтаж-монтаж ж.б. блоков 2БДО-5.84 | D12: шт | E12: 25 | G12: =E12*F12 -> 0
A13: 201.04 | C13: Демонтаж дорожного знаков | D13: шт | E13: 6 | G13: =E13*F13 -> 0
A14: 201.05 | C14: Демонтаж металлических стоек из труб d-83 | D14: пм | E14: 24 | G14: =E14*F14 -> 0
A15: 201.06 | C15: Разборка существующего монолитного бетона под ограждениями | D15: м3 | E15: 0.75 | G15: =E15*F15 -> 0
A16: 201.07 | C16: Разборка существующего а/б покрытия общей толщиной 15,0 см | D16: м2 | E16: 680 | G16: =E16*F16 -> 0
A17: 201.08 | C17: Разборка существующего сборного железобетонного кюветноголотка маркой ЛК-6.6 | D17: шт | E17: 8 | G17: =E17*F17 -> 0
A18: 201.09 | C18: Разборка железобетонных конструкций(существующего монолитного железобетонного подпорного стены) | D18: м3 | E18: 49.2 | G18: =E18*F18 -> 0
A19: 201.10 | C19: Планировка строительной площадки пешеходного перехода | D19: м2 | E19: 1875 | G19: =E19*F19 -> 0
B20: КАЙДНОМА 200 буйича жами (умумий сметага ўтказиш билан) | C20: ИТОГО ПО ВЕДОМОСТИ № 200 (с переносом в сводную ведомость) | G20: =SUM(G9:G19) -> 0
B21: Сокращенные Обозначения
B22: пм =погонный метр | C22: шт = Штука
B23: м2=кубический метр | C23: м3=кубический метр

Sheet №400 ЗЕМЛЯНЫЕ РАБОТЫ
B1: КАЙДНОМА №400 ЕР ИШЛАРИ
B2: ВЕДОМОСТЬ №400 ЗЕМЛЯНЫЕ РАБОТЫ
A3: № пакета
A4: Имя пакета | C4: М39 "Алмати-Бишкек-Тошкент-Термиз" автомобиль йўлининг 822 км кисмида ер ости пиёдалар йўлагини қуриш
A5: Название участника торгов
A6: № | B6: Тавсифи | C6: Описание | D6: Ед. изм. | E6: Количество | F6: Стоим. ед.изм.(сум) | G6: Стоимость (сум)
A7: 1 | B7: 2 | C7: 3 | D7: 4 | E7: 5 | F7: 6 | G7: 7
C8: Ссылка на Технические Спецификации Раздела 400
A9: 401 | C9: Снятия ратсительного слоя
A10: 401.01 | C10: Срезка растительного слоя грунта | D10: м3 | G10: =E10*F10 -> 0
A11: 402 | C11: Выемка и насыпь
A12: 402.01 | C12: Возведение Насыпи | D12: м3 | G12: =E12*F12 -> 0
B13: КАЙДНОМА 400 буйича жами (умумий сметага ўтказиш билан) | C13: ИТОГО ПО ВЕДОМОСТИ № 400 (с переносом в сводную ведомость)
B15: Сокращенные Обозначения
B16: м3= метр кубический | C16: м2=квадратный метр

Sheet №600 ОСНОВАНИЯ
B1: КАЙДНОМА №600 ҚУЙИ АСОС ВА АСОС ҚАТЛАМЛАРИ, ЙЎЛ ЧЕТИНИ МУСТАҲКАМЛАШ
B2: ВЕДОМОСТЬ №600 ПОДСТИЛАЮЩИЙ СЛОИ ОСНОВАНИЯ И СЛОИ ОСНОВАНИЯ, УКРЕПЛЕНИЕ ОБОЧИН
A3: № пакета
A4: Имя пакета | C4: =#REF! -> #REF!
A5: Название участника торгов
A6: № | B6: Тавсифи | C6: Описание | D6: Ед. изм. | E6: Количество | F6: Стоим. ед.изм.(сум) | G6: Стоимость (сум)
A7: 1 | B7: 2 | C7: 3 | D7: 4 | E7: 5 | F7: 6 | G7: 7
C8: Ссылка на Технические Спецификации Раздела 600
A9: 601 | C9: Подстилающий Слой/Слои Основания и Обочины из Гранулированного Материала
A10: 601.01 | C10: Устройство нижнего слоя основания из гравийно-песчаной смеси по ГОСТ 25607-2009 смесь С4 толщиной 25.0 см | D10: м2 | E10: 700
A11: 601.02 | C11: Устройство среднего слоя основания из гравийно-песчаной смеси по ГОСТ 25607-2009 смесь С4 толщиной 25.0 см | D11: м2 | E11: 700 | G11: =E11*F11 -> 0
A12: 601.03 | C12: Устройство основания из гравийно-песчаной смеси по ГОСТ 25607-2009 смесь С4 толщиной 10,0 см | D12: м2 | E12: 415
B13: КАЙДНОМА 600 буйича жами (умумий сметага ўтказиш билан) | C13: ИТОГО ПО ВЕДОМОСТИ № 600 (с переносом в сводную ведомость) | G13: =SUM(G11:G11) -> 0
B15: Abbreviations/Сокращенные Обозначения
B16: м2=квадратный метр

Sheet №700 ПОКРЫТИЯ АСФАЛЬТ
B1: КАЙДНОМА №700 ОРГАНИК БОҒЛОВЧИ МОДДАЛАР (АСФАЛТ-БЕТОН) АСОСИДАГИ ЙЎЛ ҚОПЛАМАЛАРИ
B2: ВЕДОМОСТЬ №700 ПОКРЫТИЯ С ПРИМЕНЕНИЕМ ОРГАНИЧЕСКИХ ВЯЖУЩИХ (асфальтобетон)
A3: № пакета
A4: Имя пакета | C4: =#REF! -> #REF!
A5: Название участника торгов
A6: № | B6: Тавсифи | C6: Описание | D6: Ед. изм. | E6: Количество | F6: Стоим. ед.изм.(сум) | G6: Стоимость (сум)
A7: 1 | B7: 2 | C7: 3 | D7: 4 | E7: 5 | F7: 6 | G7: 7
C8: Ссылка на Технические Спецификации Раздела 700
A9: 701 | C9: Покрытия на остановочных полосах из cмесей, Приготовленных в Установке
A10: 701.01 | C10: Устройство верхнего слоя основания из горячей высокопористой крупнозернистой а/б смеси марки I по ГОСТ 9128-2013 толщиной 9 см. | D10: м2 | E10: 700 | G10: =E10*F10 -> 0
A11: 701.02 | C11: Устройство нижнего слоя покрытия из горячей пористой крупнозернистой а/б смеси марки I по ГОСТ 9128-2013 толщиной 7 см. | D11: м2 | E11: 700 | G11: =E11*F11 -> 0
A12: 701.03 | C12: Устройство верхнего слоя покрытия из горячей плотной мелкозернистой а/б смеси марки I типа Б по ГОСТ 9128-2013 толщиной 5 см. | D12: м2 | E12: 700
A13: 701.04 | C13: Устройство однослойного покрытия из горячей плотной мелкозернистой а/б смеси марки I типа Б по ГОСТ 9128-2013 толщиной 5 см. | D13: м2 | E13: 415
A14: 702 | B14: Подгрунтовка | C14: Подгрунтовка
A15: 702.01 | C15: Подгрунтовка битумным эмулсией по норме 0,9 л/м² | D15: ton/тн | E15: 1.004 | G15: =E15*F15 -> 0
A16: 702.02 | C16: Подгрунтовка битумным эмулсией по норме 0,3 л/м² | D16: ton/тн | E16: 0.21 | G16: =E16*F16 -> 0
B17: КАЙДНОМА 700 буйича жами (умумий сметага ўтказиш билан) | C17: ИТОГО ПО ВЕДОМОСТИ № 700 (с переносом в сводную ведомость)
B19: Abbreviations/Сокращенные Обозначения
B20: м2=квадратный метр | C20: Ton/тн=тонна
B21: м3= метр кубический

Sheet №900. ИНЖЕНЕРНОЕ ОБУСТРОЙСТВО
B1: КАЙДНОМА №900 ЙЎЛНИ ЖИХОЗЛАШ
B2: ВЕДОМОСТЬ №900 ИНЖЕНЕРНОЕ ОБУСТРОЙСТВО ДОРОГИ
A3: № пакета
A4: Имя пакета | C4: =#REF! -> #REF!
A5: Название участника торгов
A6: № | B6: Тавсифи | C6: Описание | D6: Ед. изм. | E6: Количество | F6: Стоим. ед.изм.(сум) | G6: Стоимость (сум)
A7: 1 | B7: 2 | C7: 3 | D7: 4 | E7: 5 | F7: 6 | G7: 7
C8: Ссылка на Технические Спецификации Раздела 900
A9: 901 | C9: Горизонтальная дорожная разметка
A10: 901.01 | C10: Разметка проезжей части сплошной линией толщиной 0,10 м (1.1) | D10: пм | E10: 400 | G10: =E10*F10 -> 0
A11: 901.02 | C11: Разметка линией шириной 0,10 м при соотношении штриха к промежутку 1:3 (1.5) | D11: пм | E11: 300 | G11: =E11*F11 -> 0
A12: 902 | C12: Дорожные Знаки
A13: 902.01 | C13: Знаки приоритета | D13: шт | E13: 2 | G13: =E13*F13 -> 0
A14: 902.01 | C14: Знаки прямоугольник | D14: шт | E14: 2 | G14: =E14*F14 -> 0
A15: 903 | C15: Опоры для Дорожных Знаков
A16: 903.01 | C16: Опоры из стальной прямаугольной трубы размером стороны 60х40мм диаметром толщиной стенки 5 мм | D16: шт | E16: 4 | G16: =E16*F16 -> 0
A17: 904 | C17: Кабельная линия 10КВ
A18: 904.01 | C18: Кабель силовой c изоляцией из силанольносшитого полиэтилена на напряжение 10кВ с алюминиевой жилой сечением 1х120мм2 с медным экраном по изолированной жиле сеч. 25мм2 | D18: м | E18: 150
A19: 904.02 | C19: Концевая мачтовая муфта наружной установки с алюминиевым корпусом апр-е 10кВ для кабеля сеч. 3х50мм2 с сальником и наконечниками | D19: компл | E19: 1
A20: 904.03 | C20: Концевая муфта внутренней установки для экранированного одножильного кабеля с изоляцией из сшитого полиэтилена на напряжении 10кВ сеч. 1х120/25мм2 (с экраном из медных проволок) с болтовым наконечником | D20: компл | E20: 3
A21: 904.04 | C21: Линейный разъединитель ручного привода с заземлителем | D21: компл | E21: 1
A22: 904.05 | C22: Сталь полосовая 4х40мм | D22: м | E22: 82
A23: 904.06 | C23: Уголок стальной №63; L=3м | D23: шт | E23: 32
A24: 904.07 | C24: Конденсаторная установка 380В; -25кВар. | D24: шт | E24: 1
A25: 904.08 | C25: Кирпич жженый | D25: шт | E25: 400
A26: 904.09 | C26: Песок речной | D26: м3 | E26: 3
A27: 905 | C27: Кабельная линия 0.4КВ
A28: 905.01 | C28: Комплектная однотрансформаторная подстанция | D28: шт | E28: 1
A29: 905.02 | C29: Фундаменты под ГКТП | D29: шт | E29: 1
A30: 905.03 | C30: Компенсирующее устройство | D30: шт | E30: 1
A31: 905.04 | C31: Установка АДЭС-32кВт/40кВА с устройством АВР -32А | D31: шт | E31: 1
A32: 905.05 | C32: Пункт распределительный с вводным автоматом | D32: шт | E32: 1
A33: 905.06 | C33: Кабель силовой с алюм. жилами сечением 4х25мм² | D33: м | E33: 300
A34: 905.07 | C34: Муфта концевая для кабеля с алюмин. жилами на напряжении до 1кВ сеч. 4х50мм2 | D34: шт | E34: 16
A35: 905.08 | C35: Труба ПНД двухстенная жесткая Ф100х10мм | D35: м | E35: 150
A36: 905.09 | C36: Муфта соединительная для двухстенных ПНД труб Ф100х10мм | D36: шт | E36: 26
A37: 905.10 | C37: Наконечник аллюминиевый | D37: шт | E37: 10
A38: 905.11 | C38: Кирпич жженые | D38: шт | E38: 2400
A39: 905.12 | C39: Песок речной | D39: м3 | E39: 36
... A42: 905.15 | C42: Сталь полосовая ∅40х4 | D42: м | E42: 65.2
...

Sheet №1100. БЕТОННЫЕ КОНСТРУКЦИИ И М
B1: КАЙДНОМА №1100 БЕТОН КОНСТРУКЦИЯЛАР ВА КЎПРИКЛАР
B2: ВЕДОМОСТЬ №1100 БЕТОННЫЕ КОНСТРУКЦИИ И МОСТЫ
A3: № пакета
A4: Имя пакета | C4: =#REF! -> #REF!
A5: Название участника торгов
A6: № | B6: Тавсифи | C6: Описание | D6: Ед. изм. | E6: Количество | F6: Стоим. ед.изм.(сум) | G6: Стоимость (сум)
A7: 1 | B7: 2 | C7: 3 | D7: 4 | E7: 5 | F7: 6 | G7: 7
C8: Ссылка на Технические Спецификации Раздела 1100
A9: 1101 | C9: Разработка котлована пешеходного перехода, лестничных сходов и пандусов
A10: 1101.01 | C10: Разборка грунта 2-гр котлована для устройства пешеходного перехода, лестничных сходов и пандусов экскаватором емк. ковша 1 м3 с погрузкой и перевозкой до 20 км в отвал.Работа на отвале, группа грунта - II | D10: м3 | E10: 4337.5 | G10: =E10*F10 -> 0
A11: 1102 | C11: Засыпка пешеходного перехода, лестничных сходов и пандусов | G11: =E11*F11 -> 0
A12: 1102.01 | C12: Разборка грунта 2-гр котлована для устройства пешеходного перехода, лестничных сходов и пандусов экскаватором емк. ковша 1 м3, в т.ч. ручная доработка грунт 2 группы в размере 3% с перемещением грунта до 20 м бульдозером на отвал для обратная засыпка | D12: м3 | E12: 2865.36 | G12: =E12*F12 -> 0
A13: 1103 | C13: Устройство подготовки основания
A14: 1103.1 | C14: Планировка дно катлована | D14: м2 | E14: 350 | H14: 350
A15: 1103.2 | C15: каменной наброски | D15: м3 | E15: 53.2
A16: 1103.03 | C16: основание ГПС | D16: м3 | E16: 114.08 | H16: 44.91
A17: 1103.04 | C17: подготовки бетона В15 | D17: м3 | E17: 61.04 | H17: 28.03
A18: 1103.05 | C18: Основание из песка | D18: м3 | E18: 0.84
A19: 1104 | C19: Устройство фундамента из монолитного бетона с армированный сеткой под сборные блоки №95 пешеходного перехода
A20: 1104.01 | C20: Стальная стержневая арматура | D20: м3 | E20: 7.776
A21: 1104.02 | C21: Бетон В 20 (сульфатостойкий) | D21: м3 | E21: 167.71
A22: 1105 | C22: Устройство блоков №95
A23: 1105.01 | C23: Стоимость и монтаж сборных блоков №95 3П40.25.10-2 | D23: шт | E23: 39
A24: 1106 | C24: Гидроизоляция пешеходного перехода
A25: 1106.01 | C25: Оклеечная гидроизоляция оклеечной из 2-х слоев "Бикром"а | D25: м2 | E25: 922 | H25: 550
A26: 1106.02 | C26: Обмазочная гидроизоляция блоков с соприкасающихся грунтом с горячей битумной мастикой за 2 раза | D26: м2 | E26: 1441 | H26: 1441
A27: 1107 | C27: Устройство дренажных труб
A28: 1107.01 | C28: Отсыпка под дренажных труб природным песком | D28: м3 | E28: 8.4
A29: 1107.02 | C29: Геотекстиль | D29: м2 | E29: 39.6
A30: 1107.03 | C30: Устройство дренажных труб для водоотвода за стенками опор из ПНД, маркой TUPAR SN6, диаметром-200мм тол. стены - 10мм | D30: пм | E30: 104
A31: 1107.04 | C31: Труба стальная водапроводная диаметром d- 194мм толщ - 6мм | D31: пм | E31: 7.8
A32: 1107.05 | C32: Щебень с фракциями 20-40мм для отсыпки над дренажных труб | D32: м3 | E32: 34
A33: 1108 | C33: Устройство защитного слоя
A34: 1108.01 | C34: устройством выравнивающего слоя из бетона В25, (сульфатостойкий) h-3см | D34: м3 | E34: 5.25
A35: 1108.02 | C35: защитного слоя h-4 см Бетон В25 (сульфатостойкий) | D35: м3 | E35: 7
A36: 1109 | C36: Устройства монолитных железобетонных стоек, ригелей и стенок на входу и выходе пешеходного перехода
A37: 1109.01 | C37: Бетон В25 (сульфататойкий) | D37: м3 | E37: 49.92
A38: 1109.02 | C38: металл-всего | D38: тн | E38: 4.485
A39: 1110 | C39: Устройство монолитного ж.б. фундамента под днища и ступенок с изготовлением и установкой арматурных сеток
A40: 1110.01 | C40: бетон В20 F200 W-4 (сульфатостойкий) | D40: м3 | E40: 67.33
...
