Workbook
Name ___na1: '[1]ф-5 расчёт'!#REF!
Name ___na1: '[1]ф-5 расчёт'!#REF!
Name ___na1: '[1]ф-5 расчёт'!#REF!
Name __na1: #REF!
Name __na1: #REF!
Name __na2: #REF!
Name __na2: #REF!
Name __na3: #REF!
Name __na4: #REF!
Name __na5: #REF!
Name __na6: #REF!
Name __na7: #REF!
Name __na8: #REF!
Name _na1: #REF!
Name _na2: #REF!
Name _na3: #REF!
Name _na4: #REF!
Name _na5: #REF!
Name _na6: #REF!
Name _na7: #REF!
Name _na8: #REF!
Name a123457689: #REF!
Name a123457689: #REF!
Name a123457689: #REF!
Name at_10: #REF!
Name at_10: #REF!
Name bases: #REF!
Name bases: #REF!
Name bases1: '[1]ф-5 расчёт'!#REF!
Name bases1: '[1]ф-5 расчёт'!#REF!
Name bases2: #REF!
Name bases2: #REF!
Name bases3: #REF!
Name bases4: #REF!
Name bases5: #REF!
Name bases6: #REF!
Name bases7: #REF!
Name bases8: #REF!
Name Build: #REF!
Name Build1: '[1]ф-5 расчёт'!#REF!
Name Build2: #REF!
Name Build3: #REF!
Name Build4: #REF!
Name Build5: #REF!
Name Build6: #REF!
Name Build7: #REF!
Name Build8: #REF!
Name Data: '[2]1в'!#REF!
Name dlinna: #REF!
Name dlinna: #REF!
Name dlinna: #REF!
Name document_date: #REF!
Name document_date: #REF!
Name document_datу: #REF!
Name document_datу: #REF!
Name document_number: #REF!
Name expertiza: #REF!
Name expertiza_100: #REF!
Name gip: #REF!
Name hvv: #REF!

Sheet ОБЕКТНАЯ
B2: СВОДКА ОБЪЕМОВ И СТОИМОСТИ РАБОТ
A4: =расчёт!B24 -> НАМАНГАН ВИЛОЯТИ ПОП ИХТИСОСЛАШТИРИЛГАН ДАВЛАТ УРМОН ХУЖАЛИГИ "УРМОНЧИЛАР УЙИ" БИНОСИНИ ЖОРИЙ ТАЪМИРЛАШ
A5: N п.п. | B5: Наименование разделов | C5: Удельный показатель в % к итогу | E5: СУММА
A7: 1 | B7: 2 | C7: 3 | E7: 4
A8: 1 | B8: ОБЩЕСТРОИТЕЛЬНЫЕ РАБОТЫ | C8: 67.78 | D8: ='По объектная '!$T$8/1000 -> 444677.55 | E8: =D8*C8/100 -> 301402.45
A9: =A8+1 -> 2 | B9: ЛИФТ | C9: 2.76 | D9: ='По объектная '!$T$8/1000 -> 444677.55 | E9: =D9*C9/100 -> 12273.1
A10: =A9+1 -> 3 | B10: ОТОПЛЕНИЕ И ВЕНТИЛЯЦИЯ | C10: 3.5 | D10: ='По объектная '!$T$8/1000 -> 444677.55 | E10: =D10*C10/100 -> 15563.714
A11: =A10+1 -> 4 | B11: ВОДОПРОВОД И КАНАЛИЗАЦИЯ | C11: 1.12 | D11: ='По объектная '!$T$8/1000 -> 444677.55 | E11: =D11*C11/100 -> 4980.3886
A12: =A11+1 -> 5 | B12: ЭЛЕКТРОМОНТАЖНЫЕ РАБОТЫ | C12: 5.39 | D12: ='По объектная '!$T$8/1000 -> 444677.55 | E12: =D12*C12/100 -> 23968.12
A13: =A12+1 -> 6 | B13: СЛАБЫЕ ТОКИ | C13: 0.89 | D13: ='По объектная '!$T$8/1000 -> 444677.55 | E13: =D13*C13/100 -> 3957.6302
A14: =A13+1 -> 7 | B14: КПП | C14: 1.88 | D14: ='По объектная '!$T$8/1000 -> 444677.55 | E14: =D14*C14/100 -> 8359.938
A15: =A14+1 -> 8 | B15: ТЕПЛОВЫЕ СЕТИ | C15: 1.28 | D15: ='По объектная '!$T$8/1000 -> 444677.55 | E15: =D15*C15/100 -> 5691.8727
A16: =A15+1 -> 9 | B16: НАРУЖНЫЕ СЕТИ НВК | C16: 0.43 | D16: ='По объектная '!$T$8/1000 -> 444677.55 | E16: =D16*C16/100 -> 1912.1135
A17: =A16+1 -> 10 | B17: НАРУЖНЫЕ СЕТИ НЭС | C17: 2.02 | D17: ='По объектная '!$T$8/1000 -> 444677.55 | E17: =D17*C17/100 -> 8982.4866
A18: =A17+1 -> 11 | B18: ОГРАЖДЕНИЕ ТЕРРИТОРИИ | C18: 5.62 | D18: ='По объектная '!$T$8/1000 -> 444677.55 | E18: =D18*C18/100 -> 24990.878
A19: =A18+1 -> 12 | B19: БЛАГОУСТРОЙСТВО | C19: 5.14 | D19: ='По объектная '!$T$8/1000 -> 444677.55 | E19: =D19*C19/100 -> 22856.426
A20: =A19+1 -> 13 | B20: НОГИРОНЛИГИ БОР ШАХСЛАР УЧУН ШАРОИТ ЯРАТИШ | C20: 2.19 | D20: ='По объектная '!$T$8/1000 -> 444677.55 | E20: =D20*C20/100 -> 9738.4384
B21: ВСЕГО ПО СМЕТЕ: | C21: =SUM(C8:C20) -> 100 | E21: =SUM(E8:E20) -> 444677.55

Sheet расчёт
A1: Гип | D1: ='По объектная '!H13 -> О.ЮЛДАШЕВ
A2: Трудовые затраты | D2: ='По объектная '!D8 -> 2779.6878 | E2: ч/час
A3: Затртаты эксплуатации М/м | E3: м/час
A4: Затртаты эксплуатации М/м | D4: =F4/1000 -> 998.95968 | E4: сум | F4: ='По объектная '!E8 -> 998959.68
A5: Материалы | D5: =F5/1000 -> 233201.76 | E5: сум | F5: ='По объектная '!F8 -> 2.3320176e+08
A6: Кабельная продукция | D6: =F6/1000 -> 3452.5625 | E6: сум | F6: ='По объектная '!G8 -> 3452562.5
A7: оборудование | D7: =F7/1000 -> 9871.6039 | E7: сум | F7: ='По объектная '!H8 -> 9871603.9
A8: Транспортные затраты материалов | D8: ='По объектная '!J4 -> 0.05
A9: Транспортные затраты кабельной продукции | D9: ='По объектная '!K4 -> 0.015
A10: Транспортные затраты оборудования | D10: ='По объектная '!I4 -> 0.02
A11: перевозка грунта | D11: =F11/1000 -> 0
A12: К-т риска
C15: РЕСПУБЛИКА УЗБЕКИСТАН
B17: ОБЩЕСТВО С ОГРАНИЧЕННОЙ ОТВЕТСТВЕННОСТЬЮ «IMKON-S GROUP»
B23: РЕКОМЕНДУЕМАЯ СТАРТОВАЯ СТОИМОСТЬ
B24: НАМАНГАН ВИЛОЯТИ ПОП ИХТИСОСЛАШТИРИЛГАН ДАВЛАТ УРМОН ХУЖАЛИГИ "УРМОНЧИЛАР УЙИ" БИНОСИНИ ЖОРИЙ ТАЪМИРЛАШ
C32: ЗАКАЗЧИК:
B37: ЧАСТЬ ПРОЕКТА | D37: СМЕТНАЯ ЧАСТЬ
C44: КНИГА | F44: ТОМ
C46: ШИФР | F46: ЧАСТЬ
C48: АРХИВ
C55: Наш адрес:
D58: г.Наманган-2026 г.
C63: РЕСПУБЛИКА УЗБЕКИСТАН
B65: ОБЩЕСТВО С ОГРАНИЧЕННОЙ ОТВЕТСТВЕННОСТЬЮ «IMKON-S GROUP»
B71: РЕКОМЕНДУЕМАЯ СТАРТОВАЯ СТОИМОСТЬ
B72: =B24 -> НАМАНГАН ВИЛОЯТИ ПОП ИХТИСОСЛАШТИРИЛГАН ДАВЛАТ УРМОН ХУЖАЛИГИ "УРМОНЧИЛАР УЙИ" БИНОСИНИ ЖОРИЙ ТАЪМИРЛАШ
C76: ЗАКАЗЧИК:
B78: ЧАСТЬ ПРОЕКТА | D78: СМЕТНАЯ ЧАСТЬ
C81: КНИГА | F81: ТОМ
C83: ШИФР | F83: ЧАСТЬ
C85: АРХИВ
C90: Директор | G90: М.ЖАББОРОВ
C92: ГИП | G92: ='По объектная '!H13 -> О.ЮЛДАШЕВ
D106: =D58 -> г.Наманган-2026 г.
B109: ПОЯСНИТЕЛЬНАЯ ЗАПИСКА
A111: ОПРЕДЕЛЕНИЕ РЕКОМЕНУЕМОЙ СТАРТОВОЙ СТОИМОСТИ ОБЪЕКТА
C113: В ТЕКУЩИХ ЦЕНАХ
B115: Стоимость строительства определена в соответствии с Постановлением Кабинета
B116: Министров от 11.06.2003 года № 261 «О переходе на договорные текущие цены при реализации
...

Sheet По объектная 
A1: СВОДКА ЗАТРАТ
A2: =расчёт!B24 -> НАМАНГАН ВИЛОЯТИ ПОП ИХТИСОСЛАШТИРИЛГАН ДАВЛАТ УРМОН ХУЖАЛИГИ "УРМОНЧИЛАР УЙИ" БИНОСИНИ ЖОРИЙ ТАЪМИРЛАШ
A3: № | B3: Наименования объект | D3: Затраты труда, чел/ч. | E3: Эксплутация машин и механизмов | F3: Материалы | G3: Кабельная продукция | H3: Обору- дование | I3: Транспортные расходы на оборудование | J3: Транспортные расходы на материалы | K3: Транспортные расходы на кабельную продукцию | L3: Заработная плата | M3: Отчисление на соцстрах | N3: Итого Прямые затраты | O3: Прочие затраты подрядчика | P3: Всего | Q3: Страхование объекта | R3: Итого | S3: НДС | T3: Всего стоимость
I4: 0.02 | J4: 0.05 | K4: 0.015 | L4: 25339.59 | M4: 0.12 | O4: 0.175 | S4: 0.12
A6: =A5+1 -> 1 | B6: КУНДУЗГИ ШИФОХОНА ВА МАЖЛИСЛАР ЗАЛИ | C6: 202500100 | D6: =#REF! -> #REF! | E6: =#REF! -> #REF! | F6: =#REF! -> #REF! | G6: =#REF! -> #REF! | H6: =#REF! -> #REF! | I6: =H6*$I$4 -> #REF! | J6: =F6*$J$4 -> #REF! | K6: =G6*$K$4 -> #REF! | L6: =D6*$L$4 -> #REF! | M6: =L6*$M$4 -> #REF! | N6: =E6+F6+J6+L6+M6+K6+G6 -> #REF! | O6: =N6*$O$4 -> #REF! | P6: =O6+N6 -> #REF! | Q6: =(P6+H6+I6)*0.8*0.004 -> #REF! | R6: =Q6+P6+H6+I6 -> #REF! | S6: =R6*$S$4 -> #REF! | T6: =R6+S6 -> #REF! | U6: =T6-T8 -> #REF!
A7: 1 | B7: ОБЩЕСТРОИТЕЛЬНЫЕ РАБОТЫ | C7: 202600500 | D7: =Ресурс!F14 -> 2779.6878 | E7: =Ресурс!H39 -> 998959.68 | F7: =Ресурс!H234 -> 2.3320176e+08 | G7: =Ресурс!H239 -> 3452562.5 | H7: =Ресурс!H248 -> 9871603.9 | I7: =H7*$I$4 -> 197432.08 | J7: =F7*$J$4 -> 11660088 | K7: =G7*$K$4 -> 51788.438 | L7: =D7*$L$4 -> 70436150 | M7: =L7*$M$4 -> 8452338 | N7: =E7+F7+J7+L7+M7+K7+G7 -> 3.2825365e+08 | O7: =N7*$O$4 -> 57444389 | P7: =O7+N7 -> 3.8569804e+08 | Q7: =(P7+H7+I7)*0.8*0.004 -> 1266454.6 | R7: =Q7+P7+H7+I7 -> 3.9703353e+08 | S7: =R7*$S$4 -> 47644024 | T7: =R7+S7 -> 4.4467755e+08
B8: ВСЕГО | D8: =SUM(D7:D7) -> 2779.6878 | E8: =SUM(E7:E7) -> 998959.68 | F8: =SUM(F7:F7) -> 2.3320176e+08 | G8: =SUM(G7:G7) -> 3452562.5 | H8: =SUM(H7:H7) -> 9871603.9 | I8: =SUM(I7:I7) -> 197432.08 | J8: =SUM(J7:J7) -> 11660088 | K8: =SUM(K7:K7) -> 51788.438 | ... T8: =SUM(T7:T7) -> 4.4467755e+08
B11: Расчет составил | H11: И.АБДУКАДИРОВ
B13: Проверил | H13: О.ЮЛДАШЕВ

Sheet Сводка
A2: РЕКОМЕНДУЕМАЯ СТАРТОВАЯ СТОИМОСТЬ ОБЪЕКТА В ТЕКУЩИХ ЦЕНАХ
A4: =расчёт!B24 -> НАМАНГАН ВИЛОЯТИ ПОП ИХТИСОСЛАШТИРИЛГАН ДАВЛАТ УРМОН ХУЖАЛИГИ "УРМОНЧИЛАР УЙИ" БИНОСИНИ ЖОРИЙ ТАЪМИРЛАШ
A7: №№ ПП | B7: НАИМЕНОВАНИЕ ЗАТРАТ | C7: Цена (тыс.сум)
A10: 1 | B10: 2 | C10: 3
B12: Общая стоимость строительно-монтажных работ
A13: 1 | B13: ="Затраты на основную заработную плату "&'По объектная '!L4&" сум" -> Затраты на основную заработную плату 25339,59 сум
A14: 2 | B14: ="Начисление на социальное страхование 12%" -> Начисление на социальное страхование 12%
A15: =A13+1 -> 2 | B15: Затраты на эксплуатацию машин и механизмов
A16: =A15+1 -> 3 | B16: Затраты на строительные материалы и изделия
A17: =A16+1 -> 4 | B17: ="Транспортные расходы на материалы "&'По объектная '!J4*100&"%" -> Транспортные расходы на материалы 5%
A18: =A17+1 -> 5 | B18: Кабельная продукция
A19: =A18+1 -> 6 | B19: ="Транспортные расходы на кабельную продукцию "&'По объектная '!K4*100&"%" -> Транспортные расходы на кабельную продукцию 1,5%
A20: =A19+1 -> 7 | B20: ИТОГО ПРЯМЫЕ ЗАТРАТЫ
A21: =A20+1 -> 8 | B21: ="Прочие затраты и расходы подрядчика "&'По объектная '!O4*100&"%" -> Прочие затраты и расходы подрядчика 17,5%
A22: =A21+1 -> 9 | B22: ИТОГО
A23: =A22+1 -> 10 | B23: Затраты на оборудование, мебель и инвентарь
A24: =A23+1 -> 11 | B24: ="Транспортные расходы на оборудование "&'По объектная '!I4*100&"%" -> Транспортные расходы на оборудование 2%
A25: =A24+1 -> 12 | B25: ИТОГО
A26: =A25+1 -> 13 | B26: Прочие затраты производственного характера
A27: =A26+1 -> 14 | B27: Затраты на страхование строительства объектов 0,32%
A28: =A27+1 -> 15 | B28: Коэффициент риска
A29: =A28+1 -> 16 | B29: ИТОГО БЕЗ НДС
A30: =A29+1 -> 17 | B30: ="НДС "&'По объектная '!S4*100&"%" -> НДС 12%
A31: 18 | B31: ИТОГО стоимость строительства в текущих ценах с НДС | E31: =D31-C31 -> 0
A32: =A31+1 -> 19 | B32: Прочие затраты заказчика | C32: 0
A33: =A32+1 -> 20 | B33: ВСЕГО с прочими затратами заказчика | C33: =C32+C31 -> 0

Sheet Локал
F1: Форма N 5
B2: НАМАНГАН ВИЛОЯТИ ПОП ИХТИСОСЛАШТИРИЛГАН ДАВЛАТ УРМОН ХУЖАЛИГИ "УРМОНЧИЛАР УЙИ" БИНОСИНИ ЖОРИЙ ТАЪМИРЛАШ
B3: (наименование стройки)
C5: ЛОКАЛЬНАЯ РЕСУРСНАЯ ВЕДОМОСТЬ № | D5: 1
B6: (локальная ресурсная смета)
A8: на | B8: ОБЩЕСТРОИТЕЛЬНЫЕ РАБОТЫ,
B9: (наименование работ и затрат, наименование объекта)
A11: Основание: | C11: АЛЬБОМ
A12: N п.п. | B12: Шифр номера нормативов и коды ресурсов | C12: Наименование работ и затрат | D12: Единица измерения | E12: Количество
E13: на. ед. измерения | F13: по проектным данным
A14: 1 | B14: 2 | C14: 3 | D14: 4 | E14: 5 | F14: 6
A16: РАЗДЕЛ 1. РЕМОНТНО-СТРОИТЕЛЬНЫЕ РАБОТЫ
C17: ДЕМОНТАЖНЫЕ РАБОТЫ
A18: 1 | B18: Е58-017-04 | C18: РАЗБОРКА ПОКРЫТИЙ КРОВЕЛЬ: ИЗ ВОЛНИСТЫХ И ПОЛУВОЛНИСТЫХ АСБЕСТОЦЕМЕНТНЫХ ЛИСТОВ | D18: 100М2 | E18: 3.52
A19: 1.1 | B19: 1 | C19: ЗАТРАТЫ ТРУДА РАБОЧИХ-СТРОИТЕЛЕЙ | D19: ЧЕЛ.-Ч | E19: 24.39 | F19: 85.8528
A20: 1.2 | B20: 99999 | C20: СТРОИТЕЛЬНЫЙ МУСОР | D20: Т | E20: 1.45 | F20: 5.104
A21: 2 | B21: Е58-001-01 | C21: РАЗБОРКА: ОБРЕШЕТКИ ИЗ БРУСКОВ С ПРОЗОРАМИ | D21: 100М2 | E21: 3.52
A22: 2.1 | B22: 1 | C22: ЗАТРАТЫ ТРУДА РАБОЧИХ-СТРОИТЕЛЕЙ | D22: ЧЕЛ.-Ч | E22: 15.16 | F22: 53.3632
A23: 2.2 | B23: 99999 | C23: СТРОИТЕЛЬНЫЙ МУСОР | D23: Т | E23: 1.4 | F23: 4.928
A24: 3 | B24: Е56-009-05 ДОП. 5 | C24: ДЕМОНТАЖ ДВЕРНЫХ КОРОБОК В КАМЕННЫХ СТЕНАХ: С ОТБИВКОЙ ШТУКАТУРКИ В ОТКОСАХ | D24: 100ШТ | E24: 0.225
A25: 3.1 | B25: 1 | C25: ЗАТРАТЫ ТРУДА РАБОЧИХ-СТРОИТЕЛЕЙ | D25: ЧЕЛ.-Ч | E25: 180.89 | F25: 40.7003
A26: 3.2 | B26: 2831 | C26: МОЛОТКИ ОТБОЙНЫЕ ЭЛЕКТРИЧЕСКИЕ | D26: МАШ.-Ч | E26: 9.52 | F26: 2.142
A27: 3.3 | B27: 99999 | C27: СТРОИТЕЛЬНЫЙ МУСОР | D27: Т | E27: 10.5 | F27: 2.3625
A28: 4 | B28: Е56-001-04 ДОП. 5 | C28: ДЕМОНТАЖ ОКОННЫХ КОРОБОК: В КАМЕННЫХ СТЕНАХ С ОТБИВКОЙ ШТУКАТУРКИ В ОТКОСАХ | D28: 100ШТ | E28: 0.2
A29: 4.1 | B29: 1 | C29: ЗАТРАТЫ ТРУДА РАБОЧИХ-СТРОИТЕЛЕЙ | D29: ЧЕЛ.-Ч | E29: 129.29 | F29: 25.858
A30: 4.2 | B30: 2831 | C30: МОЛОТКИ ОТБОЙНЫЕ ЭЛЕКТРИЧЕСКИЕ | D30: МАШ.-Ч | E30: 3.45 | F30: 0.69
A31: 4.3 | B31: 99999 | C31: СТРОИТЕЛЬНЫЙ МУСОР | D31: Т | E31: 10.66 | F31: 2.132
A32: 5 | B32: Е56-002-02 | C32: СНЯТИЕ ВИТРАЖЕЙ: ОСТЕКЛЕННЫХ | D32: 100М2 | E32: 0.1485
A33: 5.1 | B33: 1 | C33: ЗАТРАТЫ ТРУДА РАБОЧИХ-СТРОИТЕЛЕЙ | D33: ЧЕЛ.-Ч | E33: 46.11 | F33: 6.8473
A34: 5.2 | B34: 99999 | C34: СТРОИТЕЛЬНЫЙ МУСОР | D34: Т | E34: 3.42 | F34: 0.50787
A35: 6 | B35: Е57-002-03 | C35: РАЗБОРКА ПОКРЫТИЙ ПОЛОВ: ИЗ КЕРАМИЧЕСКИХ ПЛИТОК | D35: 100М2 | E35: 0.225
A36: 6.1 | B36: 1 | C36: ЗАТРАТЫ ТРУДА РАБОЧИХ-СТРОИТЕЛЕЙ | D36: ЧЕЛ.-Ч | E36: 69.87 | F36: 15.7208
A37: 6.2 | B37: 99999 | C37: СТРОИТЕЛЬНЫЙ МУСОР | D37: Т | E37: 5.2 | F37: 1.17
A38: 7 | B38: Е57-002-01 | C38: РАЗБОРКА ПОКРЫТИЙ ПОЛОВ: ИЗ ЛИНОЛЕУМА И РЕЛИНА | D38: 100М2 | E38: 1.2352
A39: 7.1 | B39: 1 | C39: ЗАТРАТЫ ТРУДА РАБОЧИХ-СТРОИТЕЛЕЙ | D39: ЧЕЛ.-Ч | E39: 11.39 | F39: 14.0695
A40: 7.2 | B40: 99999 | C40: СТРОИТЕЛЬНЫЙ МУСОР | D40: Т | E40: 0.47 | F40: 0.580568
A41: 8 | B41: Е63-007-10 ДОП. 6 | C41: РАЗБОРКА ОБЛИЦОВКИ СТЕН ИЗ ПЛИТ И ПЛИТОК: КЕРАМИЧЕСКИХ ГЛАЗУРОВАННЫХ ПЛИТОК | D41: 100М2 | E41: 0.373
A42: 8.1 | B42: 1 | C42: ЗАТРАТЫ ТРУДА РАБОЧИХ-СТРОИТЕЛЕЙ | D42: ЧЕЛ.-Ч | E42: 78.1 | F42: 29.1313
A43: 8.2 | B43: 2831 | C43: МОЛОТКИ ОТБОЙНЫЕ ЭЛЕКТРИЧЕСКИЕ | D43: МАШ.-Ч | E43: 3.94 | F43: 1.4696
A44: 9 | B44: Е53-001-01 | C44: РАЗБОРКА ОБШИВКИ: НЕОШТУКАТУРЕННОЙ | D44: 100М2 | E44: 0.67375
...

Sheet Ресурс
A1: Наименование стройки - | D1: НАМАНГАН ВИЛОЯТИ ПОП ИХТИСОСЛАШТИРИЛГАН ДАВЛАТ УРМОН ХУЖАЛИГИ "УРМОНЧИЛАР УЙИ" БИНОСИНИ ЖОРИЙ ТАЪМИРЛАШ
A2: ВЕДОМОСТЬ ПОТРЕБНЫХ РЕСУРСОВ № 1
A3: Объект -
A4: на | B4: ОБЩЕСТРОИТЕЛЬНЫЕ РАБОТЫ
A5: Основание: | C5: АЛЬБОМ
A6: Составлена В ТЕКУЩИХ ЦЕНАХ
A8: N п/п | B8: Шифр (обоснование) | C8: Код АВС | D8: Наименование ресурса | E8: Единица измерения | F8: Сметная потребность | G8: Сметная стоимость, СУМ
G9: в текущем уровне
G10: единицы | H10: всего
A11: 1 | B11: 2 | C11: 3 | D11: 4 | E11: 5 | F11: 6 | G11: 7 | H11: 8
A13: Затраты труда
A14: 1. | C14: 1 | D14: Затраты труда рабочих-строителей | E14: чел.-ч | F14: 2779.6878 | G14: 25339.59 | H14: =G14*F14 -> 70436150
A15: 2. | C15: 3 | D15: Затраты труда машинистов | E15: чел.-ч | F15: 4.25491 | G15: 0 | H15: =G15*F15 -> 0
D16: Итого по трудовым ресурсам | E16: СУМ | H16: =SUM(H14:H15) -> 70436150
A18: Строительные машины и механизмы
A19: 1. | C19: 83 | D19: Агрегаты для приготовления рабочих жидкостей-ядохимикатов (без трактора) | E19: маш.-ч | F19: 0.093 | G19: 0 | H19: =G19*F19 -> 0
A20: 2. | C20: 404 | D20: Вибраторы поверхностные | E20: маш.-ч | F20: 44.08658 | G20: 1034 | H20: =G20*F20 -> 45585.524
A21: 3. | C21: 521 | D21: Дрели электрические | E21: маш.-ч | F21: 103.59378 | G21: 1528 | H21: =G21*F21 -> 158291.3
A22: 4. | C22: 762 | D22: Краны на автомобильном ходу при работе на других видах строительства 10 т | E22: маш.-ч | F22: 3.3658 | G22: 0 | H22: =G22*F22 -> 0
A23: 5. | C23: 913 | D23: Котлы битумные передвижные 400 л | E23: маш.-ч | F23: 0.5070175 | G23: 6566 | H23: =G23*F23 -> 3329.0769
A24: 6. | C24: 1041 | D24: Шуруповерты | E24: маш.-ч | F24: 8.27115 | G24: 1329 | H24: =G24*F24 -> 10992.358
A25: 7. | C25: 1383 | D25: Установки для изготовления бандажей, диафрагм, пряжек | E25: маш.-ч | F25: 0.4947 | G25: 0 | H25: =G25*F25 -> 0
A26: 8. | C26: 1385 | D26: Установки для заготовки защитных покрытий тепловой изоляции | E26: маш.-ч | F26: 0.7365 | G26: 0 | H26: =G26*F26 -> 0
A27: 9. | C27: 1523 | D27: Пилы дисковые электрические | E27: маш.-ч | F27: 283.46368 | G27: 1431 | H27: =G27*F27 -> 405636.52
A28: 10. | C28: 1556 | D28: Бензопилы | E28: маш.-ч | F28: 2.0848987 | G28: 2322 | H28: =G28*F28 -> 4841.1349
A29: 11. | C29: 1609 | D29: Растворонасосы 1 м3/ч | E29: маш.-ч | F29: 0.084475 | G29: 29354 | H29: =G29*F29 -> 2479.6791
A30: 12. | C30: 1702 | D30: Станок камнерезный универсальный | E30: маш.-ч | F30: 0.181545 | G30: 41451 | H30: =G30*F30 -> 7525.2218
... A38: 20. | C38: 3364 | D38: Сварочные аппараты ручные для сварки пластиковых труб | E38: маш.-ч | F38: 13.3052 | G38: 2608 | H38: =G38*F38 -> 34699.962
D39: Итого по строительным машинам | E39: СУМ | H39: =SUM(H19:H38) -> 998959.68
A41: Строительные материалы, изделия и детали
A42: 1. | C42: 9219 | D42: Вода | E42: м3 | F42: 10.693527 | G42: 0 | H42: =G42*F42 -> 0
A43: 2. | C43: 9219 | D43: Вода | E43: м3 | F43: 1.635 | G43: 0 | H43: =G43*F43 -> 0
A44: 3. | C44: 12138 | D44: Раствор цементно-известковый 1:1:6 | E44: м3 | F44: 0.83592 | G44: 264286 | H44: =G44*F44 -> 220921.95
A45: 4. | C45: 12146 | D45: Раствор готовый отделочный тяжелый, известковый: 1:2,0 | E45: м3 | F45: 0.02974125 | G45: 264286 | H45: =G45*F45 -> 7860.196
A46: 5. | C46: 12182 | D46: Раствор цементно-песчаный М-150 | E46: м3 | F46: 10.10118 | G46: 416964 | H46: =G46*F46 -> 4211828.4
A47: 6. | C47: 12373 | D47: Смесь сухая гипсовая | E47: т | F47: 0.3949491 | G47: 1475000 | H47: =G47*F47 -> 582549.92
A48: 7. | C48: 18062 | D48: Плиты мраморные | E48: м2 | F48: 7.41 | G48: 65500 | H48: =G48*F48 -> 485355
A49: 8. | C49: 29840 | D49: Уголок наружный для пластикового плинтуса | E49: шт | F49: 28.805 | G49: 200 | H49: =G49*F49 -> 5761
A50: 9. | C50: 29841 | D50: Уголок внутренний для пластикового плинтуса | E50: шт | F50: 28.805 | G50: 200 | H50: =G50*F50 -> 5761
A51: 10. | C51: 29842 | D51: Соединитель для пластикового плинтуса | E51: шт | F51: 164.6 | G51: 200 | H51: =G51*F51 -> 32920
...
