Workbook
Name _na1: #REF!
Name _na1: #REF!
Name _na1: #REF!
Name _na2: #REF!
Name _na2: #REF!
Name _na2: #REF!
Name _na3: #REF!
Name _na3: #REF!
Name _na3: #REF!
Name _na4: #REF!
Name _na5: #REF!
Name _na6: #REF!
Name _na7: #REF!
Name _na8: #REF!
Name bases: #REF!
Name bases: #REF!
Name bases: #REF!
Name bases1: #REF!
Name bases1: #REF!
Name bases2: #REF!
Name bases2: #REF!
Name bases3: #REF!
Name bases4: #REF!
Name bases5: #REF!
Name bases6: #REF!
Name bases7: #REF!
Name bases8: #REF!
Name Build: #REF!
Name Build1: #REF!
Name Build2: #REF!
Name Build3: #REF!
Name Build4: #REF!
Name Build5: #REF!
Name Build6: #REF!
Name Build7: #REF!
Name Build8: #REF!
Name cmndBase: #REF!
Name cmndDayMonthTo: #REF!
Name cmndDays: #REF!
Name cmndDocNum: #REF!
Name cmndDocSer: #REF!
Name cmndFIO: #REF!
Name cmndOrdDay: #REF!
Name cmndOrdMonth: #REF!
Name cmndOrdNum: #REF!
Name cmndOrdYear: #REF!
Name cmndPoint: #REF!
Name cmndPoint1: #REF!
Name cmndPos: #REF!
Name cmndYearTo: #REF!
Name cntAddition: #REF!
Name cntDay: #REF!
Name cntMonth: #REF!
Name cntName: #REF!
Name cntNumber: #REF!
Name cntPayer: #REF!
Name cntPayer1: #REF!
Name cntPayerAddr1: #REF!
Name cntPayerAddr2: #REF!
Name cntPayerBank1: #REF!

Sheet Форма
B1: РЕКОМЕНДУЕМАЯ СТОИМОСТЬ ОБЪЕКТА В ТЕКУЩИХ ЦЕНАХ.
A2: НАМАНГАН ВИЛОЯТИ УЙЧИ ТУМАН КАШКАР МАХАЛЛА ФУКАРОЛАР ЙИГИНИ ХУДУДИДА ЖОЙЛАШГАН НАВБАХОР, УЙИНГОХ, А.КАХХОР ВА МАЗМУНЛИ КУЧАЛАРИНИ АСФАЛТ КОПЛАМАСИ БИЛАН КОПЛАШ
A3: №№ ПП | B3: НАИМЕНОВАНИЕ ЗАТРАТ | C3: Цена
C4: (тыс.сум)
A5: 1 | B5: 2 | C5: 3
A6: 1 | B6: ЗАТРАТЫ НА ОБОРУДОВАНИЕ, МЕБЕЛЬ И ИНВЕНТАРЬ
A7: 2 | B7: ЗАТРАТЫ НА СТРОИТЕЛЬНЫЕ МАТЕРИАЛЫ, ИЗДЕЛИЯ И КОНСТРУКЦИИ
A8: 3 | B8: ТРАНСПОРТНЫЕ РАСХОДЫ НА МАТЕРИАЛЫ
A9: 4 | B9: ЗАГОТОВИТЕЛЬНО-СКЛАДСКИЕ РАСХОДЫ
A10: 5 | B10: ТРАНСПОРТНЫЕ РАСХОДЫ НА ОБОРУДОВАНИЕ
A11: 6 | B11: ЗАТРАТЫ НА ОСНОВНУЮ ЗАРАБОТНУЮ ПЛАТУ С УЧЕТОМ НАЧИСЛЕНИЙ НА СОЦИАЛЬНОЕ СТРАХОВАНИЕ
A12: 7 | B12: ЗАТРАТЫ НА ЭКСПЛУАТАЦИЮ МАШИН И МЕХАНИЗМОВ
B13: ИТОГО ПРЯМЫХ ЗАТРАТ
A14: 8 | B14: ОТРАСЛЕВАЯ РЕНТАБИЛЬНОСТЬ 00%
A15: 9 | B15: ПРОЧИЕ ЗАТРАТЫ И РАСХОДЫ ПОДРЯДЧИКА 17%
A16: 10 | B16: ПРОЧИЕ ЗАТРАТЫ И РАСХОДЫ ЗАКАЗЧИКА
A17: 11 | B17: ЗАТРАТЫ НА СТРАХОВАНИЕ СТРОИТЕЛЬСТВА ОБЪЕКТОВ
A18: 12 | B18: КОЭФФИЦИЕНТ РИСКА, ОПРЕДЕЛЯЕМЫЙ ИСХОДЯ ИЗ ПРОГНОЗИРУЕМОГО ИНДЕКСА РОСТА ЦЕН В СТРОИТЕЛЬСТВЕ НА ОЧЕРЕДНОЙ ГОД
A19: 13 | B19: И Т О Г О СТОИМОСТЬ СТРОИТЕЛЬСТВА В ТЕКУЩИХ ЦЕНАХ
A20: 14 | B20: НДС 12 %
A21: 15 | B21: ИТОГО С НДС
B23: ЗАКАЗЧИК
B25: ___________________
B26: МП

Sheet Исходные данные
A1: Исходные данные для определения стоимости объекта в текущих ценах
B3: 1 | C3: Затраты на оборудование, мебель и инвентарь (Со) | D3: 0 | E3: сум
B4: 2 | C4: Затраты на строительные материалы, изделия и конструкции (См) | D4: =+РЕСУРС!H67 -> 8.9046978e+08 | E4: сум
C5: Транспортные расходы на материалы | D5: =РЕСУРС!H69 -> 0 | E5: сум
C6: Заготовительно-складские расходы | E6: сум
C7: Транспортные расходы на оборудование с загот.скл.расх | D7: 0 | E7: сум
B8: 3 | C8: Затраты на ОЗП с учетом начислений на соцстрах (Сзп) | D8: =ROUND(D9*D10/D11*D12,0) -> 13716478 | E8: сум
B9: 3.1 | C9: Нормативная трудоемкость объекта (Т) | D9: =+РЕСУРС!F15 -> 494.16355 | E9: чел/час
B10: 3.2 | C10: Среднегодовая заработная плата строителей по региону в расчете на месяц, определенная на основе статистических данных за предыдущие 12 месяцев, сум./месяц (Змс) | D10: =РЕСУРС!G15/1.12*'Исходные данные'!D11 -> 4070607.7 | E10: сум/месяц
B11: 3.3 | C11: Среднемесячный фонд рабочего времени в часах по данным Министерства труда и социальной защиты населения Республики Узбекистан (Ф) | D11: 164.25 | E11: час
B12: 3.4 | C12: Коэффициент учета размера отчислений на соцстрах (Ксс) | D12: 1.12
B13: 4 | C13: Затраты на эксплуатацию машин и механизмов (Сэм) | D13: =+РЕСУРС!H43 -> 1.0283534e+08 | E13: сум
C14: Сумма (сум)
B15: 5 | C15: Прочие затраты и расходы подрядчика (Пп) | D15: =(D4+D5+D8+D13)*D16 -> 1.7119367e+08 | E15: сум
C16: Процент (%) | D16: 0.17 | E16: %
C17: Сумма (сум) | E17: сум
B18: 6 | C18: Отраслевая рентабельность(Нпр) | D18: =(D4+D5+D8+D13)*D19 -> 0
C19: Процент (%) | D19: 0
C20: Сумма (сум)
B21: 7 | C21: Прочие затраты и расходы заказчика (Пз) | D21: 0 | E21: сум
C22: Процент (%) | E22: %
C23: Сумма (сум) | E23: сум
B24: 8 | C24: Затраты на страхование строительства объектов | D24: =(D4+D5+D8+D13+D15)*D25 -> 3770288.9 | E24: сум
C25: Процент (%) | D25: 0.0032 | E25: %
C26: Сумма (сум) | E26: сум
B27: 9 | C27: Коэффициент риска, исходя из прогноза индекса роста цен | D27: 1 | E27: %
C28: Итого стоимость объекта в текущих ценах | D28: =ROUND((D4+D8+D13+D15+D5+D6)*D27+D3+D7+D21+D18+D24,0)/1000 -> 1181985.6 | E28: тыс.сум

Sheet РЕСУРС
A2: =Дефектовка!A7 -> НАМАНГАН ВИЛОЯТИ УЙЧИ ТУМАН “ҚАШҚАР” МАҲАЛЛА ФУҚАРОЛАР ЙИҒИНИ ХУДУДИДА ЖОЙЛАШГАН “НАВБАХОР”, "ЎЙИНГОҲ", "А.ҚАХХОР" ВА "МАЗМУНЛИ"КЎЧАЛАРИНИ АСФАЛТ ҚОПЛАМАСИ БИЛАН ҚОПЛАШ.
A4: СВОДНАЯ РЕСУРСНАЯ СМЕТА № 1
A5: ДОРОЖНЫЕ РАБОТЫ
A7: Основание: | C7: ВЕДОМОСТЬ ОБЪЕМОВ РАБОТ
A8: N п/п | B8: Шифр (обоснование) | C8: Код АВС | D8: Наименование ресурса | E8: Единица измерения | F8: Сметная потреб-ность | G8: Сметная стоимость, СУМ
G9: в текущем уровне
G10: единицы | H10: всего
A11: 1 | B11: 2 | C11: 3 | D11: 4 | E11: 5 | F11: 6 | G11: 7 | H11: 8
A13: Ресурсы по нормам СНиП
A14: Затраты труда
A15: 1. | C15: 1 | D15: Затраты труда рабочих-строителей | E15: чел.-ч | F15: 494.16355 | G15: 27756.96 | H15: =+G15*F15 -> 13716478
A16: 2. | C16: 3 | D16: Затраты труда машинистов | E16: чел.-ч | F16: 382.38423 | H16: 0
D17: Итого по трудовым ресурсам | E17: СУМ | H17: =SUM(H15:H16) -> 13716478
A19: Строительные машины и механизмы
A20: 1. | C20: 97 | D20: Автомобили-самосвалы грузоподъемностью до 30 т | E20: маш.-ч | F20: 20.268018 | G20: 316771 | H20: =+G20*F20 -> 6420320.3
A21: 2. | C21: 107 | D21: Автогрейдеры среднего типа 99 (135) кВт (л.с.) | E21: маш.-ч | F21: 35.773477 | G21: 294846 | H21: =+G21*F21 -> 10547666
A22: 3. | C22: 108 | D22: Автогудронаторы 3500 л | E22: маш.-ч | F22: 3.51364 | G22: 180023 | H22: =+G22*F22 -> 632536.01
A23: 4. | C23: 258 | D23: Бульдозеры при работе на других видах строительства 79 (108) кВт (л.с.) | E23: маш.-ч | F23: 1.8097705 | G23: 207511 | H23: =+G23*F23 -> 375547.29
A24: 5. | C24: 403 | D24: Вибраторы глубинные | E24: маш.-ч | F24: 0.0300672 | G24: 1672 | H24: =+G24*F24 -> 50.272358
A25: 6. | C25: 464 | D25: Гудронаторы ручные | E25: маш.-ч | F25: 3.378003 | G25: 303 | H25: =+G25*F25 -> 1023.5349
A26: 7. | C26: 619 | D26: Катки дорожные самоходные вибрационные 2,2 т | E26: маш.-ч | F26: 6.8698 | G26: 105589 | H26: =+G26*F26 -> 725375.31
A27: 8. | C27: 621 | D27: Катки дорожные самоходные гладкие 8 т | E27: маш.-ч | F27: 47.929616 | G27: 179705 | H27: =+G27*F27 -> 8613191.6
A28: 9. | C28: 623 | D28: Катки дорожные самоходные гладкие 13 т | E28: маш.-ч | F28: 35.005737 | G28: 202982 | H28: =+G28*F28 -> 7105534.6
A29: 10. | C29: 762 | D29: Краны на автомобильном ходу при работе на других видах строительства 10 т | E29: маш.-ч | F29: 0.1368 | G29: 251577 | H29: =+G29*F29 -> 34415.734
A30: 11. | C30: 1025 | D30: Кирковщики | E30: маш.-ч | F30: 9.5003346 | G30: 0 | H30: =+G30*F30 -> 0
A31: 12. | C31: 1069 | D31: Машины бурильные на тракторе 85 (115) кВт (л.с.) глубиной бурения 3,5 м | E31: маш.-ч | F31: 0.99 | G31: 274574 | H31: =+G31*F31 -> 271828.26
... A42: 23. | C42: 3457 | D42: Автомобили-самосвалы грузоподъемностью до 25 т | E42: маш.-ч | F42: 107.59983 | G42: 316771 | H42: =+G42*F42 -> 34084506
D43: Итого по строительным машинам | E43: СУМ | H43: =SUM(H20:H42) -> 1.0283534e+08
A45: Строительные материалы, изделия и детали
A46: 1. | C46: 6087 | D46: Асфальтобетонные смеси мелкозернистые типа Б М-2 | E46: т | F46: 1360.4344 | G46: 611471 | H46: =+G46*F46 -> 8.3186619e+08
A47: 2. | C47: 6322 | D47: Бетон тяжелый класса В15 /М-200/ фракции 5-20 мм | E47: м3 | F47: 0.14688 | G47: 370000 | H47: =+G47*F47 -> 54345.6
A48: 3. | C48: 9219 | D48: Вода | E48: м3 | F48: 138.51743 | G48: 0 | H48: =+G48*F48 -> 0
A49: 4. | C49: 12303 | D49: Гравийно-песчаная смесь | E49: м3 | F49: 650.40676 | G49: 31171 | H49: =+G49*F49 -> 20273829
A50: 5. | C50: 30135 | D50: Битум | E50: т | F50: 0.15313614 | G50: 5803571 | H50: =+G50*F50 -> 888736.46
A51: 6. | C51: 30137 | D51: Эмульсия битумная | E51: т | F51: 6.95971 | G51: 4464285.7 | H51: =+G51*F51 -> 31070134
A52: 7. | C52: 30303 | D52: Болты с шестигранной головкой диаметром резьбы 10 мм | E52: т | F52: 0.00432 | G52: 15402000 | H52: =+G52*F52 -> 66536.64
A53: 8. | C53: 30407 | D53: Гвозди строительные | E53: т | F53: 2.736e-05 | G53: 9375000 | H53: =+G53*F53 -> 256.5
A54: 9. | C54: 30652 | D54: Известь строительная негашеная комовая, сорт 1 | E54: т | F54: 3.6e-05 | G54: 850000 | H54: =+G54*F54 -> 30.6
A55: 10. | C55: 31403 | D55: Грунтовка В-КФ-093 красно-коричневая, серая, черная | E55: т | F55: 0.0017415 | G55: 18482000 | H55: =+G55*F55 -> 32186.403
A56: 11. | C56: 31445 | D56: Краски перхлорвиниловые | E56: т | F56: 0.0005058 | G56: 18482000 | H56: =+G56*F56 -> 9348.1956
...

Sheet Дефектовка
G1: "ТАСДИҚЛАЙМАН"
G2: Наманган минтақавий йўлларга буюртмачи хизмати ДМ директори
G4: ____________________ _____________
G5: "______" __________________2026 й
A7: НАМАНГАН ВИЛОЯТИ УЙЧИ ТУМАН “ҚАШҚАР” МАҲАЛЛА ФУҚАРОЛАР ЙИҒИНИ ХУДУДИДА ЖОЙЛАШГАН “НАВБАХОР”, "ЎЙИНГОҲ", "А.ҚАХХОР" ВА "МАЗМУНЛИ"КЎЧАЛАРИНИ АСФАЛТ ҚОПЛАМАСИ БИЛАН ҚОПЛАШ.
A8: НУКСОНЛАР ДАЛОЛАТНОМАСИ
A9: Биз, куйида имзо чекувчилар, комиссия аъзолари: Наманган вилояти минтақавий йўлларга буюртмачи хизмати ДМ бажарилган ишларни қабул қилиш бўлими мутахассиси, лойиҳа таъминоти бўлими бошлиғи, Қурама МФЙ раиси, ташаббускор ҳамда лойиҳа ташкилот вакиллари мазкур далолатномани визуал текшириш ва инструментал ўлчашлар натижасида туздик ва ушбу кўча бўйича қуйидаги иш турлари ва хажмлари аниқланди:
A10: № т.р | B10: Ишлар манзили | D10: Узунлиги, метр | E10: Йўл элементларининг мавжуд ҳолати | F10: Лойиҳада кўзда тутилган иш турлари ва тадбирлар | G10: Иш хажмларини хисоблаш формуласи | H10: Ўлчов бирлиги | I10: Миқдори (хажм)
B11: боши | C11: охири
B12: ПК+ | C12: ПК+
A13: 1 | B13: 2 | C13: 3 | D13: 4 | E13: 5 | F13: 6 | G13: 7 | H13: 8 | I13: 9
A14: Трасса 1 (Навбахор кўчаси)
A15: 1 | B15: 0+00 | C15: 4+62 | D15: 462 | E15: Йўлнинг мавжуд холати қум шағал аралашмасидан иборат бўлиб, чўкишлар нотекисликлар мавжуд. | F15: Мавжуд йўл профилини 1000м2 га 66 м3 янги ҚШАли материал қўшиш йўли билан тиклаш | G15: 462 м х 4 м + 6,86 м2 | H15: м2 | I15: 1854.86
F16: Битум эмульцияси билан юзаки ишлов бериш 0,6 л/м2 | G16: 0,6 х 1854,86 м2 / 1000 | H16: т | I16: 1.113
F17: Асфальтоукладчик ёрдамида қайноқ майда заррали зич асфальтобетондан 5 см қалинликда қоплама ёткизиш. (ГОСТ 9128-2013) | G17: 462 м х 4 м + 6,86 м2 | H17: м2 | I17: 1854.86
F18: Қум шағал аралашмаси ёрдамида 5 см қалинликда йўл марзасини мустаҳкамлаш | G18: 462 м х 0,25 м х 2 | H18: м2 | I18: 231
A19: Трасса 2 (Навбахор кўчаси)
A20: 2 | B20: 0+00 | C20: 2+60 | D20: 260 | E20: Йўлнинг мавжуд холати қум шағал аралашмасидан иборат бўлиб, чўкишлар нотекисликлар мавжуд. | F20: Мавжуд йўл профилини 1000м2 га 66 м3 янги ҚШАли материал қўшиш йўли билан тиклаш | G20: 260 м х 4 м + 31,31 м2 | H20: м2 | I20: 1071.31
F21: Битум эмульцияси билан юзаки ишлов бериш 0,6 л/м2 | G21: 0,6 х 1071,31 м2 / 1000 | H21: т | I21: 0.643
F22: Асфальтоукладчик ёрдамида қайноқ майда заррали зич асфальтобетондан 5 см қалинликда қоплама ёткизиш. (ГОСТ 9128-2013) | G22: 260 м х 4 м + 31,31 м2 | H22: м2 | I22: 1071.31
F23: Қум шағал аралашмаси ёрдамида 5 см қалинликда йўл марзасини мустаҳкамлаш | G23: 260 м х 0,25 м х 2 | H23: м2 | I23: 130
A24: 3 | B24: 2+60 2+15 2+60 | E24: Йўл белгилари етишмайди. | F24: Йўл белгиларини узунлиги 4 м ўлчами 50х50 мм бўлган металл устинини B-15 маркали қуйма бетон пойдеворга ўрнатиш | G24: 3 дона | H24: дона | I24: 3
G25: 0,048 м3 | H25: м3 | I25: 0.048
F26: Томонлари 700 мм бўлган 2.4. "Йўл беринг" йўл белгиси | G26: 1 дона | H26: дона | I26: 1
F27: Томонлари 700 мм бўлган 1.31. "Сунъий йўл нотекислиги" йўл белгиси | G27: 1 дона | H27: дона | I27: 1
F28: Ўлчами 700 мм бўлган 3.12 "Ўққа тушадиган оғирлик чекланган" йўл белгиси | G28: 1 дона | H28: дона | I28: 1
A29: 4 | B29: 2+60 | F29: Сунъий нотекислик (лежачий полицейский) ўрнатиш | G29: 4 м | H29: м | I29: 4
A30: Трасса 3 (Навбахор кўчаси)
A31: 5 | B31: 0+00 | C31: 3+80 | D31: 380 | E31: Йўлнинг мавжуд холати қум шағал аралашмасидан иборат бўлиб, чўкишлар нотекисликлар мавжуд. | F31: Мавжуд йўл профилини 1000м2 га 66 м3 янги ҚШАли материал қўшиш йўли билан тиклаш | G31: 380 м х 4 м + 31,31 м2 | H31: м2 | I31: 1551.31
F32: Битум эмульцияси билан юзаки ишлов бериш 0,6 л/м2 | G32: 0,6 х 1551,31 м2 / 1000 | H32: т | I32: 0.931
F33: Асфальтоукладчик ёрдамида қайноқ майда заррали зич асфальтобетондан 5 см қалинликда қоплама ёткизиш. (ГОСТ 9128-2013) | G33: 380 м х 4 м + 31,31 м2 | H33: м2 | I33: 1551.31
F34: Қум шағал аралашмаси ёрдамида 5 см қалинликда йўл марзасини мустаҳкамлаш | G34: 380 м х 0,25 м х 2 | H34: м2 | I34: 190
A35: 6 | B35: 3+80 3+35 3+80 | E35: Йўл белгилари етишмайди. | F35: Йўл белгиларини узунлиги 4 м ўлчами 50х50 мм бўлган металл устинини B-15 маркали қуйма бетон пойдеворга ўрнатиш | G35: 3 дона | H35: дона | I35: 3
G36: 0,048 м3 | H36: м3 | I36: 0.048
F37: Томонлари 700 мм бўлган 2.4. "Йўл беринг" йўл белгиси | G37: 1 дона | H37: дона | I37: 1
F38: Томонлари 700 мм бўлган 1.31. "Сунъий йўл нотекислиги" йўл белгиси | G38: 1 дона | H38: дона | I38: 1
F39: Ўлчами 700 мм бўлган 3.12 "Ўққа тушадиган оғирлик чекланган" йўл белгиси | G39: 1 дона | H39: дона | I39: 1
A40: 7 | B40: 3+80 | F40: Сунъий нотекислик (лежачий полицейский) ўрнатиш | G40: 4 м | H40: м | I40: 4
A41: Трасса 4 (Ўйингоҳ кўчаси)
A42: 8 | B42: 0+00 | C42: 3+70 | D42: 370 | E42: Йўлнинг мавжуд холати қум шағал аралашмасидан иборат бўлиб, чўкишлар нотекисликлар мавжуд. | F42: Мавжуд йўл профилини 1000м2 га 66 м3 янги ҚШАли материал қўшиш йўли билан тиклаш | G42: 370 м х 4 м + 20,58 м2 | H42: м2 | I42: 1500.58
...

Sheet жадвал
A1: автомобил йўли тўшамасини таъмирлаш ишлари қайдномаси
A3: Т/р | B3: Ишнинг манзили | D3: Узун- лиги, метр | E3: Йўлнинг эни, метр | F3: Туташма- нинг четки юзаси, м2 | G3: Таъмирланадиган йўлнинг юзаси, м2 | H3: Тип
B4: боши | C4: охири
B5: ПК+ | C5: ПК+
A6: Трасса 1 (Навбахор кўчаси)
A7: 1 | B7: 0+00 | C7: 4+62 | D7: =IFERROR((REPLACE(C7,2,1,))-(REPLACE(B7,2,1,)),) -> 462 | E7: 4 | F7: 6.86 | G7: =+E7*D7+F7 -> 1854.86 | H7: I
A8: Трасса 2 (Навбахор кўчаси)
A9: =+A7+1 -> 2 | B9: 0+00 | C9: 2+60 | D9: =IFERROR((REPLACE(C9,2,1,))-(REPLACE(B9,2,1,)),) -> 260 | E9: 4 | F9: =6.86*3+10.73 -> 31.31 | G9: =+E9*D9+F9 -> 1071.31 | H9: I
A10: Трасса 3 (Навбахор кўчаси)
A11: =+A9+1 -> 3 | B11: 0+00 | C11: 3+80 | D11: =IFERROR((REPLACE(C11,2,1,))-(REPLACE(B11,2,1,)),) -> 380 | E11: 4 | F11: =6.86*3+10.73 -> 31.31 | G11: =+E11*D11+F11 -> 1551.31 | H11: I
A12: Трасса 4 (Ўйингоҳ кўчаси)
A13: =+A11+1 -> 4 | B13: 0+00 | C13: 3+70 | D13: =IFERROR((REPLACE(C13,2,1,))-(REPLACE(B13,2,1,)),) -> 370 | E13: 4 | F13: =6.86*3 -> 20.58 | G13: =+E13*D13+F13 -> 1500.58 | H13: I
A14: Трасса 5 (А.Қаххор кўчаси)
A15: =+A13+1 -> 5 | B15: 0+00 | C15: 4+66 | D15: =IFERROR((REPLACE(C15,2,1,))-(REPLACE(B15,2,1,)),) -> 466 | E15: 4 | F15: 6.86 | G15: =+E15*D15+F15 -> 1870.86 | H15: I
A16: Трасса 6 (А.Қаххор кўчаси)
A17: =+A15+1 -> 6 | B17: 0+00 | C17: 1+08 | D17: =IFERROR((REPLACE(C17,2,1,))-(REPLACE(B17,2,1,)),) -> 108 | E17: 3.5 | F17: =6.86*2 -> 13.72 | G17: =+E17*D17+F17 -> 391.72 | H17: I
A18: Трасса 7 (Мазмунли кўчаси)
A19: =+A17+1 -> 7 | B19: 0+00 | C19: 3+21 | D19: =IFERROR((REPLACE(C19,2,1,))-(REPLACE(B19,2,1,)),) -> 321 | E19: 4 | F19: 6.86 | G19: =+E19*D19+F19 -> 1290.86 | H19: II
A20: Трасса 8 (Мазмунли кўчаси)
A21: =+A19+1 -> 8 | B21: 0+00 | C21: 0+87 | D21: =IFERROR((REPLACE(C21,2,1,))-(REPLACE(B21,2,1,)),) -> 87 | E21: 3.5 | F21: =6.86*2 -> 13.72 | G21: =+E21*D21+F21 -> 318.22 | H21: I
A22: Трасса 9 (Мазмунли кўчаси)
A23: =+A21+1 -> 9 | B23: 0+00 | C23: 3+50 | D23: =IFERROR((REPLACE(C23,2,1,))-(REPLACE(B23,2,1,)),) -> 350 | E23: 4 | F23: =6.86+3.43 -> 10.29 | G23: =+E23*D23+F23 -> 1410.29 | H23: II
B24: жами | D24: =SUM(D7:D23) -> 2804 | G24: =SUM(G7:G23) -> 11260.01

Sheet Объемка
A1: =+Дефектовка!A7 -> НАМАНГАН ВИЛОЯТИ УЙЧИ ТУМАН “ҚАШҚАР” МАҲАЛЛА ФУҚАРОЛАР ЙИҒИНИ ХУДУДИДА ЖОЙЛАШГАН “НАВБАХОР”, "ЎЙИНГОҲ", "А.ҚАХХОР" ВА "МАЗМУНЛИ"КЎЧАЛАРИНИ АСФАЛТ ҚОПЛАМАСИ БИЛАН ҚОПЛАШ.
A2: Йиғма иш хажми қайдномаси
A4: № | B4: Ишнинг номланиши | C4: Ўлчов бирлиги | D4: Хажми
B5: Умумий маълумотлар
A6: 1 | B6: Таъмирланаётган йўл бўлагининг узунлиги | C6: м | D6: 2804
A7: 2 | B7: Қатнов кисмининг ўртача эни | C7: м | D7: 3,5-4,0
A8: 3 | B8: Буюртмачи - Наманган минтақавий йўлларга буюртмачи хизмати ДМ
A9: 4 | B9: Курувчи ташкилоти - Танлов асосида аниқланади
A10: 5 | B10: Ишлар бажариладиган худуд - Наманган вилояти Учқўрғон тумани
A11: 6 | B11: Курилиш монтаж ишлари автотранспорт харакати тўхтатилган холда бажарилади
B12: Йўл тушамаси
A13: 1 | B13: Йўл пойини автогрейдер ёрдамида геометрик шаклга келтириш | C13: м2 | D13: =SUMIF(Дефектовка!$F$15:$F$76,B13,Дефектовка!$I$15:$I$76) -> 2701.15
A14: =+A13+1 -> 2 | B14: Мавжуд йўл профилини 1000м2 га 66 м3 янги ҚШАли материал қўшиш йўли билан тиклаш | C14: м2 | D14: =SUMIF(Дефектовка!$F$15:$F$76,B14,Дефектовка!$I$15:$I$76) -> 8558.86
A15: =+A14+1 -> 3 | B15: Битум эмульцияси билан юзаки ишлов бериш 0,6 л/м2 | C15: т | D15: =SUMIF(Дефектовка!$F$15:$F$76,B15,Дефектовка!$I$15:$I$76) -> 6.757
A16: =+A15+1 -> 4 | B16: Асфальтоукладчик ёрдамида қайноқ майда заррали зич асфальтобетондан 5 см қалинликда қоплама ёткизиш. (ГОСТ 9128-2013) | C16: м2 | D16: =SUMIF(Дефектовка!$F$15:$F$76,B16,Дефектовка!$I$15:$I$76) -> 11260.01
A17: =+A16+1 -> 5 | B17: Қум шағал аралашмаси ёрдамида 5 см қалинликда йўл марзасини мустаҳкамлаш | C17: м2 | D17: =SUMIF(Дефектовка!$F$15:$F$76,B17,Дефектовка!$I$15:$I$76) -> 1402
B18: Йўл белгиларини ўрнатиш
A19: =+A17+1 -> 6 | B19: Йўл белгиларини узунлиги 4 м ўлчами 50х50 мм бўлган металл устинини B-15 маркали қуйма бетон пойдеворга ўрнатиш | C19: дона | D19: =SUMIF(Дефектовка!$F$15:$F$76,B19,Дефектовка!$I$15:$I$76) -> 9
C20: м3 | D20: =+D19*0.016 -> 0.144
A21: =+A19+1 -> 7 | B21: Томонлари 700 мм бўлган 2.4. "Йўл беринг" йўл белгиси | C21: дона | D21: =SUMIF(Дефектовка!$F$15:$F$76,B21,Дефектовка!$I$15:$I$76) -> 3
A22: =+A21+1 -> 8 | B22: Томонлари 700 мм бўлган 1.31. "Сунъий йўл нотекислиги" йўл белгиси | C22: дона | D22: =SUMIF(Дефектовка!$F$15:$F$76,B22,Дефектовка!$I$15:$I$76) -> 3
A23: =+A22+1 -> 9 | B23: Ўлчами 700 мм бўлган 3.12 "Ўққа тушадиган оғирлик чекланган" йўл белгиси | C23: дона | D23: =SUMIF(Дефектовка!$F$15:$F$76,B23,Дефектовка!$I$15:$I$76) -> 3
A24: =+A23+1 -> 10 | B24: Сунъий нотекислик (лежачий полицейский) ўрнатиш | C24: м | D24: =SUMIF(Дефектовка!$F$15:$F$76,B24,Дефектовка!$I$15:$I$76) -> 12
D26: =SUM(D12:D24) -> 23958.921
D27: =SUM(Дефектовка!I15:I76) -> 23958.921
D28: =+D27-D26 -> 0

Sheet ТРАНСПОРТ
A1: Транспортные расходы на перевозымые грузы
A2: =+Дефектовка!A7 -> НАМАНГАН ВИЛОЯТИ УЙЧИ ТУМАН “ҚАШҚАР” МАҲАЛЛА ФУҚАРОЛАР ЙИҒИНИ ХУДУДИДА ЖОЙЛАШГАН “НАВБАХОР”, "ЎЙИНГОҲ", "А.ҚАХХОР" ВА "МАЗМУНЛИ"КЎЧАЛАРИНИ АСФАЛТ ҚОПЛАМАСИ БИЛАН ҚОПЛАШ.
A4: № П/П | B4: Наменование материалов | C4: Единица измерения | D4: Коли-чество | E4: Удель- ный вес | F4: Общая тонна | G4: Автотранспортная км | H4: тн/км | I4: Стоимость за один тн/км | J4: Всего
E5: тн
A6: 1 | B6: 2 | C6: 3 | D6: 4 | E6: 6 | F6: 7 | G6: 9 | H6: 10 | I6: 11 | J6: 12
A7: 1 | B7: Смесь асфальтобетонная горячая пористая мелкозернистая | C7: т | D7: =SUMIF(РЕСУРС!$D$15:$D$403,B7,РЕСУРС!$F$15:$F$403) -> 0 | E7: 1 | F7: =+E7*D7 -> 0 | G7: =+Дефектовка!G79 -> 0 | H7: =+G7*F7 -> 0 | J7: =+I7*H7 -> 0
A8: 2 | B8: Гравийно-песчаная смесь | C8: м3 | D8: =SUMIF(РЕСУРС!$D$15:$D$403,B8,РЕСУРС!$F$15:$F$403) -> 650.40676 | E8: 1.6 | F8: =+E8*D8 -> 1040.6508 | G8: =+Дефектовка!G80 -> 0 | H8: =+G8*F8 -> 0 | J8: =+I8*H8 -> 0
A9: 3 | B9: Щебень из естественного камня для строительных работ М-1000-1200 фракции 5-20 мм | C9: м3 | D9: =SUMIF(РЕСУРС!$D$15:$D$403,B9,РЕСУРС!$F$15:$F$403) -> 0 | E9: 1.45 | F9: =+E9*D9 -> 0 | G9: =+Дефектовка!#REF! -> #REF! | H9: =+G9*F9 -> #REF! | J9: =+I9*H9 -> #REF!
A10: 4 | B10: Остальные материалы 3%
B11: ИТОГО
I15: =SUMIF(#REF!,G15,#REF!) -> #REF!
